
BEGIN:VCALENDAR
VERSION:2.0
PRODID:-//Family Life Radio - ECPv6.15.20//NONSGML v1.0//EN
CALSCALE:GREGORIAN
METHOD:PUBLISH
X-ORIGINAL-URL:https://myflr.org
X-WR-CALDESC:Events for Family Life Radio
REFRESH-INTERVAL;VALUE=DURATION:PT1H
X-Robots-Tag:noindex
X-PUBLISHED-TTL:PT1H
BEGIN:VTIMEZONE
TZID:America/Phoenix
BEGIN:STANDARD
TZOFFSETFROM:-0700
TZOFFSETTO:-0700
TZNAME:MST
DTSTART:20240101T000000
END:STANDARD
END:VTIMEZONE
BEGIN:VEVENT
DTSTART;TZID=America/Phoenix:20250927T090000
DTEND;TZID=America/Phoenix:20250927T160000
DTSTAMP:20260421T195453
CREATED:20250402T215141Z
LAST-MODIFIED:20250402T215141Z
UID:10040377-1758963600-1758988800@myflr.org
SUMMARY:West Texas Iris Society Annual Sale (Midland)
DESCRIPTION:West Texas Iris Society is having its annual fundraising event. WTIS will sell irises from 9: am until all are sold out. The Sale is at La Casa Verde Nursery\, 2615 Midland Drive\, Midland\, Texas.
URL:https://myflr.org/event/west-texas-iris-society-annual-sale-midland/
CATEGORIES:Texas
END:VEVENT
END:VCALENDAR