
BEGIN:VCALENDAR
VERSION:2.0
PRODID:-//Family Life Radio - ECPv6.15.20//NONSGML v1.0//EN
CALSCALE:GREGORIAN
METHOD:PUBLISH
X-ORIGINAL-URL:https://myflr.org
X-WR-CALDESC:Events for Family Life Radio
REFRESH-INTERVAL;VALUE=DURATION:PT1H
X-Robots-Tag:noindex
X-PUBLISHED-TTL:PT1H
BEGIN:VTIMEZONE
TZID:America/Phoenix
BEGIN:STANDARD
TZOFFSETFROM:-0700
TZOFFSETTO:-0700
TZNAME:MST
DTSTART:20230101T000000
END:STANDARD
END:VTIMEZONE
BEGIN:VEVENT
DTSTART;TZID=America/Phoenix:20241018T163000
DTEND;TZID=America/Phoenix:20241019T170000
DTSTAMP:20260421T160355
CREATED:20240521T203811Z
LAST-MODIFIED:20240521T203811Z
UID:10026499-1729269000-1729357200@myflr.org
SUMMARY:When She Leads – West Conference
DESCRIPTION:The When She Leads Conference 2024 is for every woman who serves and leads in all aspects of life. Our theme this year is “Jesus Through the Eyes of Women” featuring author and theologian Rebecca McLaughlin. \n“And the Word became flesh and dwelt among us\, and we have seen His glory\, glory as of the only Son from the Father\, full of grace and truth.” John 1:14 (ESV) \nOctober 18-19\, 2024\nMurrieta Hot Springs Resort \nEarly Bird Price: $99* ends August 11th | Lodging not included. \nRegister at whensheleads.org
URL:https://myflr.org/event/when-she-leads-west-conference/
LOCATION:Murrieta Hot Springs Resort (Murrieta\, CA)\, 39405 Murrieta Hot Springs Rd\, Murrieta\, CA\, 92563\, United States
CATEGORIES:California
ATTACH;FMTTYPE=image/jpeg:https://eadn-wc05-15902914.nxedge.io/wp-content/uploads/2024/05/WHEN-SHE-LEADS-CONFERENCE-2024-West-Coast_Website-Wide-Cover.jpg
ORGANIZER;CN="When She Leads":MAILTO:whensheleadspodcast@gmail.com
END:VEVENT
END:VCALENDAR