
BEGIN:VCALENDAR
VERSION:2.0
PRODID:-//Family Life Radio - ECPv6.15.20//NONSGML v1.0//EN
CALSCALE:GREGORIAN
METHOD:PUBLISH
X-ORIGINAL-URL:https://myflr.org
X-WR-CALDESC:Events for Family Life Radio
REFRESH-INTERVAL;VALUE=DURATION:PT1H
X-Robots-Tag:noindex
X-PUBLISHED-TTL:PT1H
BEGIN:VTIMEZONE
TZID:America/Phoenix
BEGIN:STANDARD
TZOFFSETFROM:-0700
TZOFFSETTO:-0700
TZNAME:MST
DTSTART:20230101T000000
END:STANDARD
END:VTIMEZONE
BEGIN:VEVENT
DTSTART;TZID=America/Phoenix:20241030T173000
DTEND;TZID=America/Phoenix:20241030T200000
DTSTAMP:20260421T130228
CREATED:20240919T203014Z
LAST-MODIFIED:20240919T203014Z
UID:10034123-1730309400-1730318400@myflr.org
SUMMARY:Annual Harvest Fest
DESCRIPTION:It’s time for our Annual Harvest Fest on Wednesday\, October 30th from 5:30-8:00 p.m. NEW this year is a chili cook-off!!! Please let us know if you will be entering your best chili into the contest by signing up on the SignUpGenius link\, https://www.signupgenius.com/go/10C0E4BA8AA2DA0F4C34-harvest
URL:https://myflr.org/event/annual-harvest-fest/
LOCATION:Williamston Free Methodist Church (Williamston\, MI)\, 4400 N Williamston Rd\, Williamston\, MI\, 48895\, United States
CATEGORIES:Michigan
ORGANIZER;CN="williamston free methodist church":MAILTO:Jenovermyer22@gmail.com
END:VEVENT
END:VCALENDAR