
BEGIN:VCALENDAR
VERSION:2.0
PRODID:-//Family Life Radio - ECPv6.15.20//NONSGML v1.0//EN
CALSCALE:GREGORIAN
METHOD:PUBLISH
X-ORIGINAL-URL:https://myflr.org
X-WR-CALDESC:Events for Family Life Radio
REFRESH-INTERVAL;VALUE=DURATION:PT1H
X-Robots-Tag:noindex
X-PUBLISHED-TTL:PT1H
BEGIN:VTIMEZONE
TZID:America/Detroit
BEGIN:DAYLIGHT
TZOFFSETFROM:-0500
TZOFFSETTO:-0400
TZNAME:EDT
DTSTART:20240310T070000
END:DAYLIGHT
BEGIN:STANDARD
TZOFFSETFROM:-0400
TZOFFSETTO:-0500
TZNAME:EST
DTSTART:20241103T060000
END:STANDARD
BEGIN:DAYLIGHT
TZOFFSETFROM:-0500
TZOFFSETTO:-0400
TZNAME:EDT
DTSTART:20250309T070000
END:DAYLIGHT
BEGIN:STANDARD
TZOFFSETFROM:-0400
TZOFFSETTO:-0500
TZNAME:EST
DTSTART:20251102T060000
END:STANDARD
BEGIN:DAYLIGHT
TZOFFSETFROM:-0500
TZOFFSETTO:-0400
TZNAME:EDT
DTSTART:20260308T070000
END:DAYLIGHT
BEGIN:STANDARD
TZOFFSETFROM:-0400
TZOFFSETTO:-0500
TZNAME:EST
DTSTART:20261101T060000
END:STANDARD
END:VTIMEZONE
BEGIN:VTIMEZONE
TZID:America/Phoenix
BEGIN:STANDARD
TZOFFSETFROM:-0700
TZOFFSETTO:-0700
TZNAME:MST
DTSTART:20240101T000000
END:STANDARD
END:VTIMEZONE
BEGIN:VEVENT
DTSTART;TZID=America/Detroit:20250620T080000
DTEND;TZID=America/Detroit:20250620T170000
DTSTAMP:20260420T020635
CREATED:20250522T174041Z
LAST-MODIFIED:20250522T174041Z
UID:10041609-1750406400-1750438800@myflr.org
SUMMARY:Ladies' Night In
DESCRIPTION:Ladies\, you’re invited to a fun-filled Friday night at Word of Life Grand Ledge as we take on the challenge of creating the world’s largest charcuterie board! Enjoy games\, giveaways\, great fellowship\, and plenty of fun. We can’t wait to spend the evening with you!
URL:https://myflr.org/event/ladies-night-in-3/
LOCATION:Word of Life (Grand Ledge\, MI)\, 13130 Benton Rd.\, Grand Ledge\, MI\, 48837\, United States
CATEGORIES:Michigan
ATTACH;FMTTYPE=image/jpeg:https://eadn-wc05-15902914.nxedge.io/wp-content/uploads/2025/05/Ladies-Night-2.jpg
ORGANIZER;CN="Word of Life Grand Ledge":MAILTO:wordoflife612@gmail.com
END:VEVENT
BEGIN:VEVENT
DTSTART;TZID=America/Phoenix:20250614T100000
DTEND;TZID=America/Phoenix:20250614T120000
DTSTAMP:20260420T020635
CREATED:20250521T204201Z
LAST-MODIFIED:20250521T204201Z
UID:10041603-1749895200-1749902400@myflr.org
SUMMARY:Men of Honor - Men's Conference
DESCRIPTION:Join us for our 2nd annual Men’s Conference\, June 14th at 10am\, at the Crowne Plaza in Lansing. There will be a breakfast buffet and a special message from former NFL player and author\, Joe Jackson. \nStandard entry is $25\nStandard selection includes the breakfast buffet and entry into the conference. \nVIP entry is $40\nVIP selection includes the breakfast buffet\, entry into the conference\, and a meet & greet with Joe Jackson at 9am before the conference begins. That includes Q&A session\, photo opportunities\, & a book signing if you purchase his book\, “Championship Sunday”.
URL:https://myflr.org/event/men-of-honor-mens-conference/
LOCATION:Crowne Plaza (Lansing\, MI)\, 925 S Creyts Rd\, Lansing\, MI\, 48917\, United States
CATEGORIES:Michigan
ATTACH;FMTTYPE=image/jpeg:https://eadn-wc05-15902914.nxedge.io/wp-content/uploads/2025/05/Mens-Conference-2025.jpg
ORGANIZER;CN="Word of Life Grand Ledge":MAILTO:wordoflife612@gmail.com
END:VEVENT
BEGIN:VEVENT
DTSTART;TZID=America/Phoenix:20250526T120000
DTEND;TZID=America/Phoenix:20250526T150000
DTSTAMP:20260420T020635
CREATED:20250522T173620Z
LAST-MODIFIED:20250522T173620Z
UID:10043435-1748260800-1748271600@myflr.org
SUMMARY:Memorial Day Picnic
DESCRIPTION:Come out to Delta Mill’s Park May 26th for Word of Life Grand Ledge’s annual Memorial Day picnic from 12-3pm. There will be plenty of food\, and games to play for all ages.
URL:https://myflr.org/event/memorial-day-picnic/
LOCATION:Delta Mill’s Park (Lansing\, MI)\, 7001 Old River Trail\, Lansing\, MI\, 48917\, United States
CATEGORIES:Michigan
ATTACH;FMTTYPE=image/jpeg:https://eadn-wc05-15902914.nxedge.io/wp-content/uploads/2025/05/Memorial-Day-Picnic-2.jpg
ORGANIZER;CN="Word of Life Grand Ledge":MAILTO:wordoflife612@gmail.com
END:VEVENT
BEGIN:VEVENT
DTSTART;TZID=America/Phoenix:20250428T180000
DTEND;TZID=America/Phoenix:20250428T200000
DTSTAMP:20260420T020635
CREATED:20250417T182459Z
LAST-MODIFIED:20250417T182459Z
UID:10040994-1745863200-1745870400@myflr.org
SUMMARY:Paint with a Purpose
DESCRIPTION:Painting with a Purpose started because someone saw the need for a creative outlet as worship unto God. And it’s hard to find a place to do that without alcohol\, so we created a space for that. Every last Monday of the month\, the sanctuary is turned into an art studio. With worship playing – you paint! Everything is provided for you to paint\, even the canvas you take home! $10 to register by emailing wordoflife612@gmail.com.
URL:https://myflr.org/event/paint-with-a-purpose-2/
LOCATION:Word of Life (Grand Ledge\, MI)\, 13130 Benton Rd.\, Grand Ledge\, MI\, 48837\, United States
CATEGORIES:Michigan
ATTACH;FMTTYPE=image/jpeg:https://eadn-wc05-15902914.nxedge.io/wp-content/uploads/2025/04/paint2.jpg
ORGANIZER;CN="Word of Life Grand Ledge":MAILTO:wordoflife612@gmail.com
END:VEVENT
END:VCALENDAR