
BEGIN:VCALENDAR
VERSION:2.0
PRODID:-//Family Life Radio - ECPv6.15.20//NONSGML v1.0//EN
CALSCALE:GREGORIAN
METHOD:PUBLISH
X-WR-CALNAME:Family Life Radio
X-ORIGINAL-URL:https://myflr.org
X-WR-CALDESC:Events for Family Life Radio
REFRESH-INTERVAL;VALUE=DURATION:PT1H
X-Robots-Tag:noindex
X-PUBLISHED-TTL:PT1H
BEGIN:VTIMEZONE
TZID:America/Detroit
BEGIN:DAYLIGHT
TZOFFSETFROM:-0500
TZOFFSETTO:-0400
TZNAME:EDT
DTSTART:20250309T070000
END:DAYLIGHT
BEGIN:STANDARD
TZOFFSETFROM:-0400
TZOFFSETTO:-0500
TZNAME:EST
DTSTART:20251102T060000
END:STANDARD
BEGIN:DAYLIGHT
TZOFFSETFROM:-0500
TZOFFSETTO:-0400
TZNAME:EDT
DTSTART:20260308T070000
END:DAYLIGHT
BEGIN:STANDARD
TZOFFSETFROM:-0400
TZOFFSETTO:-0500
TZNAME:EST
DTSTART:20261101T060000
END:STANDARD
BEGIN:DAYLIGHT
TZOFFSETFROM:-0500
TZOFFSETTO:-0400
TZNAME:EDT
DTSTART:20270314T070000
END:DAYLIGHT
BEGIN:STANDARD
TZOFFSETFROM:-0400
TZOFFSETTO:-0500
TZNAME:EST
DTSTART:20271107T060000
END:STANDARD
END:VTIMEZONE
BEGIN:VEVENT
DTSTART;TZID=America/Detroit:20260502T080000
DTEND;TZID=America/Detroit:20260502T150000
DTSTAMP:20260420T004524
CREATED:20260408T121950Z
LAST-MODIFIED:20260408T121950Z
UID:10060094-1777708800-1777734000@myflr.org
SUMMARY:Women of Virtue & She6.12 Women's Conference
DESCRIPTION:Women of Virtue & She612 presents:\nJoin us for a day out enjoying a light breakfast\, shopping local vendors\, being part of a LIVE podcast recording\, worship\, delicious lunch\, powerful word\, panel of powerhouse women\, & a fashion show! Hear from business owners\, mothers\, wives\, community leaders & other women in Christ on how they strive to translate the meaning of a Proverbs 31 Woman to their daily lives. Vendor Tables available\, limited spots available.
URL:https://myflr.org/event/women-of-virtue-she6-12-womens-conference/
LOCATION:Okemos Event Center (Okemos\, MI)\, 2187 University Park Drive\, Okemos\, MI\, 48864\, United States
CATEGORIES:Michigan
ATTACH;FMTTYPE=image/jpeg:https://eadn-wc05-15902914.nxedge.io/wp-content/uploads/2026/04/Proverbs-31-Women-2.jpg
ORGANIZER;CN="Word of Life Grand Ledge":MAILTO:wordoflife612@gmail.com
END:VEVENT
END:VCALENDAR