
BEGIN:VCALENDAR
VERSION:2.0
PRODID:-//Family Life Radio - ECPv6.15.20//NONSGML v1.0//EN
CALSCALE:GREGORIAN
METHOD:PUBLISH
X-WR-CALNAME:Family Life Radio
X-ORIGINAL-URL:https://myflr.org
X-WR-CALDESC:Events for Family Life Radio
REFRESH-INTERVAL;VALUE=DURATION:PT1H
X-Robots-Tag:noindex
X-PUBLISHED-TTL:PT1H
BEGIN:VTIMEZONE
TZID:America/Phoenix
BEGIN:STANDARD
TZOFFSETFROM:-0700
TZOFFSETTO:-0700
TZNAME:MST
DTSTART:20230101T000000
END:STANDARD
END:VTIMEZONE
BEGIN:VEVENT
DTSTART;TZID=America/Phoenix:20241215T190000
DTEND;TZID=America/Phoenix:20241215T210000
DTSTAMP:20260421T193141
CREATED:20241208T183526Z
LAST-MODIFIED:20241208T183526Z
UID:10037544-1734289200-1734296400@myflr.org
SUMMARY:Aaron Boyd for World Orphans free Christmas/Worship Concert
DESCRIPTION:Free night of worship and Christmas music lead by Aaron Boyd on Sunday December 15th @ 7:00 pm. This event is in sponsor with World Orphans to help the orphans\, widows\, and poor. It will be held at Sunrise Church of Midland. Free admission to a great night of worship for a great cause.
URL:https://myflr.org/event/aaron-boyd-for-world-orphans-free-christmas-worship-concert/
LOCATION:Surnise Church of Midland (Midland\, MI)\, 2138 N Jefferson Road\, Midland\, MI\, 48642\, United States
CATEGORIES:Michigan
ATTACH;FMTTYPE=image/jpeg:https://eadn-wc05-15902914.nxedge.io/wp-content/uploads/2024/12/Teal-Simple-Night-Concert-Festival-Flyer-1-scaled.jpg
END:VEVENT
END:VCALENDAR