
BEGIN:VCALENDAR
VERSION:2.0
PRODID:-//Family Life Radio - ECPv6.15.20//NONSGML v1.0//EN
CALSCALE:GREGORIAN
METHOD:PUBLISH
X-ORIGINAL-URL:https://myflr.org
X-WR-CALDESC:Events for Family Life Radio
REFRESH-INTERVAL;VALUE=DURATION:PT1H
X-Robots-Tag:noindex
X-PUBLISHED-TTL:PT1H
BEGIN:VTIMEZONE
TZID:America/Phoenix
BEGIN:STANDARD
TZOFFSETFROM:-0700
TZOFFSETTO:-0700
TZNAME:MST
DTSTART:20220101T000000
END:STANDARD
END:VTIMEZONE
BEGIN:VEVENT
DTSTART;TZID=America/Phoenix:20240302T170000
DTEND;TZID=America/Phoenix:20240302T203000
DTSTAMP:20260421T141410
CREATED:20240213T214724Z
LAST-MODIFIED:20240213T215252Z
UID:10019614-1709398800-1709411400@myflr.org
SUMMARY:FREE Peoria Outdoor Movie\, Treasure Hunt\, Food Trucks and More! Sat Mar 2nd
DESCRIPTION:FREE to Enter – FREE to Park – Pet friendly – Open to the public – BRING THE WHOLE FAMILY for an ALL AGES ST. PATTY’S DAY PRE-PARTY IN THE PARK @ Peoria 1st Saturdays FREE Monthly Movies in the Park featuring Disney’s ENCANTO!! \nTimes Two Entertainment’s notorious leprechaun will be sprinkling over 800 Gold Coins all over the park\, the more coins you find\, the more chances you’ll have to win some pretty awesome prizes!! St. Patty’s Treasure hunt is for all ages & prizes awarded for ages: (1-5) (6-8) (9-11) (12-15) (15-Adult). \nWho needs the luck of the Irish when you’re having this much fun?!?!?\nFREE Movie\nSt. Patty’s Treasure Hunt\nGiant Yard Games\nSt. Patty’s Spirit Contest\nCharacter Visits\nSpecialty Food Trucks\nKids Lucky Dance Party\nFace Painting\nBalloon Animals\nNight Market\nFamily Friendly Music\nKids Activities\nGlow Fun\nMusic\, Games FUN and More!\n(Food will be available for purchase & small cost for face painting/balloon artist) \nDon’t let the leprechauns find you\, show off your St. Patty’s spirit and wear your green! We’ll be on the hunt for the most creative St Patty’s Day outfits so dress to impress for a chance to win the Best Dressed St. Patty’s Contest! \nGrab a blanket\, chair and your family & friends and enjoy the FREE BIGscreen outdoor movie in the park featuring the highly requested Disney’s ENCANTO!! only @ Centennial Plaza Park in Old Towne Peoria (9875 N 85th Ave\, Peoria AZ 85345) \nSUPPORT LOCAL @ the Night Market! Every purchase makes a huge difference\, Shop Small and Support Local! \nSt. Patty’s Scavenger Hunt & All the Fun starts @ 5~St Patty’s Spirit Contest @ 6 Kids Dance Party @ 6:30~Movie @ 6:45~come early to snag a good seat\, something yummy to eat & have some FUN before the movie starts. \nGot a picky eater? We hear you because so do we! Don’t worry we’ve got you covered\, always a variety of different food for everyone to pick from\, plus KIDS MENUS @ EVERY TRUCK!! Food Truck lineup announced on the FB page: www.facebook.com/TimesTwoEntertainment/events \nSponsored by: Peoria Arts & Culture\nEvent\, great family entertainment & insanely awesome movie theater quality audio & video experience provided by: Times Two Entertainment. \nDisney’s Encanto (PG): The Madrigals are an extraordinary family who live hidden in the mountains of Colombia in an enchanted home called the Encanto. The magic of the Encanto has blessed every child in the family with a unique gift\, every child except for Mirabel. However\, she may be the Madrigal’s last hope when she discovers that the magic of Encanto & each of the family’s magical gifts are all in danger. \n(For sponsorship & vendor info please visit the website: www.iplayMovies4you.com)
URL:https://myflr.org/event/free-peoria-outdoor-movie-treasure-hunt-food-trucks-and-more-sat-mar-3rd/
LOCATION:Centennial Plaza Park in Old Towne Peoria\, 9875 N 85th Ave\, Peoria\, Arizona\, 85345
CATEGORIES:Arizona,Featured
ATTACH;FMTTYPE=image/jpeg:https://eadn-wc05-15902914.nxedge.io/wp-content/uploads/2024/02/Times-Two-Peoria-030224-Movie-1.jpg
END:VEVENT
BEGIN:VEVENT
DTSTART;TZID=America/Phoenix:20240203T160000
DTEND;TZID=America/Phoenix:20240203T193000
DTSTAMP:20260421T141410
CREATED:20240110T185113Z
LAST-MODIFIED:20240110T185113Z
UID:10019492-1706976000-1706988600@myflr.org
SUMMARY:FREE Peoria Outdoor Movie\, Valentine’s PreParty\, Food Trucks and More! Sat Feb 3rd
DESCRIPTION:FREE to Enter – FREE to Park – Pet friendly – Open to the public – BRING THE WHOLE FAMILY to Peoria 1st Saturdays FREE Monthly Movies in the Park featuring Warner Bros Heartwarming Release: MUMMIES!!! \nSoooooooo much fun\, why go anywhere else?\nPJ Party\nValentine’s Cookie Decorating\nKids Dance Party\nPrincess Visits\nStuffie Party\nPrincess Storytime\nGirl Scout Cookies\nBalloon Twister\nFace Painting\nFamily Friendly Music\nKids Activities\nGlow Fun\nNight Market\nSpecialty Food Trucks\nContests\nGames\nMusic\, FUN & More FUN!\n(Food will be available for purchase & small cost for balloon animals/face paint) \nFeb is still on the chilly side so don’t be shy…snuggle up in warm & cozy PJs with your favorite stuffie\, drink some tasty hot chocolate\, join in on Princess storytime and watch a heartwarming movie under the stars! \nGrab a blanket\, chair\, your family & friends for a Sweet All Ages Valentine Pre-Party & family movie night featuring Warner Bros’ Heartwarming Release: MUMMIES!!! only @ Centennial Plaza Park in Old Towne Peoria (9875 N 85th Ave\, Peoria AZ 85345) \nSUPPORT LOCAL @ the Night Market! Small businesses need you now more than ever! Shop Small and Support Local! ++ GIRL SCOUT COOKIES!!! \nGot a picky eater? We hear you because so do we! Don’t worry we’ve got you covered\, always a variety of different food for everyone to pick from\, plus KIDS MENUS @ EVERY TRUCK! Food Truck lineup announced on FB @ www.facebook.com/Times2Entertainment/events \nSponsored by: Peoria Arts & Culture\nEvent\, great family entertainment & insanely awesome movie theater quality audio & video experience provided by: Times Two Entertainment. \nWarner Bros: MUMMIES (PG): The fun adventures of 3 ancient Egyptian mummies who live in an underground secret city\, hidden in ancient Egypt…the very independent Princess Nefer\, a self declared bachelor & former charioteer Thut\, his younger brother & their pet baby crocodile embark on a journey in present-day London in search of an old\, but VERY important Ancient Egyptian ring that was stolen by the ambitiously wicked archaeologist Lord Carnaby. During their wacky & hilarious journey in modern London\, Thut and Nefer will make an unforeseen leap forward…falling in love with each other. \n(For sponsorship & vendor info please visit the website: www.iplayMovies4you.com)
URL:https://myflr.org/event/free-peoria-outdoor-movie-valentines-preparty-food-trucks-and-more-sat-feb-3rd/
LOCATION:Centennial Plaza Park in Old Towne Peoria\, 9875 N 85th Ave\, Peoria\, Arizona\, 85345
CATEGORIES:Arizona,Featured
ATTACH;FMTTYPE=image/jpeg:https://eadn-wc05-15902914.nxedge.io/wp-content/uploads/2024/01/Times-Two-Peoria-Movie-020324.jpg
END:VEVENT
BEGIN:VEVENT
DTSTART;TZID=America/Phoenix:20240106T160000
DTEND;TZID=America/Phoenix:20240106T193000
DTSTAMP:20260421T141410
CREATED:20231207T061439Z
LAST-MODIFIED:20231218T175902Z
UID:10018660-1704556800-1704569400@myflr.org
SUMMARY:FREE Peoria Outdoor Movie\, Food Trucks and More! Sat Jan 6th
DESCRIPTION:FREE to Enter~FREE to Park~Pet Friendly~Open to the Public**BRING THE WHOLE FAMILY to Peoria 1st Saturdays FREE Monthly Movies in the Park featuring Illumination’s hilariously groovy: THE RISE OF GRU!! \nStart the new year right! Soooooo much groovy FUN\, it’s gonna be an outta sight night\, why go anywhere else?\nFREE Movie\nPJ Party\nFree Bounce House\nFree BINGO\n70’s Groovy Costume Contest\nMinions Impersonator Contest\nStuffie Party\nFace Painting\nKids Activities\nBalloon Animals\nKids Groovy Dance Party\nNight Market\nGames\nSpecialty Food Trucks\nFamily Friendly Groovy Music\nFUN\, FUN & More FUN for all ages!\n*(Food will be available for purchase & small cost for face paint/balloon animals) \nWhat better to kick off 2024 than with your favorite stuffed animal?!?!?!? Bring your favorite stuffie\, stay warm with a tasty hot chocolate in your warm PG PJs & snuggle up for the grooviest movie of all time…THE RISE OF GRU! \nDress to impress! Are you missing Halloween costumes already? Peoria 1st Saturdays are pretty outta sight so it doesn’t have to be Halloween to wear a costume.. Show off your grooviest 70’s costume for a far out prize. Better yet\, enter the Minions Impersonator Contest for a chance to win some far out prizes! \nAllllll the groovy FUN starts @ 4~Minions Impersonator Contest @ 4:30~BINGO @ 4:45~Groovy 70’s Costume Contest @ 5:15~Kids outta sight Dance Party @ 5:45~Showtime @ 6~come early to snag a good seat\, something yummy to eat & have some groovy FUN before the movie starts!\nGot a picky eater? We hear you because so do we! Don’t worry we’ve got you covered\, always a variety of different food for everyone to pick from +++ Kids menus @ every food truck! Food truck lineup announced on FB @ www.facebook.com/Times2Entertainment/events\nSUPPORT LOCAL @ Night Market! Small businesses need you now more than ever! Shop Small and Support Local! \nEvent Sponsored by: PEORIA ARTS & CULTURE.\nGreat family entertainment & insanely awesome movie theater quality audio & video experience provided by: TIMES TWO ENTERTAINMENT. \nGrab a blanket\, chair\, your family & friends and enjoy a groovy FREE BIGscreen family movie night featuring Illumination’s hilariously groovy: THE RISE OF GRU!!! only @ Centennial Plaza Park in Old Towne Peoria (9875 N 85th Ave\, Peoria AZ 85345) \nIllumination’s: THE RISE OF GRU (PG): In the 1970’s 11 yr old Gru tries to join a group of supervillains after they oust their leader. When the interview turns disastrous\, Gru & his Minions go on the run with the Vicious 6 hot on their tails. Luckily\, he finds an unlikely source for guidance\, their ousted leader\, and they both soon discover that even bad guys need a little help from their friends \n(For vendor info please visit the website: www.iplayMovies4you.com)
URL:https://myflr.org/event/free-peoria-outdoor-movie-food-trucks-and-more-sat-jan-6th/
LOCATION:Centennial Plaza Park in Old Towne Peoria\, 9875 N 85th Ave\, Peoria\, Arizona\, 85345
CATEGORIES:Arizona,Featured
ATTACH;FMTTYPE=image/jpeg:https://eadn-wc05-15902914.nxedge.io/wp-content/uploads/2023/12/Times-Two-Peoria-Move-010624.jpg
END:VEVENT
BEGIN:VEVENT
DTSTART;TZID=America/Phoenix:20231104T163000
DTEND;TZID=America/Phoenix:20231104T200000
DTSTAMP:20260421T141410
CREATED:20231016T062014Z
LAST-MODIFIED:20231017T174431Z
UID:10017038-1699115400-1699128000@myflr.org
SUMMARY:FREE Peoria Outdoor Movie\, Food Trucks & More! Sat Nov 4th
DESCRIPTION:FREE to Enter~FREE to Park~Pet Friendly~Open to the Public**BRING THE WHOLE FAMILY to Peoria 1st Saturdays FREE Monthly Movies in the Park featuring Disney’s Brand New Heartwarming Release: ELEMENTAL!!! \nSoooooo much FUN\, why go anywhere else?\nFREE Movie\nFREE Bounce House\nGiant Yard Games\nFace Painting\nKids Activities\nCharacter Photo Ops\nKids Crafts\nBalloon Animals\nKids Dance Party\nNight Market\nGlow Fun\nSpecialty Food Trucks\nFamily Friendly Music\nFUN\, FUN & More FUN for all ages!\n*(Food will be available for purchase & small cost for face paint/balloon animals) \nGrab a blanket\, chair\, your family & friends and enjoy the FREE BIGscreen family movie night featuring Disney’s Brand New Heartwarming Release: ELEMENTAL!!! only @ Centennial Plaza Park in Old Towne Peoria (9875 N 85th Ave\, Peoria AZ 85345) \nFun starts @ 4:30~Kids Dance Party @ 5:15~Movie Showtime @ 5:45~come early to snag a good seat\, something yummy to eat & have some FUN before the movie starts \nGot a picky eater? We hear you because so do we! Don’t worry we’ve got you covered\, always a variety of different food for everyone to pick from\, plus KIDS menus @ EVERY TRUCK! Food Truck lineup announced on FB @ www.facebook.com/Times2Entertainment/events \nEvent Sponsored by: PEORIA ARTS & CULTURE.\nGreat family entertainment & insanely awesome movie theater quality audio & video experience provided by: TIMES TWO ENTERTAINMENT. \nDisney Elemental (PG): A heartwarming story that’ll make you feel all toasty inside as the characters try to turn their differences into water under the bridge. In Element City fire\, water\, land & air residents all live together. Ember\, a tough\, quick-witted & fiery young woman from Firetown & Wade\, a fun\, sappy\, go-with-the-flow water-guy challenges her beliefs about the world they all live in. \n(For vendor info please visit the website: www.iplayMovies4you.com)
URL:https://myflr.org/event/free-peoria-outdoor-movie-food-trucks-more-sat-nov-4th/
LOCATION:Centennial Plaza Park in Old Towne Peoria\, 9875 N 85th Ave\, Peoria\, Arizona\, 85345
CATEGORIES:Arizona
ATTACH;FMTTYPE=image/jpeg:https://eadn-wc05-15902914.nxedge.io/wp-content/uploads/2023/10/Times-Two-Peoria-Movie-110423.jpg
END:VEVENT
BEGIN:VEVENT
DTSTART;TZID=America/Phoenix:20231007T160000
DTEND;TZID=America/Phoenix:20231007T210000
DTSTAMP:20260421T141410
CREATED:20230929T174108Z
LAST-MODIFIED:20230929T174148Z
UID:10015423-1696694400-1696712400@myflr.org
SUMMARY:8th Annual FREE Peoria Spooktacular Outdoor Movie\, Halloween Party & More! Sat Oct 7th
DESCRIPTION:​​FREE to Enter~FREE to Park~Pet FriendlyOpen to the Public​~BRING THE WHOLE FAMILY to the 8th Annual Peoria SPOOKTACULAR OUTDOOR MOVIE & HALLOWEEN PARTY IN THE PARK & MORE Sat 10/7 \nDress to impress!!! Adults and Kids costume contest sign ups at the info booth\, categories include:\nFunny/Cute\nSuperhero/VideoGames\nScary\nAdult/Family/Group\n(Family friendly costumes only please) \nTRICK OR TREATING for all ghouls & goblins (while supplies last). \nSoooooo much Spooktacular FUN\, why go anywhere else?\nFREE Movie\nHalloween Kids Dance Party\nCostume Contest\nTrick-or-Treating\nSpooktacular Photo Ops Stations\nFace Painting\nKids Activities\nGame Booths\nPrizes\nNight Market\nGlow Fun\nSpecialty Food Trucks*\nSpooktacular Family Friendly Music\nFUN\, FUN & More FUN for all ages!\n*(Food will be available for purchase & small cost for face painting)\n​\nGrab a blanket\, chair\, your family & friends and enjoy the FREE BIGscreen Halloween themed family movie night only @ Centennial Plaza Park in Old Towne Peoria (9875 N 85th Ave\, Peoria AZ 85345) \nFun starts @ 4~Costume Contest @ 5:15~Halloween Kids Dance Party @ 6:30~Movie Showtime @ 6:45~come early to snag a good seat\, something ghoulish to eat & have some Spooktacular FUN before the movie starts! \nGot a ghoulishly picky eater? We hear you because so do we! Don’t worry we’ve got you covered\, always a variety of different food for everyone to pick from\, plus Goblins (Kids) menus @ EVERY TRUCK! ​Food Truck lineup announced on FB @ w​ww.facebook.com/Times2Entertainment/events \nSponsored by: Peoria Arts & Culture Dept.\nEvent\, great family entertainment & insanely awesome movie theater quality audio & video experience provided by: Times Two Entertainment. \n(For vendor info please visit the website: www.iplayMovies4you.com)
URL:https://myflr.org/event/8th-annual-free-peoria-spooktacular-outdoor-movie-halloween-party-more-sat-oct-7th/
LOCATION:Centennial Plaza Park in Old Towne Peoria\, 9875 N 85th Ave\, Peoria\, Arizona\, 85345
CATEGORIES:Arizona,Featured
ATTACH;FMTTYPE=image/jpeg:https://eadn-wc05-15902914.nxedge.io/wp-content/uploads/2023/09/General-Spooktacular-Movie-Flyer-portrait.jpg
END:VEVENT
BEGIN:VEVENT
DTSTART;TZID=America/Phoenix:20230701T180000
DTEND;TZID=America/Phoenix:20230701T220000
DTSTAMP:20260421T141410
CREATED:20230630T221240Z
LAST-MODIFIED:20230630T221507Z
UID:10011714-1688234400-1688248800@myflr.org
SUMMARY:Movie Night in the Park/ Family Fun night
DESCRIPTION:Times Two Entertainment presents a Movie Night in the Park with Food Trucks\, Vendors\, and a whole lot of fun for the whole family! Bring your blanket or chairs\, snacks from home\, or buy your meal onsite from the amazing food trucks. This is a super fun event that is sure to entertain and create lasting memories for you and your kiddos! This event begins at 6pm at Centennial Plaza Park in Old Town Peoria and SHOWTIME is at 8pm! \n\n\nFREE to Enter – FREE to Park – Pet friendly – Open to the public**BRING THE WHOLE FAMILY for a FREE ALL AGES PATRIOTIC CELEBRATION IN THE PARK @ Peoria 1st Saturdays FREE Monthly Movies in the Park featuringParamount Picture’s RUMBLE!!! \nFREE Water Play Zone Alert!! Beat the heat & stay cool all evening in the FREE water play zone! We’re bringin’ the splash pad to the park\, so wear a bathing suit or cool summer clothes for a splish splash good time! \nDress to impress! Show your Patriotic colors to help us celebrate our country’s Independence Day. It wouldn’t be a 4th of July Celebration without the good ‘ole RedWhite& Blue. \nLets get ready to ruuuuuuummmmble!! Come for the fun & the food\, stay for the movie & fireworks! But not just any old fireworks show\, our grand finale of the night features a pet friendly 4th of July Bigscreen fireworks display like no other! Yep\, that’s right\, you can finally bring your pupto a 4th of July party with you!! \nFREE Movie\nWater Play Zone\nBigScreen Fireworks Spectacular\nColoring Station\nKids DanceParty\nPokémon Trading Station (bring your Pokémon cards & make all the trades yourdesires)\nFace Painting\nNight Market\nFamily Friendly Music\nSpecialty Food Trucks\nKids Activities\nGlow Fun\nGames\, FUN & More! (Food will be available for purchase & small cost for face painting) \nGrab a blanket\, chair and your family & friends and enjoy the FREE BIGscreen outdoor movie in the park featuringParamount Picture’s RUMBLE!! only @ Centennial Plaza Park in Old Towne Peoria (9875 N 85th Ave\, Peoria AZ 85345) \nSUPPORT LOCAL @ the Night Market! Every purchase makes a huge differenceShop Small and Support Local! \nWater Zone & allllllll the fun starts @ 6pm~Kids Patriotic Dance Party @ 7:45~Movie @ 8pm~Bigscreen Fireworks Spectacular @ 9:45pm~come early to snag a good seat\, something yummy & have some FUN before the movie starts. \nGot a picky eater? We hear you because so do we! Don’t worry we’ve got you covered\, always a variety of different food for everyone to pick from\, plus KIDS MENUS @ EVERY TRUCK!\nElias The Foodie LLC. (Aqua Frescas)\nArizona Arctic Sno (Shaved Ice)\nEast coaster (American Food)\nWebpoppin (Popcorn/Kettlecorn)\nBelly’s Mexican Food\nDGP Gourmet Fry bread (Funnel Cake & Indian Frybread)\nRebellious Brew (Cold Brew & Beverages)\n+++More to be announced\, stay tuned. \nEvent\, great family entertainment & insanely awesome movie theater quality audio & video experience provided by: Times 2 Entertainment. \nParamount’s RUMBLE (PG): In a world where monsters are tame & monster wrestling is a sport\, superstar wrestling champ Tentacular leaves his hometown (Stoker) for greater fame. Without the town’s star attraction to draw spectators\, the mayor announces plans to demolish the monster wrestling stadium. Teenage Winnie seeks to follow in her father’s footsteps by coaching a loveable underdog monster into a champion to save the town of Stoker! \n(For sponsorship & vendor info please visit the website: www.iplayMovies4you.com)
URL:https://myflr.org/event/movie-night-in-the-park-family-fun-night/
LOCATION:Centennial Plaza Park in Old Towne Peoria\, 9875 N 85th Ave\, Peoria\, Arizona\, 85345
CATEGORIES:Arizona,Featured
ATTACH;FMTTYPE=image/jpeg:https://eadn-wc05-15902914.nxedge.io/wp-content/uploads/2023/06/Movie-in-the-park-july.jpg
END:VEVENT
END:VCALENDAR