
BEGIN:VCALENDAR
VERSION:2.0
PRODID:-//Family Life Radio - ECPv6.15.20//NONSGML v1.0//EN
CALSCALE:GREGORIAN
METHOD:PUBLISH
X-ORIGINAL-URL:https://myflr.org
X-WR-CALDESC:Events for Family Life Radio
REFRESH-INTERVAL;VALUE=DURATION:PT1H
X-Robots-Tag:noindex
X-PUBLISHED-TTL:PT1H
BEGIN:VTIMEZONE
TZID:America/Detroit
BEGIN:DAYLIGHT
TZOFFSETFROM:-0500
TZOFFSETTO:-0400
TZNAME:EDT
DTSTART:20250309T070000
END:DAYLIGHT
BEGIN:STANDARD
TZOFFSETFROM:-0400
TZOFFSETTO:-0500
TZNAME:EST
DTSTART:20251102T060000
END:STANDARD
BEGIN:DAYLIGHT
TZOFFSETFROM:-0500
TZOFFSETTO:-0400
TZNAME:EDT
DTSTART:20260308T070000
END:DAYLIGHT
BEGIN:STANDARD
TZOFFSETFROM:-0400
TZOFFSETTO:-0500
TZNAME:EST
DTSTART:20261101T060000
END:STANDARD
BEGIN:DAYLIGHT
TZOFFSETFROM:-0500
TZOFFSETTO:-0400
TZNAME:EDT
DTSTART:20270314T070000
END:DAYLIGHT
BEGIN:STANDARD
TZOFFSETFROM:-0400
TZOFFSETTO:-0500
TZNAME:EST
DTSTART:20271107T060000
END:STANDARD
END:VTIMEZONE
BEGIN:VEVENT
DTSTART;TZID=America/Detroit:20260622T050000
DTEND;TZID=America/Detroit:20260622T130000
DTSTAMP:20260421T072602
CREATED:20260420T172212Z
LAST-MODIFIED:20260420T172212Z
UID:10060347-1782104400-1782133200@myflr.org
SUMMARY:West Highland Summer Learning & Enrichment Camp - Milford
DESCRIPTION:WEST HIGHLAND SUMMER LEARNING & ENRICHMENT CAMP \nWe are excited to announce a NEW Faith-Based Summer Learning & Enrichment Camp coming this June for families in Oakland\, Macomb\, and Wayne counties. This FREE learning initiative will help bridge educational gaps for 1st-10th grade students in Oakland\, Macomb\, and Wayne counties by bringing a high-quality summer learning opportunity to our community. \nOur learning program is a four-week\, all-day\, Monday through Friday\, academic and enrichment program. Beyond traditional instruction\, students encounter exciting enrichment activities to ensure the summer is fun and that students are excited to attend. \nDon’t miss out on this incredible opportunity for your child’s summer learning and growth. Sign up today! \nDETAILS: \nMonday – Friday\nJune 22nd – July 17th \nDaily\n8 AM to 4 PM \nMorning & afternoon snacks and lunch are provided.\nFor students entering 1st through 10th graders in fall of 2026\n100% FREE for students who reside in or attend school in Oakland\, Macomb or Wayne Counties! \nSpace is limited! Sign up now at whca-k12.org.
URL:https://myflr.org/event/west-highland-summer-learning-enrichment-camp-milford/2026-06-22/
LOCATION:1116 S. Hickory Ridge Rd.\, Milford\, MI 48380\, 1116 S. Hickory Ridge Rd.\, Milford\, MI\, 48380\, United States
CATEGORIES:Michigan
ATTACH;FMTTYPE=image/png:https://eadn-wc05-15902914.nxedge.io/wp-content/uploads/2026/04/Summer-Program-FLR.png
ORGANIZER;CN="West Highland Christian Academy":MAILTO:office@whca-k12.org
END:VEVENT
END:VCALENDAR