
BEGIN:VCALENDAR
VERSION:2.0
PRODID:-//Family Life Radio - ECPv6.15.20//NONSGML v1.0//EN
CALSCALE:GREGORIAN
METHOD:PUBLISH
X-ORIGINAL-URL:https://myflr.org
X-WR-CALDESC:Events for Family Life Radio
REFRESH-INTERVAL;VALUE=DURATION:PT1H
X-Robots-Tag:noindex
X-PUBLISHED-TTL:PT1H
BEGIN:VTIMEZONE
TZID:America/Phoenix
BEGIN:STANDARD
TZOFFSETFROM:-0700
TZOFFSETTO:-0700
TZNAME:MST
DTSTART:20230101T000000
END:STANDARD
END:VTIMEZONE
BEGIN:VEVENT
DTSTART;TZID=America/Phoenix:20240404T170000
DTEND;TZID=America/Phoenix:20240406T120000
DTSTAMP:20260421T141425
CREATED:20240220T210414Z
LAST-MODIFIED:20240220T210513Z
UID:10020028-1712250000-1712404800@myflr.org
SUMMARY:One Women’s Conference- Lamar\, Colorado
DESCRIPTION:Come join us for 3 days of encouragement! \nONE Women’s Conference- APRIL 4-6\, 2024\nLamar High School in Lamar Colorado!!\nWe will begin Thursday at 7\, Friday all day\, and Saturday we will wrap up at noon! Most meals are provided! \nCheck out event details at https://brushfire.com/onewomensconference
URL:https://myflr.org/event/one-womens-conference-colorado/
LOCATION:1900 Thunder Drive\, Lamar\, CO 81052\, 1900 Thunder Drive\, Lamar\, CO\, 8152\, United States
CATEGORIES:New Mexico
ATTACH;FMTTYPE=image/png:https://eadn-wc05-15902914.nxedge.io/wp-content/uploads/2024/02/IMG_0026.png
END:VEVENT
END:VCALENDAR