
BEGIN:VCALENDAR
VERSION:2.0
PRODID:-//Family Life Radio - ECPv6.15.20//NONSGML v1.0//EN
CALSCALE:GREGORIAN
METHOD:PUBLISH
X-ORIGINAL-URL:https://myflr.org
X-WR-CALDESC:Events for Family Life Radio
REFRESH-INTERVAL;VALUE=DURATION:PT1H
X-Robots-Tag:noindex
X-PUBLISHED-TTL:PT1H
BEGIN:VTIMEZONE
TZID:America/Phoenix
BEGIN:STANDARD
TZOFFSETFROM:-0700
TZOFFSETTO:-0700
TZNAME:MST
DTSTART:20250101T000000
END:STANDARD
END:VTIMEZONE
BEGIN:VEVENT
DTSTART;TZID=America/Phoenix:20260424T190000
DTEND;TZID=America/Phoenix:20260424T203000
DTSTAMP:20260419T171045
CREATED:20251119T222540Z
LAST-MODIFIED:20251119T222540Z
UID:10057340-1777057200-1777062600@myflr.org
SUMMARY:Addictions Ministry (Moriarity)
DESCRIPTION:Our program is dedicated to those who are looking to learn the principal of recovery from God’s Word that will lead to restoration and wholeness. God’s word gives us an outline for changing our negative attitudes and behaviors. Come take a look at how to have victory over any addiction\, recover from the patterns we have fallen into\, find forgiveness for ourselves and others\, and how to receive and live out LOVE through Christ.
URL:https://myflr.org/event/addictions-ministry-moriarity/2026-04-24/
LOCATION:2 Saline Pump Rd Moriarty NM 87035\, 2 Saline Pump Rd\, MORIARTY\, NM\, 87035\, United States
CATEGORIES:New Mexico
END:VEVENT
END:VCALENDAR