
BEGIN:VCALENDAR
VERSION:2.0
PRODID:-//Family Life Radio - ECPv6.15.20//NONSGML v1.0//EN
CALSCALE:GREGORIAN
METHOD:PUBLISH
X-WR-CALNAME:Family Life Radio
X-ORIGINAL-URL:https://myflr.org
X-WR-CALDESC:Events for Family Life Radio
REFRESH-INTERVAL;VALUE=DURATION:PT1H
X-Robots-Tag:noindex
X-PUBLISHED-TTL:PT1H
BEGIN:VTIMEZONE
TZID:America/Phoenix
BEGIN:STANDARD
TZOFFSETFROM:-0700
TZOFFSETTO:-0700
TZNAME:MST
DTSTART:20230101T000000
END:STANDARD
END:VTIMEZONE
BEGIN:VEVENT
DTSTART;TZID=America/Phoenix:20240922T173000
DTEND;TZID=America/Phoenix:20240922T200000
DTSTAMP:20260421T203912
CREATED:20240819T125537Z
LAST-MODIFIED:20240819T125537Z
UID:10033204-1727026200-1727035200@myflr.org
SUMMARY:Man Church with Rick Burgess
DESCRIPTION:Men of all ages\, join us for this special evening at Shiloh with our special guest speaker. He is the Director of the Man Church and co hosts The Rick and Bubba Show – Rick Burgess. \nPlease invite every man that you know\, regardless of church membership. This event is for ALL MEN! We will have a FREE BBQ feast beginning at 5:30 PM in the Family Life Center on September 22. From there\, we will head to the sanctuary to hear the message that Rick wants to share with us. \nThere is no admission fee for this event but we do ask that you please use the sign up form link below so we can get a rough number to plan for food and volunteers.\nhttps://shilohbaptist.elvanto.net/form/a926fc3f-a73d-4406-be19-70b537e6b356 \nWe hope to see you soon!
URL:https://myflr.org/event/man-church-with-rick-burgess/
LOCATION:24 Kay Street\, Rossville\, GA 30707\, 24 Kay Street\, Rossville\, GA\, 30741\, United States
CATEGORIES:Georgia,Tennesee
ATTACH;FMTTYPE=image/jpeg:https://eadn-wc05-15902914.nxedge.io/wp-content/uploads/2024/08/RickBurgess.jpg
ORGANIZER;CN="Shiloh Baptist Church":MAILTO:secretary@shilohbaptistministry.com
END:VEVENT
END:VCALENDAR