
BEGIN:VCALENDAR
VERSION:2.0
PRODID:-//Family Life Radio - ECPv6.15.20//NONSGML v1.0//EN
CALSCALE:GREGORIAN
METHOD:PUBLISH
X-ORIGINAL-URL:https://myflr.org
X-WR-CALDESC:Events for Family Life Radio
REFRESH-INTERVAL;VALUE=DURATION:PT1H
X-Robots-Tag:noindex
X-PUBLISHED-TTL:PT1H
BEGIN:VTIMEZONE
TZID:America/Phoenix
BEGIN:STANDARD
TZOFFSETFROM:-0700
TZOFFSETTO:-0700
TZNAME:MST
DTSTART:20220101T000000
END:STANDARD
END:VTIMEZONE
BEGIN:VEVENT
DTSTART;TZID=America/Phoenix:20240331T120000
DTEND;TZID=America/Phoenix:20240331T130000
DTSTAMP:20260420T150152
CREATED:20240307T145610Z
LAST-MODIFIED:20240307T145610Z
UID:10020854-1711886400-1711890000@myflr.org
SUMMARY:Easter Services – 2|42 Community Church Ann Arbor
DESCRIPTION:No matter who you are\, where you’re from\, or what you’ve done\, Easter is for everyone. Whether you’ve never stepped foot in a church or you’re there every time\, the doors are open for you. We believe that there’s no such thing as too far gone\, because Jesus’ welcome is far greater than anything you have ever imagined. Join us at 2|42 Community Church – Ann Arbor this Easter weekend as we celebrate the day everything changed!
URL:https://myflr.org/event/easter-services-242-community-church-ann-arbor-2/2024-03-31/3/
LOCATION:2|42 Community Church – Ann Arbor\, 648 S Wagner Rd\, Ann Arbor\, MI\, 48103\, United States
CATEGORIES:Michigan
ATTACH;FMTTYPE=image/jpeg:https://eadn-wc05-15902914.nxedge.io/wp-content/uploads/2024/03/Easter-EMAIL-1.jpg
END:VEVENT
BEGIN:VEVENT
DTSTART;TZID=America/Phoenix:20240330T160000
DTEND;TZID=America/Phoenix:20240330T170000
DTSTAMP:20260420T150152
CREATED:20240305T201925Z
LAST-MODIFIED:20240305T201925Z
UID:10020850-1711814400-1711818000@myflr.org
SUMMARY:Easter Services – 2|42 Community Church Ann Arbor
DESCRIPTION:No matter who you are\, where you’re from\, or what you’ve done\, Easter is for everyone. Whether you’ve never stepped foot in a church or you’re there every time\, the doors are open for you. We believe that there’s no such thing as too far gone\, because Jesus’ welcome is far greater than anything you have ever imagined. Join us at 2|42 Community Church – Ann Arbor this Easter weekend as we celebrate the day everything changed!  Five service times…  March 30th at 4:00 pm and 5:30 pm\, and March 31st at 9:00 am\, 10:30 am and 12:00 pm.
URL:https://myflr.org/event/easter-services-242-community-church-ann-arbor/
LOCATION:2|42 Community Church – Ann Arbor\, 648 S Wagner Rd\, Ann Arbor\, MI\, 48103\, United States
CATEGORIES:Michigan
ATTACH;FMTTYPE=image/jpeg:https://eadn-wc05-15902914.nxedge.io/wp-content/uploads/2024/03/Easter-EMAIL-1.jpg
END:VEVENT
BEGIN:VEVENT
DTSTART;TZID=America/Phoenix:20231219T183000
DTEND;TZID=America/Phoenix:20231219T203000
DTSTAMP:20260420T150152
CREATED:20231025T140502Z
LAST-MODIFIED:20231025T140502Z
UID:10017081-1703010600-1703017800@myflr.org
SUMMARY:Blue Christmas – 2|42 Ann Arbor
DESCRIPTION:After a loss\, the joyfulness of the holidays can feel like a disconnect from your personal experience. Whether it’s the death of a loved one\, divorce\, or distance between you and your family\, God cares about your grief. Join 2|42 Community Church – Ann Arbor for a special Christmas service that holds space for your sorrow and leaves room for the light. \nChildcare available at all campuses.
URL:https://myflr.org/event/blue-christmas-242-ann-arbor/
LOCATION:2|42 Community Church – Ann Arbor\, 648 S Wagner Rd\, Ann Arbor\, MI\, 48103\, United States
CATEGORIES:Michigan
ATTACH;FMTTYPE=image/jpeg:https://eadn-wc05-15902914.nxedge.io/wp-content/uploads/2023/10/Blue-Christmas-23-Ann-Arbor.jpg
END:VEVENT
END:VCALENDAR