
BEGIN:VCALENDAR
VERSION:2.0
PRODID:-//Family Life Radio - ECPv6.15.20//NONSGML v1.0//EN
CALSCALE:GREGORIAN
METHOD:PUBLISH
X-ORIGINAL-URL:https://myflr.org
X-WR-CALDESC:Events for Family Life Radio
REFRESH-INTERVAL;VALUE=DURATION:PT1H
X-Robots-Tag:noindex
X-PUBLISHED-TTL:PT1H
BEGIN:VTIMEZONE
TZID:America/Phoenix
BEGIN:STANDARD
TZOFFSETFROM:-0700
TZOFFSETTO:-0700
TZNAME:MST
DTSTART:20220101T000000
END:STANDARD
END:VTIMEZONE
BEGIN:VEVENT
DTSTART;TZID=America/Phoenix:20240331T093000
DTEND;TZID=America/Phoenix:20240331T223000
DTSTAMP:20260420T082724
CREATED:20240305T175340Z
LAST-MODIFIED:20240305T175340Z
UID:10020857-1711877400-1711924200@myflr.org
SUMMARY:Easter Services – 2|42 Community Church – Livonia
DESCRIPTION:No matter who you are\, where you’re from\, or what you’ve done\, Easter is for everyone. Whether you’ve never stepped foot in a church or you’re there every time\, the doors are open for you. We believe that there’s no such thing as too far gone\, because Jesus’ welcome is far greater than anything you have ever imagined. Join us at 2|42 Community Church – Livonia this Easter weekend as we celebrate the day everything changed!
URL:https://myflr.org/event/easter-services-242-community-church-livonia/2024-03-31/1/
LOCATION:2|42 Community Church – Livonia\, 35475 5 Mile Rd\, Livonia\, MI\, 48154\, United States
CATEGORIES:Michigan
ATTACH;FMTTYPE=image/jpeg:https://eadn-wc05-15902914.nxedge.io/wp-content/uploads/2024/03/Easter-WEB.jpg
END:VEVENT
BEGIN:VEVENT
DTSTART;TZID=America/Phoenix:20231219T183000
DTEND;TZID=America/Phoenix:20231219T200000
DTSTAMP:20260420T082724
CREATED:20231025T140049Z
LAST-MODIFIED:20231025T140049Z
UID:10017083-1703010600-1703016000@myflr.org
SUMMARY:Blue Christmas – 2|42 Livonia
DESCRIPTION:After a loss\, the joyfulness of the holidays can feel like a disconnect from your personal experience. Whether it’s the death of a loved one\, divorce\, or distance between you and your family\, God cares about your grief. Join 2|42 Community Church – Livonia for a special Christmas service that holds space for your sorrow and leaves room for the light. \nChildcare available at all campuses.
URL:https://myflr.org/event/blue-christmas-242-livonia/
LOCATION:2|42 Community Church – Livonia\, 35475 5 Mile Rd\, Livonia\, MI\, 48154\, United States
CATEGORIES:Michigan
ATTACH;FMTTYPE=image/jpeg:https://eadn-wc05-15902914.nxedge.io/wp-content/uploads/2023/10/Blue-Christmas-23-Livonia.jpg
END:VEVENT
END:VCALENDAR