
BEGIN:VCALENDAR
VERSION:2.0
PRODID:-//Family Life Radio - ECPv6.15.20//NONSGML v1.0//EN
CALSCALE:GREGORIAN
METHOD:PUBLISH
X-ORIGINAL-URL:https://myflr.org
X-WR-CALDESC:Events for Family Life Radio
REFRESH-INTERVAL;VALUE=DURATION:PT1H
X-Robots-Tag:noindex
X-PUBLISHED-TTL:PT1H
BEGIN:VTIMEZONE
TZID:America/Phoenix
BEGIN:STANDARD
TZOFFSETFROM:-0700
TZOFFSETTO:-0700
TZNAME:MST
DTSTART:20230101T000000
END:STANDARD
END:VTIMEZONE
BEGIN:VEVENT
DTSTART;TZID=America/Phoenix:20241222T102000
DTEND;TZID=America/Phoenix:20241222T120000
DTSTAMP:20260421T132624
CREATED:20241217T200614Z
LAST-MODIFIED:20241217T200614Z
UID:10037586-1734862800-1734868800@myflr.org
SUMMARY:Christmas Cantata
DESCRIPTION:Our worship service will feature a new cantata “LOVE IS BORN!” presented by the Trinity Choir and Orchestra. Featuring new\napproaches to many timeless carols along with original music composed just for this cantata\, this 30-minute musical message by Lloyd Larson is sure to bring Hope\, Peace\, Joy and Love to every heart and mind as we celebrate Advent in Trinity’s beautifully decorated Sanctuary. This joyous presentation is the perfect time to invite someone to enjoy it with you. In person and online at trinitytucson.org/watch-live.
URL:https://myflr.org/event/christmas-cantata/
LOCATION:400 E. University Blvd. Tucson\, AZ 85705\, 400 E. UNIVERSITY BLVD\, TUCSON\, AZ\, 85705\, United States
CATEGORIES:Arizona
ATTACH;FMTTYPE=image/jpeg:https://eadn-wc05-15902914.nxedge.io/wp-content/uploads/2024/12/2024-POSTER-Cantata.jpg
ORGANIZER;CN="Trinity Presbyterian Church Tucson AZ":MAILTO:office@trinitytucson.org
END:VEVENT
BEGIN:VEVENT
DTSTART;TZID=America/Phoenix:20241101T190000
DTEND;TZID=America/Phoenix:20241101T200000
DTSTAMP:20260421T132624
CREATED:20241029T175356Z
LAST-MODIFIED:20241029T175356Z
UID:10037354-1730487600-1730491200@myflr.org
SUMMARY:A Candlelight Concert for All Saints Day
DESCRIPTION:A Candlelight Concert for All Saints Day: Music of Remembrance and Hope will be offered in Trinity’s chapel. This free program of meditative and peaceful music will be presented by Lynn Moser (piano and organ)\, Christine Harper (flute)\, Korby Myrick\, Diana Peralta & Catherine Dimenstein (soloists) and a Trinity Ringers handbell quartet. Join us in person or online at trinitytucson.org/watch-live & facebook.com/tpctucson. You can also watch on the BoxCast app\, on Roku TV\, Apple TV & Fire TV.
URL:https://myflr.org/event/a-candlelight-concert-for-all-saints-day/
LOCATION:400 E. University Blvd. Tucson\, AZ 85705\, 400 E. UNIVERSITY BLVD\, TUCSON\, AZ\, 85705\, United States
CATEGORIES:Arizona
ATTACH;FMTTYPE=image/png:https://eadn-wc05-15902914.nxedge.io/wp-content/uploads/2024/10/All-Saints.png
ORGANIZER;CN="Trinity Presbyterian Church Tucson AZ":MAILTO:office@trinitytucson.org
END:VEVENT
BEGIN:VEVENT
DTSTART;TZID=America/Phoenix:20240331T100000
DTEND;TZID=America/Phoenix:20240331T120000
DTSTAMP:20260421T132624
CREATED:20240313T182210Z
LAST-MODIFIED:20240313T182210Z
UID:10020882-1711879200-1711886400@myflr.org
SUMMARY:Easter Sunday Cantata
DESCRIPTION:The many moods of Holy Week followed by the triumph of Easter are captured in this moving work from Lloyd Larson and Mark Hayes\, with compelling narration by Pamela Stewart. This cantata features the Trinity Choir & Orchestra.
URL:https://myflr.org/event/easter-sunday-cantata-2/
LOCATION:400 E. University Blvd. Tucson\, AZ 85705\, 400 E. UNIVERSITY BLVD\, TUCSON\, AZ\, 85705\, United States
CATEGORIES:Arizona
ATTACH;FMTTYPE=image/png:https://eadn-wc05-15902914.nxedge.io/wp-content/uploads/2024/03/2024-Easter-Cantata-poster-1.png
END:VEVENT
BEGIN:VEVENT
DTSTART;TZID=America/Phoenix:20240331T100000
DTEND;TZID=America/Phoenix:20240331T120000
DTSTAMP:20260421T132624
CREATED:20240307T210819Z
LAST-MODIFIED:20240307T210819Z
UID:10020881-1711879200-1711886400@myflr.org
SUMMARY:Easter Sunday Cantata
DESCRIPTION:The many moods of Holy Week followed by the triumph of Easter are captured in this moving work from Lloyd Larson and Mark Hayes\, with compelling narration by Pamela Stewart. This cantata features the Trinity Choir & Orchestra.
URL:https://myflr.org/event/easter-sunday-cantata/
LOCATION:400 E. University Blvd. Tucson\, AZ 85705\, 400 E. UNIVERSITY BLVD\, TUCSON\, AZ\, 85705\, United States
ATTACH;FMTTYPE=image/png:https://eadn-wc05-15902914.nxedge.io/wp-content/uploads/2024/03/2024-Easter-Cantata-poster.png
END:VEVENT
END:VCALENDAR