
BEGIN:VCALENDAR
VERSION:2.0
PRODID:-//Family Life Radio - ECPv6.15.20//NONSGML v1.0//EN
CALSCALE:GREGORIAN
METHOD:PUBLISH
X-ORIGINAL-URL:https://myflr.org
X-WR-CALDESC:Events for Family Life Radio
REFRESH-INTERVAL;VALUE=DURATION:PT1H
X-Robots-Tag:noindex
X-PUBLISHED-TTL:PT1H
BEGIN:VTIMEZONE
TZID:America/Phoenix
BEGIN:STANDARD
TZOFFSETFROM:-0700
TZOFFSETTO:-0700
TZNAME:MST
DTSTART:20220101T000000
END:STANDARD
END:VTIMEZONE
BEGIN:VEVENT
DTSTART;TZID=America/Phoenix:20231203T173000
DTEND;TZID=America/Phoenix:20231203T190000
DTSTAMP:20260421T161125
CREATED:20230726T180958Z
LAST-MODIFIED:20230726T180958Z
UID:10013091-1701624600-1701630000@myflr.org
SUMMARY:Re|engage
DESCRIPTION:Whether your marriage is good and you want it to be great\, or you are at rock-bottom and wonder if there is hope\, re|engage is a safe place to grow in your marriage.\nEach week\, you will hear from couples whose marriages have been transformed\, learn practical ways to grow in oneness with your spouse\, and gain insight from others in a small group setting as you walk through the 14 lessons. \nRe|engage meets Sunday nights at 5:30 p.m. beginning August 20. We have East Side Student Ministries for your teenagers and AWANA children’s ministry for your kids offered at those times if you would like to have your kids join us. \nOnline preregistration is available. https://esbcks.org/re-engage/ \nIf you have any questions\, please contact the church office at 785-379-9933.
URL:https://myflr.org/event/reengage/2023-12-03/
LOCATION:4425 se 29th st. Topeka\, KS\, 4425 SE 29th St\, Topeka\, KS\, 66605\, United States
CATEGORIES:Kansas
ATTACH;FMTTYPE=image/jpeg:https://eadn-wc05-15902914.nxedge.io/wp-content/uploads/2023/07/reengage.jpg
END:VEVENT
END:VCALENDAR