
BEGIN:VCALENDAR
VERSION:2.0
PRODID:-//Family Life Radio - ECPv6.15.20//NONSGML v1.0//EN
CALSCALE:GREGORIAN
METHOD:PUBLISH
X-ORIGINAL-URL:https://myflr.org
X-WR-CALDESC:Events for Family Life Radio
REFRESH-INTERVAL;VALUE=DURATION:PT1H
X-Robots-Tag:noindex
X-PUBLISHED-TTL:PT1H
BEGIN:VTIMEZONE
TZID:America/Phoenix
BEGIN:STANDARD
TZOFFSETFROM:-0700
TZOFFSETTO:-0700
TZNAME:MST
DTSTART:20240101T000000
END:STANDARD
END:VTIMEZONE
BEGIN:VEVENT
DTSTART;VALUE=DATE:20251018
DTEND;VALUE=DATE:20251020
DTSTAMP:20260421T172250
CREATED:20250916T171333Z
LAST-MODIFIED:20250916T171333Z
UID:10052259-1760745600-1760918399@myflr.org
SUMMARY:FALL WOMEN'S MINISTRY
DESCRIPTION:Creston Community Church invites you to their 4th annual FALL WOMEN’S MINISTY Event ‘SURRENDER — FULLY TO THE LORD!’ \nFriday night\, October 17th and all day Saturday October 18th.\nFriday evening from 6 to 8:30 pm\nSaturday from 9am to 3:30 pm \nOur guest speaker is “Laurie Lamb” from Grapevine Texas. Wife of Brent Lamb.\nWorship will be with “Woodland Drive” a central coast worship band. \nYour registration fee will include dinner & dessert on Friday night\, Breakfast and lunch on Saturday. \nFull conference is $125.00\nFriday only $50.00\nSaturday Only $75.00 \nYou can register on the Creston Church website — https://crestonchurch.com/\, or call Becki @ 805-550-1310
URL:https://myflr.org/event/fall-womens-ministry-2/
LOCATION:5170 O’Donovan Rd Creston CA\, 5170 O'Donovan Rd\, Creston\, CA\, 93432\, United States
CATEGORIES:California
ATTACH;FMTTYPE=image/jpeg:https://eadn-wc05-15902914.nxedge.io/wp-content/uploads/2025/09/download.jpg
END:VEVENT
BEGIN:VEVENT
DTSTART;TZID=America/Phoenix:20251017T180000
DTEND;TZID=America/Phoenix:20251017T203000
DTSTAMP:20260421T172250
CREATED:20250915T171315Z
LAST-MODIFIED:20250915T171315Z
UID:10052258-1760724000-1760733000@myflr.org
SUMMARY:FALL WOMEN'S MINISTRY
DESCRIPTION:Creston Community Church is hosting their 4th annual FALL WOMEN’S MINISTY Event. Titled SURRENDER — FULLY TO THE LORD\nThis event is Friday night\, October 17th and all day Saturday October 18th.\nFriday evening from 6 to 8:30 pm\nSaturday from 9am to 3:30 pm\nOur guest speaker is “Laurie Lamb” from Grapevine Texas. Wife of Brent Lamb.\nWorship will be with “Woodland Drive” a central coast worship band.\nYour registration fee will include dinner & dessert on Friday night\, Breakfast and lunch on Saturday.\nYou can register on the Creston Church website — https://crestonchurch.com/\, or call Becki @ 805-550-1310\nFull conference is $125.00\nFriday only $50.00\nSaturday Only $75.00
URL:https://myflr.org/event/fall-womens-ministry/
LOCATION:5170 O’Donovan Rd Creston CA\, 5170 O'Donovan Rd\, Creston\, CA\, 93432\, United States
CATEGORIES:California
END:VEVENT
END:VCALENDAR