
BEGIN:VCALENDAR
VERSION:2.0
PRODID:-//Family Life Radio - ECPv6.15.20//NONSGML v1.0//EN
CALSCALE:GREGORIAN
METHOD:PUBLISH
X-ORIGINAL-URL:https://myflr.org
X-WR-CALDESC:Events for Family Life Radio
REFRESH-INTERVAL;VALUE=DURATION:PT1H
X-Robots-Tag:noindex
X-PUBLISHED-TTL:PT1H
BEGIN:VTIMEZONE
TZID:America/Phoenix
BEGIN:STANDARD
TZOFFSETFROM:-0700
TZOFFSETTO:-0700
TZNAME:MST
DTSTART:20220101T000000
END:STANDARD
END:VTIMEZONE
BEGIN:VEVENT
DTSTART;TZID=America/Phoenix:20231020T180000
DTEND;TZID=America/Phoenix:20231020T200000
DTSTAMP:20260421T154425
CREATED:20230929T014642Z
LAST-MODIFIED:20230929T014642Z
UID:10015903-1697824800-1697832000@myflr.org
SUMMARY:Westside Church of God Community Fall Festival
DESCRIPTION:The annual Westside Church of God Community Fall Festival is a night of safe family fun. Enjoy carnival games\, pony rides\, face painting\, trunk or treat\, and food trucks!
URL:https://myflr.org/event/westside-church-of-god-community-fall-festival/
LOCATION:Westside Church Of God\, 7925 W. Bethany Home Rd\, Glendale\, AZ\, 85303\, United States
CATEGORIES:Arizona
ATTACH;FMTTYPE=image/png:https://eadn-wc05-15902914.nxedge.io/wp-content/uploads/2023/09/Fall-Fest-Banner-and-Announcements.png
END:VEVENT
END:VCALENDAR