
BEGIN:VCALENDAR
VERSION:2.0
PRODID:-//Family Life Radio - ECPv6.15.20//NONSGML v1.0//EN
CALSCALE:GREGORIAN
METHOD:PUBLISH
X-WR-CALNAME:Family Life Radio
X-ORIGINAL-URL:https://myflr.org
X-WR-CALDESC:Events for Family Life Radio
REFRESH-INTERVAL;VALUE=DURATION:PT1H
X-Robots-Tag:noindex
X-PUBLISHED-TTL:PT1H
BEGIN:VTIMEZONE
TZID:America/Phoenix
BEGIN:STANDARD
TZOFFSETFROM:-0700
TZOFFSETTO:-0700
TZNAME:MST
DTSTART:20230101T000000
END:STANDARD
END:VTIMEZONE
BEGIN:VEVENT
DTSTART;TZID=America/Phoenix:20240921T160000
DTEND;TZID=America/Phoenix:20240921T180000
DTSTAMP:20260421T150636
CREATED:20240828T211703Z
LAST-MODIFIED:20240828T211703Z
UID:10033782-1726934400-1726941600@myflr.org
SUMMARY:5th Annual Believers United Prayer and Praise Day
DESCRIPTION:LifeLine Church\, 9518 N Clio Rd. Clio\, MI will host a day of prayer and praise as believers from local churches will gather to honor God and pray for our nation. Held on Saturday\, September 21\, 2024 at 4:00PM. This is an interdenominational event featuring various prayer warriors and musicians. Everyone is welcome. Come pray with us!
URL:https://myflr.org/event/5th-annual-believers-united-prayer-and-praise-day/
LOCATION:LifeLine Church (Clio\, MI)\, 8518 N. Clio Road\, Clio\, MI\, United States
CATEGORIES:Michigan
END:VEVENT
END:VCALENDAR