
BEGIN:VCALENDAR
VERSION:2.0
PRODID:-//Family Life Radio - ECPv6.15.20//NONSGML v1.0//EN
CALSCALE:GREGORIAN
METHOD:PUBLISH
X-WR-CALNAME:Family Life Radio
X-ORIGINAL-URL:https://myflr.org
X-WR-CALDESC:Events for Family Life Radio
REFRESH-INTERVAL;VALUE=DURATION:PT1H
X-Robots-Tag:noindex
X-PUBLISHED-TTL:PT1H
BEGIN:VTIMEZONE
TZID:America/Phoenix
BEGIN:STANDARD
TZOFFSETFROM:-0700
TZOFFSETTO:-0700
TZNAME:MST
DTSTART:20220101T000000
END:STANDARD
END:VTIMEZONE
BEGIN:VEVENT
DTSTART;TZID=America/Phoenix:20230702T120000
DTEND;TZID=America/Phoenix:20230702T140000
DTSTAMP:20260421T204325
CREATED:20230607T211713Z
LAST-MODIFIED:20230626T231442Z
UID:10010338-1688299200-1688306400@myflr.org
SUMMARY:Freedom Celebration Car Show-July 2\, 2023
DESCRIPTION:  \n91.5 FM Family Life Radio wants to invite you and your family to a FREE FAMILY EVENT\, on Sunday\, July 2nd from 12noon-2pm at Albuquerque’s First Baptist Church at 4101 Paseo Del Norte NW\, Albuquerque\, NM 87114 \nWe will have music\, Family Life Radio will be Emceeing this event\, we’ll play games and even have prizes! \nFreedom Car show event with food trucks\, Mendoza farms\, Ninja Course and Military Vehicles all benefiting Forward Flag New Mexico providing suicide prevention training and activities to help reduce the high rate of Veteran suicide. \n  \n 
URL:https://myflr.org/event/freedom-celebration-car-show/
LOCATION:Albuquerque’s First Baptist Church\, 4101 Paseo Del Norte Northwest #3507\, Albuquerque\, NM\, 87114\, United States
CATEGORIES:Featured,New Mexico
ATTACH;FMTTYPE=image/png:https://eadn-wc05-15902914.nxedge.io/wp-content/uploads/2023/06/Albuquerques-First-Baptist-Church-2023-Car-Show.png
END:VEVENT
END:VCALENDAR