
BEGIN:VCALENDAR
VERSION:2.0
PRODID:-//Family Life Radio - ECPv6.15.20//NONSGML v1.0//EN
CALSCALE:GREGORIAN
METHOD:PUBLISH
X-ORIGINAL-URL:https://myflr.org
X-WR-CALDESC:Events for Family Life Radio
REFRESH-INTERVAL;VALUE=DURATION:PT1H
X-Robots-Tag:noindex
X-PUBLISHED-TTL:PT1H
BEGIN:VTIMEZONE
TZID:America/Phoenix
BEGIN:STANDARD
TZOFFSETFROM:-0700
TZOFFSETTO:-0700
TZNAME:MST
DTSTART:20220101T000000
END:STANDARD
END:VTIMEZONE
BEGIN:VEVENT
DTSTART;TZID=America/Phoenix:20250602T180000
DTEND;TZID=America/Phoenix:20250606T204500
DTSTAMP:20260421T191336
CREATED:20250528T192247Z
LAST-MODIFIED:20250528T192247Z
UID:10041627-1748887200-1749242700@myflr.org
SUMMARY:Vacation Bible School "VBS" True North (Rio Rancho)
DESCRIPTION:Vacation Bible School\, Theme – True North\nJune 2nd -6th from 6 pm to 8:45 pm\nAges 4-5th grade\nLocation – Anchor Pointe Church 6751 Pasilla Rd. NE\, Rio Rancho NM 87144
URL:https://myflr.org/event/vacation-bible-school-vbs-true-north-rio-rancho/
LOCATION:AnchorPoint Church\, 6751 Pasilla Rd NE\, Rio Rancho\, NM\, 87144\, United States
CATEGORIES:New Mexico
ORGANIZER;CN="Anchor Point Church":MAILTO:outreach@anchorpointlife.com
END:VEVENT
BEGIN:VEVENT
DTSTART;TZID=America/Phoenix:20240504T163000
DTEND;TZID=America/Phoenix:20240504T183000
DTSTAMP:20260421T191336
CREATED:20240408T192951Z
LAST-MODIFIED:20240408T192951Z
UID:10023747-1714840200-1714847400@myflr.org
SUMMARY:Child Evangelism Fellowship of NM 2024 Banquet
DESCRIPTION:Come Celebrate what God Is Doing in NM Schools\nEnjoy Mexican Food\, Auction Raffle & Special Entertainment\n* Christian Illusionist David Corn\n*Mr. Junk Man and His Amazing Trash Can\n* Guest Speaker Kathy Howell with “Mom’s In Prayer International”
URL:https://myflr.org/event/child-evangelism-fellowship-of-nm-2024-banquet/
LOCATION:AnchorPoint Church\, 6751 Pasilla Rd NE\, Rio Rancho\, NM\, 87144\, United States
CATEGORIES:New Mexico
ATTACH;FMTTYPE=image/png:https://eadn-wc05-15902914.nxedge.io/wp-content/uploads/2024/04/CEF-Banquet-Invite-Flyer.png
ORGANIZER;CN="Child Evangelism Fellowship of NM":MAILTO:CEFofABQnewmexico@gmail.com
END:VEVENT
BEGIN:VEVENT
DTSTART;TZID=America/Phoenix:20230609T180000
DTEND;TZID=America/Phoenix:20230613T203000
DTSTAMP:20260421T191336
CREATED:20230603T200748Z
LAST-MODIFIED:20230603T201410Z
UID:10010337-1686333600-1686688200@myflr.org
SUMMARY:Stellar Vacation Bible School-Rio Rancho
DESCRIPTION:Come join us at AnchorPoint Church for Vacation Bible School! It will be an out-of-this-world experience! \nSTELLER SHINE JESUS’ LIGHT\nOpen to Campers ages 4 years through incoming 6th graders\nCampers will:\nPlay super fun games!\nEat Yummy Snacks\nHear the Gospel\nHave fun! \nContact Olivia Daniels for regisgtration information: olivia.joy.daniels@gmail.com
URL:https://myflr.org/event/stellar-vacation-bible-school-2/2023-06-09/
LOCATION:AnchorPoint Church\, 6751 Pasilla Rd NE\, Rio Rancho\, NM\, 87144\, United States
CATEGORIES:New Mexico
ATTACH;FMTTYPE=image/png:https://eadn-wc05-15902914.nxedge.io/wp-content/uploads/2023/06/June-5th-9th-600-pm-845-pm-3.png
END:VEVENT
END:VCALENDAR