
BEGIN:VCALENDAR
VERSION:2.0
PRODID:-//Family Life Radio - ECPv6.15.20//NONSGML v1.0//EN
CALSCALE:GREGORIAN
METHOD:PUBLISH
X-WR-CALNAME:Family Life Radio
X-ORIGINAL-URL:https://myflr.org
X-WR-CALDESC:Events for Family Life Radio
REFRESH-INTERVAL;VALUE=DURATION:PT1H
X-Robots-Tag:noindex
X-PUBLISHED-TTL:PT1H
BEGIN:VTIMEZONE
TZID:America/Detroit
BEGIN:DAYLIGHT
TZOFFSETFROM:-0500
TZOFFSETTO:-0400
TZNAME:EDT
DTSTART:20250309T070000
END:DAYLIGHT
BEGIN:STANDARD
TZOFFSETFROM:-0400
TZOFFSETTO:-0500
TZNAME:EST
DTSTART:20251102T060000
END:STANDARD
BEGIN:DAYLIGHT
TZOFFSETFROM:-0500
TZOFFSETTO:-0400
TZNAME:EDT
DTSTART:20260308T070000
END:DAYLIGHT
BEGIN:STANDARD
TZOFFSETFROM:-0400
TZOFFSETTO:-0500
TZNAME:EST
DTSTART:20261101T060000
END:STANDARD
BEGIN:DAYLIGHT
TZOFFSETFROM:-0500
TZOFFSETTO:-0400
TZNAME:EDT
DTSTART:20270314T070000
END:DAYLIGHT
BEGIN:STANDARD
TZOFFSETFROM:-0400
TZOFFSETTO:-0500
TZNAME:EST
DTSTART:20271107T060000
END:STANDARD
END:VTIMEZONE
BEGIN:VEVENT
DTSTART;TZID=America/Detroit:20260516T183000
DTEND;TZID=America/Detroit:20260516T213000
DTSTAMP:20260420T013607
CREATED:20260310T140157Z
LAST-MODIFIED:20260310T140157Z
UID:10059557-1778956200-1778967000@myflr.org
SUMMARY:Comedy for a Cause with Trey Kennedy - Auburn Hills
DESCRIPTION:Comedy for a Cause is a one-night fundraiser for House of Providence—bringing our community together for a night of laughter and real impact. \n—Join Family Life Radio Saturday\, May 16\, 2026 at The Apostolic Church of Auburn Hills. Doors open at 6:00 PM and the show starts at 6:30 PM\, featuring headliner Trey Kennedy and opener Trey Simon.
URL:https://myflr.org/event/comedy-for-a-cause-with-trey-kennedy-auburn-hills/
LOCATION:Apostolic Church of Auburn Hills (Auburn Hills\, MI)\, 3655 N Squirrel Rd\, Auburn Hills\, MI\, 48326\, United States
CATEGORIES:Featured,Michigan
ATTACH;FMTTYPE=image/png:https://eadn-wc05-15902914.nxedge.io/wp-content/uploads/2026/03/Unknown.png
ORGANIZER;CN="House of Providence":MAILTO:info@thehofp.org
END:VEVENT
END:VCALENDAR