
BEGIN:VCALENDAR
VERSION:2.0
PRODID:-//Family Life Radio - ECPv6.15.20//NONSGML v1.0//EN
CALSCALE:GREGORIAN
METHOD:PUBLISH
X-WR-CALNAME:Family Life Radio
X-ORIGINAL-URL:https://myflr.org
X-WR-CALDESC:Events for Family Life Radio
REFRESH-INTERVAL;VALUE=DURATION:PT1H
X-Robots-Tag:noindex
X-PUBLISHED-TTL:PT1H
BEGIN:VTIMEZONE
TZID:America/Phoenix
BEGIN:STANDARD
TZOFFSETFROM:-0700
TZOFFSETTO:-0700
TZNAME:MST
DTSTART:20230101T000000
END:STANDARD
END:VTIMEZONE
BEGIN:VEVENT
DTSTART;TZID=America/Phoenix:20241102T090000
DTEND;TZID=America/Phoenix:20241102T150000
DTSTAMP:20260421T141829
CREATED:20241023T192157Z
LAST-MODIFIED:20241023T192157Z
UID:10037344-1730538000-1730559600@myflr.org
SUMMARY:Teen Tech IRL: E-Waste
DESCRIPTION:From cell phones and laptops to household appliances and medical devices\, electronic waste (or e-waste) is quickly becoming one of Earth’s prominent forms of waste. But if electronics aren’t going away—how do we help our planet fight this rising issue? At Arizona Science Center’s next Teen Tech IRL on November 2\, teens in grades 9-12 will have the opportunity to dream up their own innovative solutions to Earth’s e-waste problem! \nParticipants will start the day learning the intricacies of e-waste from local experts\, then will break into teams to design and prototype new solutions. At the end of the day\, teams will present their prototypes to a panel of judges for a chance to win prizes! \nLunch is included. Learn more and register at azscience.org/teens.
URL:https://myflr.org/event/teen-tech-irl-e-waste/
LOCATION:Arizona Science Center\, 600 E. Washington St.\, Phoenix\, AZ\, 85004\, United States
CATEGORIES:Arizona
ATTACH;FMTTYPE=image/png:https://eadn-wc05-15902914.nxedge.io/wp-content/uploads/2024/10/V2_TeenTechIRL-E-Waste_XThreadsGraphic.png
ORGANIZER;CN="Arizona Science Center":MAILTO:hello@azscience.org
END:VEVENT
BEGIN:VEVENT
DTSTART;TZID=America/Phoenix:20241101T103000
DTEND;TZID=America/Phoenix:20241103T160000
DTSTAMP:20260421T141829
CREATED:20241015T184252Z
LAST-MODIFIED:20241015T184252Z
UID:10036773-1730457000-1730649600@myflr.org
SUMMARY:Astronomy Weekend at Arizona Science Center
DESCRIPTION:Ever look up at the night sky and wonder what’s out there? Discover the science of our galaxy and beyond at Arizona Science Center’s Astronomy Weekend from Friday\, November 1 to Sunday\, November 3!\nFrom 10:30 a.m. to 4:00 p.m.\, Guests will have the opportunity to explore the depths of space through hands-on activities\, a scavenger hunt challenge\, dazzling demonstrations and more. From escaping a lunar outpost to getting up-close and personal with an other-worldly species and more\, this out-of-this-world weekend is not one to be missed!\nOn Saturday\, November 2 from 6:00 to 10:00 p.m.\, join Arizona Science Center for a FREE evening of stargazing in Heritage Square. Investigate how scientists learn about space by looking through different types of telescopes\, talking with astronomy experts and engaging with STEAM activities.\nLearn more at azscience.org.
URL:https://myflr.org/event/astronomy-weekend-at-arizona-science-center/
LOCATION:Arizona Science Center\, 600 E. Washington St.\, Phoenix\, AZ\, 85004\, United States
CATEGORIES:Arizona
ATTACH;FMTTYPE=image/png:https://eadn-wc05-15902914.nxedge.io/wp-content/uploads/2024/10/big-V2_Astronomy-Event_FB-Event.png
ORGANIZER;CN="Arizona Science Center":MAILTO:hello@azscience.org
END:VEVENT
BEGIN:VEVENT
DTSTART;TZID=America/Phoenix:20241005T090000
DTEND;TZID=America/Phoenix:20241005T130000
DTSTAMP:20260421T141829
CREATED:20240924T234640Z
LAST-MODIFIED:20240924T234640Z
UID:10036325-1728118800-1728133200@myflr.org
SUMMARY:Science Beyond Sight
DESCRIPTION:Explore science through your senses! In collaboration with the Foundation for Blind Children\, Arizona Science Center presents Science Beyond Sight—a FREE community event on October 5 in Heritage & Science Park. By using senses beyond sight\, Guests will have the opportunity to explore STEAM through touching\, hearing\, tasting and more with hands-on activities\, engaging challenges and community partners. \nThis event surrounds the Foundation for Blind Children’s annual White Cane Walk. Beginning at 9:30 a.m.\, the Arizona community is invited to partake in the 1.2 mile walk in Downtown Phoenix. The Walk helps advocate for those experiencing vision loss\, pedestrian safety and how everyone can help people experiencing visual impairment stay safe as they travel. To participate in the walk\, please arrive at 9:00 a.m. for registration. \nLearn more at azscience.org/visit/events/science-beyond-sight.
URL:https://myflr.org/event/science-beyond-sight/
LOCATION:Arizona Science Center\, 600 E. Washington St.\, Phoenix\, AZ\, 85004\, United States
CATEGORIES:Arizona
ATTACH;FMTTYPE=image/png:https://eadn-wc05-15902914.nxedge.io/wp-content/uploads/2024/09/Science-beyond-Sight-FB-Event.png
ORGANIZER;CN="Arizona Science Center":MAILTO:hello@azscience.org
END:VEVENT
BEGIN:VEVENT
DTSTART;TZID=America/Phoenix:20240907T090000
DTEND;TZID=America/Phoenix:20240908T160000
DTSTAMP:20260421T141829
CREATED:20240820T192256Z
LAST-MODIFIED:20240820T192256Z
UID:10033477-1725699600-1725811200@myflr.org
SUMMARY:Fry’s Free Weekend
DESCRIPTION:Arizona Science Center is excited to offer FREE general admission on Saturday\, September 7 and Sunday\, September 8 courtesy of Fry’s Food Stores! Bring the whole family and explore all 4 levels of the Center’s hands-on galleries and enjoy discounted tickets to the 5-story Giant Screen Theater and more. Visit azscience.org for details.
URL:https://myflr.org/event/frys-free-weekend/
LOCATION:Arizona Science Center\, 600 E. Washington St.\, Phoenix\, AZ\, 85004\, United States
CATEGORIES:Arizona
ATTACH;FMTTYPE=image/png:https://eadn-wc05-15902914.nxedge.io/wp-content/uploads/2024/08/FreshCart_Frys_Color-w-Black.png
ORGANIZER;CN="Arizona Science Center":MAILTO:hello@azscience.org
END:VEVENT
BEGIN:VEVENT
DTSTART;TZID=America/Phoenix:20240824T090000
DTEND;TZID=America/Phoenix:20240824T150000
DTSTAMP:20260421T141829
CREATED:20240805T154658Z
LAST-MODIFIED:20240805T154658Z
UID:10032394-1724490000-1724511600@myflr.org
SUMMARY:STEAM Saturday: Wild Weather
DESCRIPTION:How can humans prepare for the unexpected? From earthquakes to tornadoes\, wildfires to hurricanes\, our planet seems to never have a shortage of wild weather! At Arizona Science Center’s first-ever STEAM Saturday\, Wild Weather\, participants in grades 4-8 will have the chance to investigate natural disasters and how communities can prepare for them.\nLunch will be provided. Learn more and register at azscience.org/steamsaturdays.\n⛈️\n¿Cómo pueden los humanos prepararse para lo inesperado? ¡Desde terremotos hasta tornados\, incendios forestales hasta huracanes\, parece que nuestro planeta nunca tiene escasez de clima salvaje! En el primer STEAM Saturday del Arizona Science Center\, Clima salvaje (Wild Weather)\, los participantes de 4 a 8 grado tendrán la oportunidad de investigar desastres naturales y cómo las comunidades pueden prepararse.\nSe proporcionará el almuerzo. Obtén más información y regístrate en azscience.org/steamsaturdays.
URL:https://myflr.org/event/steam-saturday-wild-weather/
LOCATION:Arizona Science Center\, 600 E. Washington St.\, Phoenix\, AZ\, 85004\, United States
CATEGORIES:Arizona
ATTACH;FMTTYPE=image/png:https://eadn-wc05-15902914.nxedge.io/wp-content/uploads/2024/08/big-Steam-Saterdays_Wild-Weather_Facebook-event-header.png
ORGANIZER;CN="Arizona Science Center":MAILTO:hello@azscience.org
END:VEVENT
BEGIN:VEVENT
DTSTART;TZID=America/Phoenix:20240810T090000
DTEND;TZID=America/Phoenix:20240810T150000
DTSTAMP:20260421T141829
CREATED:20240718T000125Z
LAST-MODIFIED:20240718T000125Z
UID:10031103-1723280400-1723302000@myflr.org
SUMMARY:Girls in STEM: Magnificent Meteorology | Magnífica Meteorología
DESCRIPTION:Reach for the sky at Girls in STEM’s August event\, Magnificent Meteorology! On August 10 from 9:00 a.m. to 3:00 p.m.\, participants will explore the science behind Earth’s weather through hands-on activities\, local STEM mentor connections and like-minded peer engagement. #GirlsInSTEM will explore the components of Earth’s water cycle\, create their own DIY weather station to get in touch with their inner meteorologist and investigate the effects of monsoon season on flash flooding here in Arizona.\nLunch will be provided. Learn more and register at azscience.org/girlsinstem.\n⚡️\n¡Alcanza el cielo durante el evento de agosto de Girls in STEM\, Magnífica Meteorología! El 10 de agosto\, de 9:00 a.m. a 3:00 p.m.\, los participantes explorarán la ciencia detrás del clima de la Tierra a través de actividades prácticas\, con la ayuda de mentores locales de STEM y la interacción con compañeros con ideas afines. #GirlsInSTEM explorará los componentes del ciclo del agua de la Tierra\, crearán su propia estación meteorológica (DIY) para conectarse con su meteorólogo interior e investigarán los efectos de la temporada de monzones en las inundaciones repentinas aquí en Arizona. \nSe proporcionará el almuerzo. Obtén más información y regístrate en azscience.org/girlsinstem
URL:https://myflr.org/event/girls-in-stem-magnificent-meteorology-magnifica-meteorologia/
LOCATION:Arizona Science Center\, 600 E. Washington St.\, Phoenix\, AZ\, 85004\, United States
CATEGORIES:Arizona
ATTACH;FMTTYPE=image/png:https://eadn-wc05-15902914.nxedge.io/wp-content/uploads/2024/07/24-AZSC-0250-GIS-Magnificent-Meteorology_FB-Event-Header_1920x1005.png
ORGANIZER;CN="Arizona Science Center":MAILTO:hello@azscience.org
END:VEVENT
BEGIN:VEVENT
DTSTART;TZID=America/Phoenix:20240720T130000
DTEND;TZID=America/Phoenix:20240720T160000
DTSTAMP:20260421T141829
CREATED:20240702T201046Z
LAST-MODIFIED:20240702T201046Z
UID:10030665-1721480400-1721491200@myflr.org
SUMMARY:Science of Animation at Arizona Science Center
DESCRIPTION:Curious about the art of animation? Join Arizona Science Center for an engaging Q+A panel followed by hands-on workshops to uncover the science behind your favorite films\, shorts and TV series! Activate your inner artist to explore drawing and digital painting\, 3D modeling\, and basics of animation workshops to bring your art to life with the help of local animation experts.\nLearn more and reserve tickets at azscience.org/teens.
URL:https://myflr.org/event/science-of-animation-at-arizona-science-center/
LOCATION:Arizona Science Center\, 600 E. Washington St.\, Phoenix\, AZ\, 85004\, United States
CATEGORIES:Arizona
ATTACH;FMTTYPE=image/jpeg:https://eadn-wc05-15902914.nxedge.io/wp-content/uploads/2024/06/big-061824-ASC-Animation-1920x1005-1.jpg
ORGANIZER;CN="Arizona Science Center":MAILTO:hello@azscience.org
END:VEVENT
BEGIN:VEVENT
DTSTART;TZID=America/Phoenix:20240719T170000
DTEND;TZID=America/Phoenix:20240719T200000
DTSTAMP:20260421T141829
CREATED:20240702T200907Z
LAST-MODIFIED:20240702T200907Z
UID:10030691-1721408400-1721419200@myflr.org
SUMMARY:Bad Art Night at CREATE at Arizona Science Center®
DESCRIPTION:Makers of all ages and backgrounds are invited to connect at an evening full of amazingly atrocious art. Straight lines\, complimentary colors and perfect proportions aren’t welcome—just bring your lack of talent\, an abundance of absurdity and your sense of humor. All supplies will be provided—simply show up and come CREATE!\nLearn more and reserve tickets at azscience.org.
URL:https://myflr.org/event/bad-art-night-at-create-at-arizona-science-center/
LOCATION:Arizona Science Center\, 600 E. Washington St.\, Phoenix\, AZ\, 85004\, United States
CATEGORIES:Arizona
ATTACH;FMTTYPE=image/png:https://eadn-wc05-15902914.nxedge.io/wp-content/uploads/2024/07/big-BadArtNight_July-FBEventHeader-1920x1005-1.png
ORGANIZER;CN="Arizona Science Center":MAILTO:hello@azscience.org
END:VEVENT
BEGIN:VEVENT
DTSTART;TZID=America/Phoenix:20240627T160000
DTEND;TZID=America/Phoenix:20240627T210000
DTSTAMP:20260421T141829
CREATED:20240612T231528Z
LAST-MODIFIED:20240612T231528Z
UID:10027549-1719504000-1719522000@myflr.org
SUMMARY:OceanX Expedition: Unveiling the Deep
DESCRIPTION:Join us in the Irene P. Flinn Giant Screen Theater for a live broadcast from OceanXplorer\, the world’s most advanced exploration\, research\, and media vessel. Hosted by OceanX CEO Vincent Pieribone and featuring Arizona native and OceanX’s Science Program Director\, Mattie Rodrigue\, this event offers a unique behind-the-scenes look at ocean exploration\, cutting-edge technology\, and the groundbreaking research being conducted on the vessel. \nThis unique event allows you to interact with scientists on board as they explore the deep sea\, conducting groundbreaking research. Ask questions in real time\, witness live experiments\, and gain insights into the mysteries of our oceans. \nOceanX CEO Vincent Pieribone will sit down for Fireside Chat and Q&A following the live stream. \nIncluded with all Arizona Science Center Memberships and general admission. Learn more and reserve tickets at azscience.org/visit/events/extended-hours-event.
URL:https://myflr.org/event/oceanx-expedition-unveiling-the-deep/
LOCATION:Arizona Science Center\, 600 E. Washington St.\, Phoenix\, AZ\, 85004\, United States
CATEGORIES:Arizona
ATTACH;FMTTYPE=image/jpeg:https://eadn-wc05-15902914.nxedge.io/wp-content/uploads/2024/06/V2_OceanX_Facebook-Event-Header.jpg
ORGANIZER;CN="Arizona Science Center":MAILTO:hello@azscience.org
END:VEVENT
BEGIN:VEVENT
DTSTART;TZID=America/Phoenix:20240621T180000
DTEND;TZID=America/Phoenix:20240621T220000
DTSTAMP:20260421T141829
CREATED:20240528T175444Z
LAST-MODIFIED:20240528T175444Z
UID:10026889-1718992800-1719007200@myflr.org
SUMMARY:Science With a TWIST | Cowboys VS. Aliens
DESCRIPTION:Ready to get transferred to another planet? Welcome to the intergalactic Wild West—one of the funkiest frontiers you ever did see! At Arizona Science Center’s next Science With a TWIST\, Cowboys vs. Aliens\, Guests will be able to choose a side: cowboys\, aliens or a mix of both! From debunking alien sightings and learning the science behind lassoing to dueling it out in relay races and concocting galactic slime\, this Science With a TWIST will have you begging to be abducted into this funky frontier forever. Costumes are encouraged! \nLearn more and reserve your tickets at azscience.org/swat.
URL:https://myflr.org/event/science-with-a-twist-cowboys-vs-aliens/
LOCATION:Arizona Science Center\, 600 E. Washington St.\, Phoenix\, AZ\, 85004\, United States
CATEGORIES:Arizona
ATTACH;FMTTYPE=image/png:https://eadn-wc05-15902914.nxedge.io/wp-content/uploads/2024/05/24-AZSC-0197-SWAT-Cowboys-vs-Aliens_FB-IG-Post_1080x1080.png
ORGANIZER;CN="Arizona Science Center":MAILTO:hello@azscience.org
END:VEVENT
BEGIN:VEVENT
DTSTART;TZID=America/Phoenix:20240511T090000
DTEND;TZID=America/Phoenix:20240511T150000
DTSTAMP:20260421T141829
CREATED:20240426T165803Z
LAST-MODIFIED:20240426T165803Z
UID:10024750-1715418000-1715439600@myflr.org
SUMMARY:Frankenstein Lab at Arizona Science Center
DESCRIPTION:It’s—it’s—it’s ALIVE! At Arizona Science Center’s Frankenstein Mini-Lab\, teens in grades 7-12 will have the chance to craft their own creation\, then bring it to life using tools and technology. Throughout the day\, participants will build their own automatons\, moving mechanical devices\, using the tools and machines available at CREATE at Arizona Science Center®\, from 3D printers and laser cutters to woodworking tools. By the end of the workshop\, teens will feel more confident in using Makerspace technology and have their own mini automaton to take home. \nLunch will be provided. Learn more and reserve tickets at azscience.org/teens.
URL:https://myflr.org/event/frankenstein-lab-at-arizona-science-center/
LOCATION:Arizona Science Center\, 600 E. Washington St.\, Phoenix\, AZ\, 85004\, United States
CATEGORIES:Arizona
ATTACH;FMTTYPE=image/png:https://eadn-wc05-15902914.nxedge.io/wp-content/uploads/2024/04/24-AZSC-0182-Frankenstein-Lab_FB-Event-1920x1005-1.png
ORGANIZER;CN="Arizona Science Center":MAILTO:hello@azscience.org
END:VEVENT
BEGIN:VEVENT
DTSTART;TZID=America/Phoenix:20240510T170000
DTEND;TZID=America/Phoenix:20240510T200000
DTSTAMP:20260421T141829
CREATED:20240422T235123Z
LAST-MODIFIED:20240422T235123Z
UID:10024565-1715360400-1715371200@myflr.org
SUMMARY:Bad Art Night
DESCRIPTION:Calling all awful artists—join CREATE at Arizona Science Center®’s next Bad Art Night! Makers of all ages and backgrounds are invited to connect at an evening full of amazingly atrocious art. Straight lines\, complimentary colors and perfect proportions aren’t welcome—just bring your lack of talent\, an abundance of absurdity and your sense of humor.
URL:https://myflr.org/event/bad-art-night/
LOCATION:Arizona Science Center\, 600 E. Washington St.\, Phoenix\, AZ\, 85004\, United States
CATEGORIES:Arizona
ATTACH;FMTTYPE=image/png:https://eadn-wc05-15902914.nxedge.io/wp-content/uploads/2024/04/BadArtNight_March-8th_FB-Header.png
ORGANIZER;CN="Arizona Science Center":MAILTO:hello@azscience.org
END:VEVENT
BEGIN:VEVENT
DTSTART;TZID=America/Phoenix:20240426T180000
DTEND;TZID=America/Phoenix:20240426T220000
DTSTAMP:20260421T141829
CREATED:20240405T174510Z
LAST-MODIFIED:20240405T180940Z
UID:10022926-1714154400-1714168800@myflr.org
SUMMARY:Special Edition Science With a TWIST
DESCRIPTION:Storytelling and science collide at Arizona Science Center’s next Science With a TWIST on April 26! In partnership with The Story Collider\, curious minds 21 and older (Adults only) are invited to a special edition\, one-night-only Science With a TWIST that includes happy hour exploring the Center’s galleries\, followed by a LIVE show filled with local Arizonans’ personal science stories all about unique perspectives and the shifts we experience throughout our lives. From heartbreaking to hilarious\, this live storytelling show features people from all walks of life telling true\, personal stories about how science has made an impact on their journey. \nThis special edition Science With a TWIST may look a little bit different than our typical events\, and is surely not one to be missed! Learn more and reserve tickets at azscience.org/swat.
URL:https://myflr.org/event/special-edition-science-with-a-twist/
LOCATION:Arizona Science Center\, 600 E. Washington St.\, Phoenix\, AZ\, 85004\, United States
CATEGORIES:Arizona
ATTACH;FMTTYPE=image/png:https://eadn-wc05-15902914.nxedge.io/wp-content/uploads/2024/04/Arizona-Science-Center_-Inspire-Engage-Curious-Mind.png
ORGANIZER;CN="Arizona Science Center":MAILTO:hello@azscience.org
END:VEVENT
BEGIN:VEVENT
DTSTART;TZID=America/Phoenix:20240408T090000
DTEND;TZID=America/Phoenix:20240408T130000
DTSTAMP:20260421T141829
CREATED:20240220T023245Z
LAST-MODIFIED:20240220T023245Z
UID:10020030-1712566800-1712581200@myflr.org
SUMMARY:Solar Eclipse Viewing Party at Arizona Science Center
DESCRIPTION:On Monday\, April 8\, Arizona Science Center is celebrating the solar eclipse with another sun-sational Viewing Party—FREE to the public. \nTo view this event safely\, the Science Center will be providing eclipse glasses to all Guests to ensure proper eye protection. We invite you to spend the morning with us to watch the Moon cross paths with the Sun\, then stay to explore the science behind this out-of-this-world natural phenomenon! \nArizona Science Center will be opening early to allow Guests to view the full event at 9:00 a.m. The partial solar eclipse begins at 10:08 a.m.\, hits its maximum at 11:20 a.m. and ends at 12:35 p.m. Phoenix will receive 64% coverage. We strongly encourage all Guests to arrive early in order not to miss the eclipse.
URL:https://myflr.org/event/solar-eclipse-viewing-party-at-arizona-science-center/
LOCATION:Arizona Science Center\, 600 E. Washington St.\, Phoenix\, AZ\, 85004\, United States
CATEGORIES:Arizona
ATTACH;FMTTYPE=image/png:https://eadn-wc05-15902914.nxedge.io/wp-content/uploads/2024/02/AprilSolarEclipse_TempLPHeader-800x350-2.png
END:VEVENT
BEGIN:VEVENT
DTSTART;TZID=America/Phoenix:20240308T180000
DTEND;TZID=America/Phoenix:20240308T220000
DTSTAMP:20260421T141829
CREATED:20240220T023203Z
LAST-MODIFIED:20240220T023212Z
UID:10020031-1709920800-1709935200@myflr.org
SUMMARY:Science With a TWIST’s Back to the ’80s
DESCRIPTION:Grab your neon ‘fits and travel back in time to when Arizona Science Center made its debut: the ‘80s! On March 8 from 6:00 to 10:00 p.m.\, jump into our time machine and explore the science and trends made popular during this iconic decade at our next Science With a TWIST\, Back to the ‘80s. Throughout the night\, we’ll celebrate Arizona Science Center’s 40th anniversary through hands-on activities\, ‘80s trivia\, a rockin’ dance party\, dazzling demonstrations and more—all while sipping some totally tubular craft cocktails.
URL:https://myflr.org/event/science-with-a-twists-back-to-the-80s/
LOCATION:Arizona Science Center\, 600 E. Washington St.\, Phoenix\, AZ\, 85004\, United States
CATEGORIES:Arizona
ATTACH;FMTTYPE=image/png:https://eadn-wc05-15902914.nxedge.io/wp-content/uploads/2024/02/24-AZSC-0123-SWAT-Back-To-The-80s_1920x1005-FB-Event_300dpi.png
END:VEVENT
BEGIN:VEVENT
DTSTART;TZID=America/Phoenix:20240204T103000
DTEND;TZID=America/Phoenix:20240902T160000
DTSTAMP:20260421T141829
CREATED:20240220T022757Z
LAST-MODIFIED:20240220T022757Z
UID:10020032-1707042600-1725292800@myflr.org
SUMMARY:OceanXperience—Only at Arizona Science Center
DESCRIPTION:Go deep-sea exploring—without leaving dry land! Climb aboard an interactive replica of OceanXplorer–the world’s most advanced research and filmmaking vessel. Utilizing next-generation technology\, compelling storytelling\, and an immersive experience\, OceanXperience gives guests the chance to be true explorers uncovering the ocean’s secrets and developing captivating media to help people around the world connect with this precious resource. Along the way\, they’ll conduct scientific experiments like actual OceanXplorer scientists and experience the exhilarating feeling of exploring some of the oceans’ most inspiring locations.
URL:https://myflr.org/event/oceanxperience-only-at-arizona-science-center/
LOCATION:Arizona Science Center\, 600 E. Washington St.\, Phoenix\, AZ\, 85004\, United States
CATEGORIES:Arizona
ATTACH;FMTTYPE=image/jpeg:https://eadn-wc05-15902914.nxedge.io/wp-content/uploads/2024/02/23-AZSC-0286-OceanXperience-Exhibition_FB-Event-1920x1005_300dpi-scaled.jpg
END:VEVENT
END:VCALENDAR