
BEGIN:VCALENDAR
VERSION:2.0
PRODID:-//Family Life Radio - ECPv6.15.20//NONSGML v1.0//EN
CALSCALE:GREGORIAN
METHOD:PUBLISH
X-ORIGINAL-URL:https://myflr.org
X-WR-CALDESC:Events for Family Life Radio
REFRESH-INTERVAL;VALUE=DURATION:PT1H
X-Robots-Tag:noindex
X-PUBLISHED-TTL:PT1H
BEGIN:VTIMEZONE
TZID:America/Detroit
BEGIN:DAYLIGHT
TZOFFSETFROM:-0500
TZOFFSETTO:-0400
TZNAME:EDT
DTSTART:20250309T070000
END:DAYLIGHT
BEGIN:STANDARD
TZOFFSETFROM:-0400
TZOFFSETTO:-0500
TZNAME:EST
DTSTART:20251102T060000
END:STANDARD
BEGIN:DAYLIGHT
TZOFFSETFROM:-0500
TZOFFSETTO:-0400
TZNAME:EDT
DTSTART:20260308T070000
END:DAYLIGHT
BEGIN:STANDARD
TZOFFSETFROM:-0400
TZOFFSETTO:-0500
TZNAME:EST
DTSTART:20261101T060000
END:STANDARD
BEGIN:DAYLIGHT
TZOFFSETFROM:-0500
TZOFFSETTO:-0400
TZNAME:EDT
DTSTART:20270314T070000
END:DAYLIGHT
BEGIN:STANDARD
TZOFFSETFROM:-0400
TZOFFSETTO:-0500
TZNAME:EST
DTSTART:20271107T060000
END:STANDARD
END:VTIMEZONE
BEGIN:VEVENT
DTSTART;TZID=America/Detroit:20260423T190000
DTEND;TZID=America/Detroit:20260423T203000
DTSTAMP:20260419T205206
CREATED:20260408T112908Z
LAST-MODIFIED:20260408T112908Z
UID:10060217-1776970800-1776976200@myflr.org
SUMMARY:For Such A Time As This: Equipping the Next Generation
DESCRIPTION:In a culture of confusion and rapid change\, how do we raise and educate our children so that they may love God and His truth? \nRev. Dr. Brito will share powerful insights on the benefits and the biblical vision of classical Christian education and the current need for educational stewardship in our day. \nRegister Here: https://forms.gle/aTmAkbHJbuhCTm7y8 \nHosted by Tyndale Classical Academy:\n“Our mission is to partner with parents in fulfilling their God-given task of educating their children.” Find out more at https://tyndaleclassical.academy/
URL:https://myflr.org/event/for-such-a-time-as-this-equipping-the-next-generation/
LOCATION:Ascend Church (Howell\, MI)\, 210 Church St.\, Howell\, MI\, 48843\, United States
CATEGORIES:Michigan
ATTACH;FMTTYPE=image/png:https://eadn-wc05-15902914.nxedge.io/wp-content/uploads/2026/04/Event-Poster.png
ORGANIZER;CN="Tyndale Classical Academy":MAILTO:info@tyndaleclassical.academy
END:VEVENT
END:VCALENDAR