
BEGIN:VCALENDAR
VERSION:2.0
PRODID:-//Family Life Radio - ECPv6.15.20//NONSGML v1.0//EN
CALSCALE:GREGORIAN
METHOD:PUBLISH
X-ORIGINAL-URL:https://myflr.org
X-WR-CALDESC:Events for Family Life Radio
REFRESH-INTERVAL;VALUE=DURATION:PT1H
X-Robots-Tag:noindex
X-PUBLISHED-TTL:PT1H
BEGIN:VTIMEZONE
TZID:America/Detroit
BEGIN:DAYLIGHT
TZOFFSETFROM:-0500
TZOFFSETTO:-0400
TZNAME:EDT
DTSTART:20230312T070000
END:DAYLIGHT
BEGIN:STANDARD
TZOFFSETFROM:-0400
TZOFFSETTO:-0500
TZNAME:EST
DTSTART:20231105T060000
END:STANDARD
BEGIN:DAYLIGHT
TZOFFSETFROM:-0500
TZOFFSETTO:-0400
TZNAME:EDT
DTSTART:20240310T070000
END:DAYLIGHT
BEGIN:STANDARD
TZOFFSETFROM:-0400
TZOFFSETTO:-0500
TZNAME:EST
DTSTART:20241103T060000
END:STANDARD
BEGIN:DAYLIGHT
TZOFFSETFROM:-0500
TZOFFSETTO:-0400
TZNAME:EDT
DTSTART:20250309T070000
END:DAYLIGHT
BEGIN:STANDARD
TZOFFSETFROM:-0400
TZOFFSETTO:-0500
TZNAME:EST
DTSTART:20251102T060000
END:STANDARD
END:VTIMEZONE
BEGIN:VTIMEZONE
TZID:America/Phoenix
BEGIN:STANDARD
TZOFFSETFROM:-0700
TZOFFSETTO:-0700
TZNAME:MST
DTSTART:20220101T000000
END:STANDARD
END:VTIMEZONE
BEGIN:VEVENT
DTSTART;TZID=America/Detroit:20240302T190000
DTEND;TZID=America/Detroit:20240302T190000
DTSTAMP:20260421T203831
CREATED:20231221T163529Z
LAST-MODIFIED:20240223T230014Z
UID:10018728-1709406000-1709406000@myflr.org
SUMMARY:INTENTIONAL LOVE MARRIAGE DATE NIGHT AUBURN HILLS – SOLD OUT
DESCRIPTION:THIS EVENT IS SOLD OUT! \n***** \nExperience how Intentional Love creates intimacy\, closeness and unity in your marriage and family. \nBest selling author\, and Intentional Living radio show host\, Dr. Randy Carlson brings his Intentional Love Marriage Date Night event to Auburn Hills\, MI on March 2\, 2024. We hope you can join us for a special 2-hour “date night” experience. \nWe want to come together and celebrate marriage\, laugh\, and enjoy what God has given us as families! \nAt the Intentional Love Marriage Date Night\, You’ll Discover: \n\nHow the Power of One-Thing in your marriage will bring agreement and closeness.\nHow Intentional Love brings freedom to each of the essential areas of your life — your marriage; your faith; your finance; your health; your work.\nHow Intentional Love is a doorway that leads to solving difficult problems and to EXPERIENCING REAL HOPE in your marriage.\nStop the drift! — how the 3-steps to an Intentional Love hold couples together.\nCouples with kids — Dr. Randy will show you how Intentional Love is a practical tool that will quickly de-stress your home and help to get everyone on the same page.\n\nPerfect for engaged couples\, those celebrating decades of marriage and everyone in between! \nTICKET PRICES (additional taxes and fees may apply):\nGOLD CIRCLE – $30 per person (Doors at 6pm)\nGENERAL ADMISSION – $20 per person (Doors at 6:30pm) \nNO CHILDCARE AVAILABLE!
URL:https://myflr.org/event/intentional-love-marriage-date-night-auburn-hills/
LOCATION:Auburn Hills Christian Center (Auburn Hills\, MI)\, 2592 E Walton Blvd\, Auburn Hills\, MI\, 48083\, United States
CATEGORIES:Featured,Michigan
ATTACH;FMTTYPE=image/jpeg:https://eadn-wc05-15902914.nxedge.io/wp-content/uploads/2023/12/ILMDN-Detroit-Social-1x1-SOLD-OUT-1.jpg
END:VEVENT
BEGIN:VEVENT
DTSTART;TZID=America/Detroit:20240209T190000
DTEND;TZID=America/Detroit:20240210T160000
DTSTAMP:20260421T203831
CREATED:20240206T201957Z
LAST-MODIFIED:20240206T201957Z
UID:10019599-1707505200-1707580800@myflr.org
SUMMARY:Freedom Conference – Auburn Hills
DESCRIPTION:This conference is for adults and students (6th-12th grade) and will be focused on experiencing freedom in regard to depression and anxiety. There will be worship\, services\, and breakout sessions focusing on the topic of mental health.  \n \nCome ready to learn from guest speaker Ty Buckingham. Ty is inordinately passionate about helping people understand Biblical truths in the most simplistic way possible. Both as a speaker and as the author\, for years he has traveled around the world\, preaching and teaching. His unassuming personality and speaking style make it simple and straightforward for anyone to receive from God.\n \nLink to more info and registration: https://myahcc.churchcenter.com/registrations/events/2076219
URL:https://myflr.org/event/freedom-conference-auburn-hills/
LOCATION:Auburn Hills Christian Center (Auburn Hills\, MI)\, 2592 E Walton Blvd\, Auburn Hills\, MI\, 48083\, United States
CATEGORIES:Michigan
ATTACH;FMTTYPE=image/png:https://eadn-wc05-15902914.nxedge.io/wp-content/uploads/2024/02/freedom-conference-24-graphic-Instagram-Post.png
END:VEVENT
BEGIN:VEVENT
DTSTART;TZID=America/Phoenix:20231013T190000
DTEND;TZID=America/Phoenix:20231013T203000
DTSTAMP:20260421T203831
CREATED:20231009T202157Z
LAST-MODIFIED:20231009T202157Z
UID:10016732-1697223600-1697229000@myflr.org
SUMMARY:LOL Show (Auburn Hills)
DESCRIPTION:The LOL Show features Randy\, Ben and Don who have been seen on cruise ships\, circuses\, and churches all around the world. The LOL show was created with families in mind and includes world class juggling\, amazing magic tricks and slapstick comedy. The show also includes a message about the JOY we can find in life when you have a relationship with Jesus. \nBring your family and invite your friends to a night of laughter and fun at the LOL Show! \nEvery child will get a treat bag! \nCost: $10 per family thru October 12 | $15 at the door
URL:https://myflr.org/event/lol-show-auburn-hills/
LOCATION:Auburn Hills Christian Center (Auburn Hills\, MI)\, 2592 E Walton Blvd\, Auburn Hills\, MI\, 48083\, United States
CATEGORIES:Michigan
ATTACH;FMTTYPE=image/png:https://eadn-wc05-15902914.nxedge.io/wp-content/uploads/2023/10/medium_image-1694098983334.png
END:VEVENT
END:VCALENDAR