
BEGIN:VCALENDAR
VERSION:2.0
PRODID:-//Family Life Radio - ECPv6.15.20//NONSGML v1.0//EN
CALSCALE:GREGORIAN
METHOD:PUBLISH
X-WR-CALNAME:Family Life Radio
X-ORIGINAL-URL:https://myflr.org
X-WR-CALDESC:Events for Family Life Radio
REFRESH-INTERVAL;VALUE=DURATION:PT1H
X-Robots-Tag:noindex
X-PUBLISHED-TTL:PT1H
BEGIN:VTIMEZONE
TZID:America/Detroit
BEGIN:DAYLIGHT
TZOFFSETFROM:-0500
TZOFFSETTO:-0400
TZNAME:EDT
DTSTART:20250309T070000
END:DAYLIGHT
BEGIN:STANDARD
TZOFFSETFROM:-0400
TZOFFSETTO:-0500
TZNAME:EST
DTSTART:20251102T060000
END:STANDARD
BEGIN:DAYLIGHT
TZOFFSETFROM:-0500
TZOFFSETTO:-0400
TZNAME:EDT
DTSTART:20260308T070000
END:DAYLIGHT
BEGIN:STANDARD
TZOFFSETFROM:-0400
TZOFFSETTO:-0500
TZNAME:EST
DTSTART:20261101T060000
END:STANDARD
BEGIN:DAYLIGHT
TZOFFSETFROM:-0500
TZOFFSETTO:-0400
TZNAME:EDT
DTSTART:20270314T070000
END:DAYLIGHT
BEGIN:STANDARD
TZOFFSETFROM:-0400
TZOFFSETTO:-0500
TZNAME:EST
DTSTART:20271107T060000
END:STANDARD
END:VTIMEZONE
BEGIN:VTIMEZONE
TZID:America/Phoenix
BEGIN:STANDARD
TZOFFSETFROM:-0700
TZOFFSETTO:-0700
TZNAME:MST
DTSTART:20240101T000000
END:STANDARD
END:VTIMEZONE
BEGIN:VEVENT
DTSTART;TZID=America/Detroit:20260404T150000
DTEND;TZID=America/Detroit:20260404T163000
DTSTAMP:20260419T210926
CREATED:20260330T151212Z
LAST-MODIFIED:20260330T151212Z
UID:10060023-1775314800-1775320200@myflr.org
SUMMARY:Community Easter Egg Hunt
DESCRIPTION:Free Community Easter Egg Hunt for kids 4 years old – 5th grade. Younger children with adult supervision. Bring a basket or bag for your goodies. There will be an Easter Story\, face painting\, a small animal petting zoo\, special egg drawing and etc. Easter Sunday service will begin at 9 a.m. with a free Easter Breakfast and Easter Worship will be at 10:30 a.m.
URL:https://myflr.org/event/community-easter-egg-hunt-4/
LOCATION:Aurelius Baptist Church (Mason\, MI)\, 4419 W Barnes Rd\, Mason\, MI\, 48854\, United States
CATEGORIES:Michigan
END:VEVENT
BEGIN:VEVENT
DTSTART;TZID=America/Phoenix:20251026T170000
DTEND;TZID=America/Phoenix:20251026T190000
DTSTAMP:20260419T210926
CREATED:20251009T194506Z
LAST-MODIFIED:20251009T194506Z
UID:10056680-1761498000-1761505200@myflr.org
SUMMARY:Family Fall Festival
DESCRIPTION:Come and share in a time of games\, food\, hayride\, a campfire\, goodie bags and more. Costumes are not encouraged but do dress warm for a fun evening. If you have yard chairs you might want to bring them. There is no cost and all are welcome!
URL:https://myflr.org/event/family-fall-festival/
LOCATION:Aurelius Baptist Church (Mason\, MI)\, 4419 W Barnes Rd\, Mason\, MI\, 48854\, United States
CATEGORIES:Michigan
END:VEVENT
END:VCALENDAR