
BEGIN:VCALENDAR
VERSION:2.0
PRODID:-//Family Life Radio - ECPv6.15.20//NONSGML v1.0//EN
CALSCALE:GREGORIAN
METHOD:PUBLISH
X-ORIGINAL-URL:https://myflr.org
X-WR-CALDESC:Events for Family Life Radio
REFRESH-INTERVAL;VALUE=DURATION:PT1H
X-Robots-Tag:noindex
X-PUBLISHED-TTL:PT1H
BEGIN:VTIMEZONE
TZID:America/Phoenix
BEGIN:STANDARD
TZOFFSETFROM:-0700
TZOFFSETTO:-0700
TZNAME:MST
DTSTART:20250101T000000
END:STANDARD
END:VTIMEZONE
BEGIN:VEVENT
DTSTART;TZID=America/Phoenix:20260512T163000
DTEND;TZID=America/Phoenix:20260512T190000
DTSTAMP:20260421T032755
CREATED:20251009T214814Z
LAST-MODIFIED:20251009T214829Z
UID:10056661-1778603400-1778612400@myflr.org
SUMMARY:Taco Tuesday (Boscobel)
DESCRIPTION:Stop by Back Roads Church Boscobel between 4:30-7pm for a delicious taco supper. Adults $6\, kids $4\, Under 5 Free. Carry-outs are available. Supports Youth Missions.
URL:https://myflr.org/event/taco-tuesday-boscobel/2026-05-12/
LOCATION:Back Roads Church Boscobel\, 107 W. Oak Street\, Boscobel\, WI\, 53805\, United States
CATEGORIES:Iowa,Wisconsin
ATTACH;FMTTYPE=image/jpeg:https://eadn-wc05-15902914.nxedge.io/wp-content/uploads/2025/10/SEPT-OCT-2025-MediaShout-2.jpg
ORGANIZER;CN="Back Roads Church":MAILTO:Dawn@backroadschurch.org
END:VEVENT
END:VCALENDAR