
BEGIN:VCALENDAR
VERSION:2.0
PRODID:-//Family Life Radio - ECPv6.15.20//NONSGML v1.0//EN
CALSCALE:GREGORIAN
METHOD:PUBLISH
X-WR-CALNAME:Family Life Radio
X-ORIGINAL-URL:https://myflr.org
X-WR-CALDESC:Events for Family Life Radio
REFRESH-INTERVAL;VALUE=DURATION:PT1H
X-Robots-Tag:noindex
X-PUBLISHED-TTL:PT1H
BEGIN:VTIMEZONE
TZID:America/Phoenix
BEGIN:STANDARD
TZOFFSETFROM:-0700
TZOFFSETTO:-0700
TZNAME:MST
DTSTART:20240101T000000
END:STANDARD
END:VTIMEZONE
BEGIN:VEVENT
DTSTART;TZID=America/Phoenix:20251121T190000
DTEND;TZID=America/Phoenix:20251121T193000
DTSTAMP:20260421T163919
CREATED:20251010T002553Z
LAST-MODIFIED:20251010T002553Z
UID:10056598-1763751600-1763753400@myflr.org
SUMMARY:Sidewalk Prophets Great Big Family Christmas
DESCRIPTION:The night features:\nA joy-filled Christmas concert with Sidewalk Prophet’s original holiday music\nBeloved hit songs you already know and love\nSpecial surprises throughout the evening\nA mission-driven finale: each show raises funds for a local charity or individual in need\nBring your friends\, bring your family—bring a stranger. This Christmas\, we’re all part of the Great Big Family\, and we’re going to celebrate together.
URL:https://myflr.org/event/sidewalk-prophets-great-big-family-christmas/
LOCATION:Beach Schmidt Performing Arts Center Fort Hays State University Campus\, 600 Park St Sheridan Hall\, Hays\, TN\, 67601\, United States
CATEGORIES:Kansas,Missouri
ATTACH;FMTTYPE=image/png:https://eadn-wc05-15902914.nxedge.io/wp-content/uploads/2025/09/Hays_Radio_QR_4x6.png
ORGANIZER;CN="Great Big Family Productions":MAILTO:info@greatbigfamilyproductions.com
END:VEVENT
END:VCALENDAR