
BEGIN:VCALENDAR
VERSION:2.0
PRODID:-//Family Life Radio - ECPv6.15.20//NONSGML v1.0//EN
CALSCALE:GREGORIAN
METHOD:PUBLISH
X-WR-CALNAME:Family Life Radio
X-ORIGINAL-URL:https://myflr.org
X-WR-CALDESC:Events for Family Life Radio
REFRESH-INTERVAL;VALUE=DURATION:PT1H
X-Robots-Tag:noindex
X-PUBLISHED-TTL:PT1H
BEGIN:VTIMEZONE
TZID:America/Phoenix
BEGIN:STANDARD
TZOFFSETFROM:-0700
TZOFFSETTO:-0700
TZNAME:MST
DTSTART:20220101T000000
END:STANDARD
END:VTIMEZONE
BEGIN:VTIMEZONE
TZID:America/Denver
BEGIN:DAYLIGHT
TZOFFSETFROM:-0700
TZOFFSETTO:-0600
TZNAME:MDT
DTSTART:20220313T090000
END:DAYLIGHT
BEGIN:STANDARD
TZOFFSETFROM:-0600
TZOFFSETTO:-0700
TZNAME:MST
DTSTART:20221106T080000
END:STANDARD
BEGIN:DAYLIGHT
TZOFFSETFROM:-0700
TZOFFSETTO:-0600
TZNAME:MDT
DTSTART:20230312T090000
END:DAYLIGHT
BEGIN:STANDARD
TZOFFSETFROM:-0600
TZOFFSETTO:-0700
TZNAME:MST
DTSTART:20231105T080000
END:STANDARD
BEGIN:DAYLIGHT
TZOFFSETFROM:-0700
TZOFFSETTO:-0600
TZNAME:MDT
DTSTART:20240310T090000
END:DAYLIGHT
BEGIN:STANDARD
TZOFFSETFROM:-0600
TZOFFSETTO:-0700
TZNAME:MST
DTSTART:20241103T080000
END:STANDARD
END:VTIMEZONE
BEGIN:VEVENT
DTSTART;TZID=America/Phoenix:20250726T120000
DTEND;TZID=America/Phoenix:20250726T160000
DTSTAMP:20260421T191006
CREATED:20250530T210304Z
LAST-MODIFIED:20250530T210549Z
UID:10045387-1753531200-1753545600@myflr.org
SUMMARY:Jump In2 School Bash 2025 (Bernalillo)
DESCRIPTION:91.5 FM Family Life Radio invites you along with Jump In2 School Bash 2025… \n???? CALLING ALL FAMILIES! ????FREE COMMUNITY EVENT – Don’t Miss It! \n???? 5th Annual Jump In2 School Bash ????We’re back—and BIGGER than ever! \n???? Date: Saturday\, July 26\, 2025⏰ Time: 12 PM – 4 PM???? Location: Bernalillo County Sheriff’s Posse Grounds \nJoin us for an EPIC back-to-school celebration packed with fun\, resources\, and support to help every child start the year strong! ???????? \n???? What to Expect:✅ FREE Backpacks & School Supplies✅ FREE Haircuts & Girls’ Manicures✅ Giveaways\, Prizes & Special Guests✅ LIVE Entertainment & Kids Activities✅ Law Enforcement Meet & Greets✅ Delicious FREE Food✅ THE BEST Foam Party in Town✅ Meet Your Favorite Princess & Orbit!✅ Western Theme – Prizes for Best Dressed ???? \n???? Over 4\,000 people expected!This isn’t just an event—it’s a movement to uplift\, empower\, and prepare our youth! ???? \nKids Waiver HERE! \nWant to DONATE Backpacks and school supplies? You can with their AMAZON WISH LIST! \nWant to be a DROP OFF LOCATION? Sign up HERE! \nCalling All Barbers & Nail Techs!\nWe are looking for Volunteer Barbers and Nail Technicians to provide Free haircuts and nail services for children at our Jump In2 School Bash! SIGN UP HERE! \nWant to be Vendor at the event? Sign up HERE! \n???? More Info: jumpin2schoolbash.org???? Invite your friends\, share the love\, and we’ll see you there! \n 
URL:https://myflr.org/event/jump-in2-school-bash-2025-bernalillo/
LOCATION:Bernalillo County Sheriffs Posse\, 10308 2nd St. NW\, Albuquerque\, NM\, 87114\, United States
CATEGORIES:Featured,New Mexico
ATTACH;FMTTYPE=image/png:https://eadn-wc05-15902914.nxedge.io/wp-content/uploads/2025/05/Jump-In2-School-Bash-2025-1.png
ORGANIZER;CN="Jump In2 School Bash":MAILTO:jumpin2schoolbash@gmail.com
END:VEVENT
BEGIN:VEVENT
DTSTART;TZID=America/Phoenix:20240720T120000
DTEND;TZID=America/Phoenix:20240720T160000
DTSTAMP:20260421T191006
CREATED:20240530T210844Z
LAST-MODIFIED:20240715T224101Z
UID:10027013-1721476800-1721491200@myflr.org
SUMMARY:‘Jump In2 School’ Supply Donation Drive 2024-AT EVENT ONLY now on July 20th
DESCRIPTION:91.5 FM Family Life Radio is partnering with Boss Wear Official and Jump In2 School Bash for making community impact unforgettable for Youth ages 6 yrs to 18 yrs old for the “Jump In2 School Bash” event\, July 20th\, 2024 in Albuquerque! We need your help!\nAt this FREE EVENT\, we will pass out free school supplies\, backpacks\, essential school supplies\, and necessary items to prepare children for school. Your collaboration will make a profound impact.\nOur goal is 3\,000 BACKPACKS for 2024…a 1\,000 Backpacks to 1\,000 kids for school\, each hour of the Jump In2 School Bash Event!\nWill you join us this year to help reach our goal?\nDROP OFF LOCATIONS are now  JUST AT THE EVENT! \nBring Backpacks or School Supplies donations to  “Jump In2 School Bash” event on July 20th 12pm-4pm at Bernalillo County Sheriff’s Posse at 10308 2nd St NW 87114 \n\n\n\n\n\n\n\n\n\n\n\n\n\n\n\n\n 
URL:https://myflr.org/event/jump-in2-school-supply-donation-drive-2024/
LOCATION:Bernalillo County Sheriffs Posse\, 10308 2nd St. NW\, Albuquerque\, NM\, 87114\, United States
CATEGORIES:Featured,New Mexico
ATTACH;FMTTYPE=image/jpeg:https://eadn-wc05-15902914.nxedge.io/wp-content/uploads/2024/05/JumpIn2SchoolbashDonations2024.jpg
END:VEVENT
BEGIN:VEVENT
DTSTART;TZID=America/Phoenix:20240720T120000
DTEND;TZID=America/Phoenix:20240720T160000
DTSTAMP:20260421T191006
CREATED:20240530T203522Z
LAST-MODIFIED:20240708T233417Z
UID:10027012-1721476800-1721491200@myflr.org
SUMMARY:Jump In2 School Bash 2024
DESCRIPTION:Jump In2 School Bash 2024\nSaturday\, July 20\, 2024 12:00pm-4:00pm\nBernalillo County Sheriffs Posse 10308 2nd St NW 87114\n4th Annual Bash\, a fun day dedicated to our Youth\, with activities\, games\, free backpacks\, school supplies\, music\, giveaways\, lots of surprises\, performances & attractions! ALL ARE WELCOME and is FREE! \nMust REGISTER TO ATTEND to recieve the FREE items+ Please go to: Jumpin2schoolbash.org under Events tab to sign Activity Waivers\, sign up for Free Hair Cuts\, Maincures\, Backpacks and more! \nCowboy & Cowgirl Contest-wear your Hats & Boots! \nFamily Life Radio 9.15 FM is a media sponsor\, emcee and will have our FLR Tent\, music\, giveaways and prizes! We’d love to see you! \nThe Mission at Jump In2 School Bash is to extend the reach to every child in New Mexico\, creating a safe and welcoming environment where they feel valued and empowered. By offering new backpacks and essential information\, we aim to introduce them to a world of possibilities and guide them in planning for their future beyond graduation. Through our event\, we aspire to instill hope\, provide resources for academic success\, and foster an atmosphere of love\, kindness\, and joy\, leaving each participant with a heart full of positivity and encouragement. \nWant to DONATE BACKPACKS and School Supplies for this event?  \nThere is 20 Drop Off Locations\, Go to: https://www.jumpin2schoolbash.org/
URL:https://myflr.org/event/jump-in2-school-bash-2024/
LOCATION:Bernalillo County Sheriffs Posse\, 10308 2nd St. NW\, Albuquerque\, NM\, 87114\, United States
CATEGORIES:Featured,New Mexico
ATTACH;FMTTYPE=image/jpeg:https://eadn-wc05-15902914.nxedge.io/wp-content/uploads/2024/05/Med-size-Jump-In2-School-Bash-2024-Updated.jpeg
ORGANIZER;CN="Jump In2 School Bash":MAILTO:jumpin2schoolbash@gmail.com
END:VEVENT
BEGIN:VEVENT
DTSTART;TZID=America/Phoenix:20230729T120000
DTEND;TZID=America/Phoenix:20230729T160000
DTSTAMP:20260421T191006
CREATED:20230712T141311Z
LAST-MODIFIED:20230712T141311Z
UID:10012457-1690632000-1690646400@myflr.org
SUMMARY:Jump In2 School Bash 2023
DESCRIPTION:Family Life Radio 91.5 FM & Boss Wear Official presents a FREE Family & Kids Event… \nJump In2 School Bash 2023 \nSaturday\, July 29\, 2023 \n12:00pm-4:00pm \nBernalillo Country Sheriffs Posse \n10308 2nd St NW 87114 \nWe will honor KIDS of all ages going back to school! Lots of free activities\, games\, FREE SCHOOL SUPPLIES\, music\, giveaways\, special guests\, performances\, free haircuts\, attractions\, petting zoo & much more! \n9.15 FM Family Life Radio\, Elisa Meyer & Pastor Steve Stucker will be co-emeceeing this event! \nOur non-profit we are honoring is LOCKER #505\, student’s clothing bank. \nWe will be collecting SCHOOL SUPPLY DONATIONS the whole month of JULY for this event\, so everyone who comes and needs schools supplies will be given free school supplies\, plus a FUN day with their families before going back to school! \nAny questions contact by email: jumpin2schoolbash@gmail.com 
URL:https://myflr.org/event/jump-in2-school-bash-2023-2/
LOCATION:Bernalillo County Sheriffs Posse\, 10308 2nd St. NW\, Albuquerque\, NM\, 87114\, United States
CATEGORIES:Featured,New Mexico
ATTACH;FMTTYPE=image/jpeg:https://eadn-wc05-15902914.nxedge.io/wp-content/uploads/2023/05/JumpIn2SchoolBash2023FLYER.jpg
END:VEVENT
BEGIN:VEVENT
DTSTART;TZID=America/Denver:20230724T190000
DTEND;TZID=America/Denver:20230724T210000
DTSTAMP:20260421T191006
CREATED:20230711T175159Z
LAST-MODIFIED:20230711T175159Z
UID:10012420-1690225200-1690232400@myflr.org
SUMMARY:Belonging Tour: Hosted by Enlightened Students Ministries
DESCRIPTION:Student-led musical worship\, testimonies\, and prayer time for schools in the community. Led by Gen Z for Gen Z! High schoolers and middle schoolers will leave encouraged and equipped to take on this school year with a Gospel mission!! This is also a free event you won’t want to miss!
URL:https://myflr.org/event/belonging-tour-hosted-by-enlightened-students-ministries/
LOCATION:Bernalillo County Sheriffs Posse\, 10308 2nd St. NW\, Albuquerque\, NM\, 87114\, United States
CATEGORIES:New Mexico
ATTACH;FMTTYPE=image/jpeg:https://eadn-wc05-15902914.nxedge.io/wp-content/uploads/2023/07/IMG_3458.jpeg
END:VEVENT
END:VCALENDAR