
BEGIN:VCALENDAR
VERSION:2.0
PRODID:-//Family Life Radio - ECPv6.15.19//NONSGML v1.0//EN
CALSCALE:GREGORIAN
METHOD:PUBLISH
X-WR-CALNAME:Family Life Radio
X-ORIGINAL-URL:https://myflr.org
X-WR-CALDESC:Events for Family Life Radio
REFRESH-INTERVAL;VALUE=DURATION:PT1H
X-Robots-Tag:noindex
X-PUBLISHED-TTL:PT1H
BEGIN:VTIMEZONE
TZID:America/Detroit
BEGIN:DAYLIGHT
TZOFFSETFROM:-0500
TZOFFSETTO:-0400
TZNAME:EDT
DTSTART:20240310T070000
END:DAYLIGHT
BEGIN:STANDARD
TZOFFSETFROM:-0400
TZOFFSETTO:-0500
TZNAME:EST
DTSTART:20241103T060000
END:STANDARD
BEGIN:DAYLIGHT
TZOFFSETFROM:-0500
TZOFFSETTO:-0400
TZNAME:EDT
DTSTART:20250309T070000
END:DAYLIGHT
BEGIN:STANDARD
TZOFFSETFROM:-0400
TZOFFSETTO:-0500
TZNAME:EST
DTSTART:20251102T060000
END:STANDARD
BEGIN:DAYLIGHT
TZOFFSETFROM:-0500
TZOFFSETTO:-0400
TZNAME:EDT
DTSTART:20260308T070000
END:DAYLIGHT
BEGIN:STANDARD
TZOFFSETFROM:-0400
TZOFFSETTO:-0500
TZNAME:EST
DTSTART:20261101T060000
END:STANDARD
END:VTIMEZONE
BEGIN:VTIMEZONE
TZID:America/Phoenix
BEGIN:STANDARD
TZOFFSETFROM:-0700
TZOFFSETTO:-0700
TZNAME:MST
DTSTART:20220101T000000
END:STANDARD
END:VTIMEZONE
BEGIN:VEVENT
DTSTART;TZID=America/Detroit:20250321T190000
DTEND;TZID=America/Detroit:20250321T213000
DTSTAMP:20260419T155500
CREATED:20250122T191345Z
LAST-MODIFIED:20250122T191345Z
UID:10038893-1742583600-1742592600@myflr.org
SUMMARY:Legacy Five Concert – Belleville
DESCRIPTION:Legacy Five Concert \nFriday\, March 21\, 2025 at 7:00 pm\n(doors open at 6pm) \nat Bethany Bible Church\n810 E. Huron River Dr. – Belleville\, MI \nwww.bethanybiblechurch.com \nTickets:\nArtist Circle: $20\nGeneral Seating: $15 (advance)\nGeneral Seating: $16 (at the door)\nChildren 14 & under – Free
URL:https://myflr.org/event/legacy-five-concert-belleville-2/
LOCATION:Bethany Bible Church (Belleville\, MI)\, 810 E. Huron River Drive\, Belleville\, MI\, 48111\, United States
CATEGORIES:Michigan
ATTACH;FMTTYPE=image/jpeg:https://eadn-wc05-15902914.nxedge.io/wp-content/uploads/2025/01/L5-3.jpg
END:VEVENT
BEGIN:VEVENT
DTSTART;TZID=America/Phoenix:20240322T190000
DTEND;TZID=America/Phoenix:20240322T190000
DTSTAMP:20260419T155500
CREATED:20240108T201749Z
LAST-MODIFIED:20240116T194824Z
UID:10019477-1711134000-1711134000@myflr.org
SUMMARY:Legacy Five Concert (Belleville)
DESCRIPTION:Legacy Five Concert\nFriday\, March 22\, 2024\n7:00 p.m. (doors open at 6 p.m.)\nBethany Bible Church\n810 E. Huron River Drive\nBelleville\, MI 48111\n(734)697-7456
URL:https://myflr.org/event/legacy-five-concert-belleville/
LOCATION:Bethany Bible Church (Belleville\, MI)\, 810 E. Huron River Drive\, Belleville\, MI\, 48111\, United States
CATEGORIES:Michigan
ATTACH;FMTTYPE=image/jpeg:https://eadn-wc05-15902914.nxedge.io/wp-content/uploads/2024/01/legacy-five-scaled.jpg
END:VEVENT
BEGIN:VEVENT
DTSTART;TZID=America/Phoenix:20230422T180000
DTEND;TZID=America/Phoenix:20230422T210000
DTSTAMP:20260419T155500
CREATED:20230313T195617Z
LAST-MODIFIED:20230313T195617Z
UID:10007862-1682186400-1682197200@myflr.org
SUMMARY:Legacy Five Concert
DESCRIPTION:Legacy Five Gospel Concert\nSaturday\, April 22\, 2023 at 6:00 p.m. (doors open at 5:00 p.m.) \nBethany Bible Church\n810 E. Huron River Drive\nBelleville\, MI 48111\nwww.bethanybiblechurch.com \nTickets:\nArtist Circle: $20\nGeneral seating: $15 advance ($16 at the door)\n$7.00 for kids 12 and under
URL:https://myflr.org/event/legacy-five-concert/2023-04-22/2/
LOCATION:Bethany Bible Church (Belleville\, MI)\, 810 E. Huron River Drive\, Belleville\, MI\, 48111\, United States
CATEGORIES:Michigan
END:VEVENT
END:VCALENDAR