
BEGIN:VCALENDAR
VERSION:2.0
PRODID:-//Family Life Radio - ECPv6.15.20//NONSGML v1.0//EN
CALSCALE:GREGORIAN
METHOD:PUBLISH
X-WR-CALNAME:Family Life Radio
X-ORIGINAL-URL:https://myflr.org
X-WR-CALDESC:Events for Family Life Radio
REFRESH-INTERVAL;VALUE=DURATION:PT1H
X-Robots-Tag:noindex
X-PUBLISHED-TTL:PT1H
BEGIN:VTIMEZONE
TZID:America/Detroit
BEGIN:DAYLIGHT
TZOFFSETFROM:-0500
TZOFFSETTO:-0400
TZNAME:EDT
DTSTART:20230312T070000
END:DAYLIGHT
BEGIN:STANDARD
TZOFFSETFROM:-0400
TZOFFSETTO:-0500
TZNAME:EST
DTSTART:20231105T060000
END:STANDARD
BEGIN:DAYLIGHT
TZOFFSETFROM:-0500
TZOFFSETTO:-0400
TZNAME:EDT
DTSTART:20240310T070000
END:DAYLIGHT
BEGIN:STANDARD
TZOFFSETFROM:-0400
TZOFFSETTO:-0500
TZNAME:EST
DTSTART:20241103T060000
END:STANDARD
BEGIN:DAYLIGHT
TZOFFSETFROM:-0500
TZOFFSETTO:-0400
TZNAME:EDT
DTSTART:20250309T070000
END:DAYLIGHT
BEGIN:STANDARD
TZOFFSETFROM:-0400
TZOFFSETTO:-0500
TZNAME:EST
DTSTART:20251102T060000
END:STANDARD
END:VTIMEZONE
BEGIN:VEVENT
DTSTART;TZID=America/Detroit:20240712T210000
DTEND;TZID=America/Detroit:20240712T233000
DTSTAMP:20260421T202538
CREATED:20240715T165504Z
LAST-MODIFIED:20240715T165504Z
UID:10031105-1720818000-1720827000@myflr.org
SUMMARY:Family Drive-In Movie Night – Belleville
DESCRIPTION:Friday\, July 12th\, Bethlehem Baptist is having a family drive in movie night! We will be showing the new musical Journey to Bethlehem. The best part of this that the actual events are much more amazing than the film! We hope to see you there. This is a free event\, we will even provide the popcorn. \n960 E. Huron River Dr. Belleville MI
URL:https://myflr.org/event/family-drive-in-movie-night-belleville/
LOCATION:bethlehem Baptist Church\, 960 E. Huron River Dr.\, Belleville\, MI\, 48111\, United States
CATEGORIES:Michigan
END:VEVENT
END:VCALENDAR