
BEGIN:VCALENDAR
VERSION:2.0
PRODID:-//Family Life Radio - ECPv6.15.20//NONSGML v1.0//EN
CALSCALE:GREGORIAN
METHOD:PUBLISH
X-ORIGINAL-URL:https://myflr.org
X-WR-CALDESC:Events for Family Life Radio
REFRESH-INTERVAL;VALUE=DURATION:PT1H
X-Robots-Tag:noindex
X-PUBLISHED-TTL:PT1H
BEGIN:VTIMEZONE
TZID:America/Phoenix
BEGIN:STANDARD
TZOFFSETFROM:-0700
TZOFFSETTO:-0700
TZNAME:MST
DTSTART:20220101T000000
END:STANDARD
END:VTIMEZONE
BEGIN:VEVENT
DTSTART;TZID=America/Phoenix:20250220T160000
DTEND;TZID=America/Phoenix:20250220T200000
DTSTAMP:20260421T195614
CREATED:20250117T153012Z
LAST-MODIFIED:20250117T153012Z
UID:10038776-1740067200-1740081600@myflr.org
SUMMARY:Warrior Beach Retreat Salute
DESCRIPTION:Hosting a Parade and Ceremony on Thursday\, February 20\, 2025. Parade to start @ Pier Park\, departs at 4:00 PM. All those who want to ride in the parade with their motorcycle are welcome. Please take a look at the website for details. Line the street of the parade- shown on the website. The parade will not travel to Panama City\, it will only travel on the beach because the ceremony will be held @ Boardwalk Beach Convention Center\, 6900 S Thomas Dr\, PBC @ 7:00 PM. The ceremony is free and open to the public. The guest speaker will be US Army Retired Lieutenant Colonel Allen West (former US Congressman). We will honor 8 combat-wounded warriors from all across the country\, a WWII veteran & Vietnam veterans at the ceremony. See our website www.warriorbeachretreat.org for the parade details.
URL:https://myflr.org/event/warrior-beach-retreat-salute-3/
LOCATION:Boardwalk Beach Resort (Panama City Beach\, FL)\, 9600 South Thomas Drive\, Panama City Beach\, FL\, 32405\, United States
CATEGORIES:Florida
ORGANIZER;CN="Warrior Beach Retreat Inc":MAILTO:warriorbeachretreatinc@gmail.com
END:VEVENT
BEGIN:VEVENT
DTSTART;TZID=America/Phoenix:20241114T190000
DTEND;TZID=America/Phoenix:20241114T210000
DTSTAMP:20260421T195614
CREATED:20241002T143215Z
LAST-MODIFIED:20241029T235139Z
UID:10036648-1731610800-1731618000@myflr.org
SUMMARY:A Night to Honor Israel
DESCRIPTION:We invite you to take a show solidarity with the State of Israel and the Jewish people. Pray for peace in the middle east.
URL:https://myflr.org/event/a-night-to-honor-israel/
LOCATION:Boardwalk Beach Resort (Panama City Beach\, FL)\, 9600 South Thomas Drive\, Panama City Beach\, FL\, 32405\, United States
CATEGORIES:Featured,Florida
ATTACH;FMTTYPE=image/jpeg:https://eadn-wc05-15902914.nxedge.io/wp-content/uploads/2024/10/A-Night-to-Honor-Israel-event-flyer-IMG_9434.jpg
ORGANIZER;CN="Christians United for Israel":MAILTO:concierge@cufi.org
END:VEVENT
BEGIN:VEVENT
DTSTART;TZID=America/Phoenix:20230711T190000
DTEND;TZID=America/Phoenix:20230711T203000
DTSTAMP:20260421T195614
CREATED:20230711T125036Z
LAST-MODIFIED:20230711T125036Z
UID:10012417-1689102000-1689107400@myflr.org
SUMMARY:AnthemEdition Concert
DESCRIPTION:Free gospel concert hosted by Bayou George Christian Church. A love offering will be collected.
URL:https://myflr.org/event/anthemedition-concert/
LOCATION:Boardwalk Beach Resort (Panama City Beach\, FL)\, 9600 South Thomas Drive\, Panama City Beach\, FL\, 32405\, United States
CATEGORIES:Florida
END:VEVENT
END:VCALENDAR