
BEGIN:VCALENDAR
VERSION:2.0
PRODID:-//Family Life Radio - ECPv6.15.20//NONSGML v1.0//EN
CALSCALE:GREGORIAN
METHOD:PUBLISH
X-WR-CALNAME:Family Life Radio
X-ORIGINAL-URL:https://myflr.org
X-WR-CALDESC:Events for Family Life Radio
REFRESH-INTERVAL;VALUE=DURATION:PT1H
X-Robots-Tag:noindex
X-PUBLISHED-TTL:PT1H
BEGIN:VTIMEZONE
TZID:America/Detroit
BEGIN:DAYLIGHT
TZOFFSETFROM:-0500
TZOFFSETTO:-0400
TZNAME:EDT
DTSTART:20240310T070000
END:DAYLIGHT
BEGIN:STANDARD
TZOFFSETFROM:-0400
TZOFFSETTO:-0500
TZNAME:EST
DTSTART:20241103T060000
END:STANDARD
BEGIN:DAYLIGHT
TZOFFSETFROM:-0500
TZOFFSETTO:-0400
TZNAME:EDT
DTSTART:20250309T070000
END:DAYLIGHT
BEGIN:STANDARD
TZOFFSETFROM:-0400
TZOFFSETTO:-0500
TZNAME:EST
DTSTART:20251102T060000
END:STANDARD
BEGIN:DAYLIGHT
TZOFFSETFROM:-0500
TZOFFSETTO:-0400
TZNAME:EDT
DTSTART:20260308T070000
END:DAYLIGHT
BEGIN:STANDARD
TZOFFSETFROM:-0400
TZOFFSETTO:-0500
TZNAME:EST
DTSTART:20261101T060000
END:STANDARD
END:VTIMEZONE
BEGIN:VEVENT
DTSTART;TZID=America/Detroit:20251224T190000
DTEND;TZID=America/Detroit:20251224T210000
DTSTAMP:20260421T135725
CREATED:20251203T213346Z
LAST-MODIFIED:20251203T213346Z
UID:10057767-1766602800-1766610000@myflr.org
SUMMARY:Bridgeport\, MI Christmas Eve Worship
DESCRIPTION:We invite you to join us as Bridgeport comes together to celebrate the birth of our Savior Jesus Christ! We will gather at Bridgeport Community Church at 7pm on December 24th for a night of Restoration\, Worship\, and Revival. For Christmas has always been a time for celebration and fellowship with family\, friends\, and the community! We encourage you to be the change you wish to see in the world. Every journey for change begins with a single step. Let that first step be to join the community at Christmas. We can wait to have you here with us as we celebrate and change the world together at Bridgeport Community Church!
URL:https://myflr.org/event/bridgeport-mi-christmas-eve-worship/
LOCATION:Bridgeport Community Church (Bridgeport\, MI)\, 3821 State St\, Bridgeport\, MI\, 48722\, United States
CATEGORIES:Michigan
ATTACH;FMTTYPE=image/jpeg:https://eadn-wc05-15902914.nxedge.io/wp-content/uploads/2025/11/17641591004762.jpg
ORGANIZER;CN="Bridgeport Community Church%2C 3821 State St.%2C Bridgeport%2C MI 49722":MAILTO:bcccommchurch@att.net
END:VEVENT
BEGIN:VEVENT
DTSTART;TZID=America/Detroit:20250907T113000
DTEND;TZID=America/Detroit:20250907T160000
DTSTAMP:20260421T135725
CREATED:20250827T172703Z
LAST-MODIFIED:20250827T172703Z
UID:10051234-1757244600-1757260800@myflr.org
SUMMARY:Love Amidst The Chaos 2025
DESCRIPTION:Bridgeport Community Church\, 3821 State St.\, Bridgeport\, MI 48722 welcomes you to your Community Celebration and Sunday School Kickoff! \nSeptember is a Beautiful Month To Celebrate Bridgeport! Bridgeport Community Church is celebrating\, not only\, the incredible place we live\, but all of you who live in our community. For each of the residents of Bridgeport and the Great Lakes Bay Region\, including and especially you\, have a unique and valuable story. We value everything that you bring to Bridgeport and the Great Lakes Bay Region. Here at Bridgeport Community Church we see each of you and want to celebrate with you. For\, Jesus loves you and so do we! We will have a bounce house\, exciting activities\, music\, community resources\, the opportunity to purchase some yummy food from Smoking 7’s BBQ\, Big Pete’s Street Tacos\, and Kona Ice\, and so much more. Join us for this campus wide event where we are inviting the community in to celebrate. While we are celebrating\, we will kick off our sunday school program and showcase all that Bridgeport Community Church has to offer. Don’t miss out on the event that is here to celebrate you and the Hope\, Love\, Joy\, Peace & Grace that is yours through Jesus! For the full experience\, come early at 945am and worship with us! We can’t wait to see you there!
URL:https://myflr.org/event/love-amidst-the-chaos-2025/
LOCATION:Bridgeport Community Church (Bridgeport\, MI)\, 3821 State St\, Bridgeport\, MI\, 48722\, United States
CATEGORIES:Michigan
ATTACH;FMTTYPE=image/jpeg:https://eadn-wc05-15902914.nxedge.io/wp-content/uploads/2025/08/IMG_20250824_1358007903-scaled.jpg
ORGANIZER;CN="Bridgeport Community Church%2C 3821 State St.%2C Bridgeport%2C MI 49722":MAILTO:bcccommchurch@att.net
END:VEVENT
END:VCALENDAR