
BEGIN:VCALENDAR
VERSION:2.0
PRODID:-//Family Life Radio - ECPv6.15.20//NONSGML v1.0//EN
CALSCALE:GREGORIAN
METHOD:PUBLISH
X-WR-CALNAME:Family Life Radio
X-ORIGINAL-URL:https://myflr.org
X-WR-CALDESC:Events for Family Life Radio
REFRESH-INTERVAL;VALUE=DURATION:PT1H
X-Robots-Tag:noindex
X-PUBLISHED-TTL:PT1H
BEGIN:VTIMEZONE
TZID:America/Phoenix
BEGIN:STANDARD
TZOFFSETFROM:-0700
TZOFFSETTO:-0700
TZNAME:MST
DTSTART:20220101T000000
END:STANDARD
END:VTIMEZONE
BEGIN:VEVENT
DTSTART;TZID=America/Phoenix:20240827T083000
DTEND;TZID=America/Phoenix:20240827T160000
DTSTAMP:20260420T022543
CREATED:20240627T180119Z
LAST-MODIFIED:20240627T180119Z
UID:10029879-1724747400-1724774400@myflr.org
SUMMARY:Work with Purpose Conference
DESCRIPTION:Join us for a one-day conference that will equip you to fulfill God’s purpose right where you are in the marketplace.
URL:https://myflr.org/event/work-with-purpose-conference/
LOCATION:Buddy Holly Hall\, 1300 Mac Davis Ln\, Lubboc\,k\, 79401\, United States
CATEGORIES:Texas
ATTACH;FMTTYPE=image/jpeg:https://eadn-wc05-15902914.nxedge.io/wp-content/uploads/2024/06/WWPNewsletter.jpg
END:VEVENT
BEGIN:VEVENT
DTSTART;TZID=America/Phoenix:20231030T193000
DTEND;TZID=America/Phoenix:20231030T220000
DTSTAMP:20260420T022543
CREATED:20230620T232403Z
LAST-MODIFIED:20230907T223239Z
UID:10011296-1698694200-1698703200@myflr.org
SUMMARY:CASTING CROWNS 20TH ANNIVERSARY TOUR-LUBBOCK
DESCRIPTION:Family Life Radio and & Live Show Events presents\, multi-platinum selling Grammy winners Casting Crowns will take their powerful live performances on the road this fall with The Casting Crowns 20thAnniversary Tour: A Live Symphony Experience. \nFeaturing hit songs from the band’s current chart-topping Healer album (“Scars In Heaven\,” “Crazy People”)\, concert goers will also experience a night of worship like no other celebrating an incredible 20-year repertoire of songs like “Only Jesus\,” “Nobody\,” “Praise You In This Storm\,” “East To West” and many more. For the first time ever\, Casting Crowns will be joined by a live symphony on this special anniversary tour. \nWith more than 12 million albums sold and multiple Grammy\, Dove and American Music Awards to their name\, Casting Crowns might be best known for their fan-favorite live concert events – and The Casting Crowns 20th Anniversary Tour promises to be no different and they will be in LUBBOCK\, TEXAS at Buddy Holly Hall on Oct. 30th at 7:30pm-10pm! \nDoors Open: 6:30pm \nVIP: 6:15pm \n  \nGet your NOW: TICKETS \n 
URL:https://myflr.org/event/casting-crowns-20th-anniversary-tour-lubbock/
LOCATION:Buddy Holly Hall\, 1300 Mac Davis Ln\, Lubboc\,k\, 79401\, United States
CATEGORIES:Featured,Texas
ATTACH;FMTTYPE=image/jpeg:https://eadn-wc05-15902914.nxedge.io/wp-content/uploads/2023/06/KAMY-Casting-Crowns-Image-2023.jpg
END:VEVENT
END:VCALENDAR