
BEGIN:VCALENDAR
VERSION:2.0
PRODID:-//Family Life Radio - ECPv6.15.20//NONSGML v1.0//EN
CALSCALE:GREGORIAN
METHOD:PUBLISH
X-ORIGINAL-URL:https://myflr.org
X-WR-CALDESC:Events for Family Life Radio
REFRESH-INTERVAL;VALUE=DURATION:PT1H
X-Robots-Tag:noindex
X-PUBLISHED-TTL:PT1H
BEGIN:VTIMEZONE
TZID:America/Phoenix
BEGIN:STANDARD
TZOFFSETFROM:-0700
TZOFFSETTO:-0700
TZNAME:MST
DTSTART:20220101T000000
END:STANDARD
END:VTIMEZONE
BEGIN:VEVENT
DTSTART;TZID=America/Phoenix:20241102T160000
DTEND;TZID=America/Phoenix:20241102T180000
DTSTAMP:20260421T172344
CREATED:20241008T191019Z
LAST-MODIFIED:20241008T191019Z
UID:10036678-1730563200-1730570400@myflr.org
SUMMARY:Falling into Grace Fundraiser
DESCRIPTION:Come enjoy some food and learn about Eagles Wings of Grace. We will be sharing our ministry purpose and how Eagles is making a difference in the lives of women in need. Our Clothing ministry provides all essential items women need to get on track to getting a job and becoming a viable asset to our community. Your financial support is vital for Eagles to continue blessing women in need. We are on track to serve over 700 clients this year.
URL:https://myflr.org/event/falling-into-grace-fundraiser/
LOCATION:Cafe A La C’art\, 150 N Main Avenue\, Tucson\, AZ\, 85701\, United States
CATEGORIES:Arizona
ATTACH;FMTTYPE=image/png:https://eadn-wc05-15902914.nxedge.io/wp-content/uploads/2024/10/Logo-PNG.png
ORGANIZER;CN="Vicki Holaday":MAILTO:jacline@eagleswingsofgrace.org
END:VEVENT
BEGIN:VEVENT
DTSTART;TZID=America/Phoenix:20231104T153000
DTEND;TZID=America/Phoenix:20231104T173000
DTSTAMP:20260421T172344
CREATED:20231016T134135Z
LAST-MODIFIED:20231017T174622Z
UID:10016770-1699111800-1699119000@myflr.org
SUMMARY:“Falling Into Grace”
DESCRIPTION:Eagles Wings of Grace’s Fall Fundraiser\n100% of the proceeds go directly to cover overhead. Come help support the leading Women’s Clothing Ministry in Arizona.
URL:https://myflr.org/event/falling-into-grace/
LOCATION:Cafe A La C’art\, 150 N Main Avenue\, Tucson\, AZ\, 85701\, United States
CATEGORIES:Arizona
ATTACH;FMTTYPE=image/jpeg:https://eadn-wc05-15902914.nxedge.io/wp-content/uploads/2023/10/20231014_142627.jpg
END:VEVENT
END:VCALENDAR