
BEGIN:VCALENDAR
VERSION:2.0
PRODID:-//Family Life Radio - ECPv6.15.20//NONSGML v1.0//EN
CALSCALE:GREGORIAN
METHOD:PUBLISH
X-ORIGINAL-URL:https://myflr.org
X-WR-CALDESC:Events for Family Life Radio
REFRESH-INTERVAL;VALUE=DURATION:PT1H
X-Robots-Tag:noindex
X-PUBLISHED-TTL:PT1H
BEGIN:VTIMEZONE
TZID:America/Detroit
BEGIN:DAYLIGHT
TZOFFSETFROM:-0500
TZOFFSETTO:-0400
TZNAME:EDT
DTSTART:20250309T070000
END:DAYLIGHT
BEGIN:STANDARD
TZOFFSETFROM:-0400
TZOFFSETTO:-0500
TZNAME:EST
DTSTART:20251102T060000
END:STANDARD
BEGIN:DAYLIGHT
TZOFFSETFROM:-0500
TZOFFSETTO:-0400
TZNAME:EDT
DTSTART:20260308T070000
END:DAYLIGHT
BEGIN:STANDARD
TZOFFSETFROM:-0400
TZOFFSETTO:-0500
TZNAME:EST
DTSTART:20261101T060000
END:STANDARD
BEGIN:DAYLIGHT
TZOFFSETFROM:-0500
TZOFFSETTO:-0400
TZNAME:EDT
DTSTART:20270314T070000
END:DAYLIGHT
BEGIN:STANDARD
TZOFFSETFROM:-0400
TZOFFSETTO:-0500
TZNAME:EST
DTSTART:20271107T060000
END:STANDARD
END:VTIMEZONE
BEGIN:VEVENT
DTSTART;TZID=America/Detroit:20260514T190000
DTEND;TZID=America/Detroit:20260514T203000
DTSTAMP:20260420T221047
CREATED:20260421T001210Z
LAST-MODIFIED:20260421T001210Z
UID:10060324-1778785200-1778790600@myflr.org
SUMMARY:Community Christian Singles Program Night - "Addiction: A Christian Perspective"
DESCRIPTION:Learn about the primary avenues into addictions\, and how they affect the brain. Receive an understanding of how the loss of choice\, and the role of guilt and shame play into the process. Most importantly\, receive key insights to help on the road to recovery. Lastly\, how can we best support loved one dealing with an addiction? Pastor Kevin Maginity\, of Connection Christian Fellowship\, shares on this vital topic.
URL:https://myflr.org/event/community-christian-singles-program-night-addiction-a-christian-perspective/
LOCATION:Caledonia Township Hall (Owosso\, MI)\, 135 N. State Rd.\, Owosso\, MI\, 48867\, United States
CATEGORIES:Michigan
ATTACH;FMTTYPE=image/jpeg:https://eadn-wc05-15902914.nxedge.io/wp-content/uploads/2026/04/brochure-picture-2.jpg
ORGANIZER;CN="Community Christian Singles":MAILTO:joyenlow@gmail.com
END:VEVENT
END:VCALENDAR