
BEGIN:VCALENDAR
VERSION:2.0
PRODID:-//Family Life Radio - ECPv6.15.20//NONSGML v1.0//EN
CALSCALE:GREGORIAN
METHOD:PUBLISH
X-ORIGINAL-URL:https://myflr.org
X-WR-CALDESC:Events for Family Life Radio
REFRESH-INTERVAL;VALUE=DURATION:PT1H
X-Robots-Tag:noindex
X-PUBLISHED-TTL:PT1H
BEGIN:VTIMEZONE
TZID:America/Detroit
BEGIN:DAYLIGHT
TZOFFSETFROM:-0500
TZOFFSETTO:-0400
TZNAME:EDT
DTSTART:20250309T070000
END:DAYLIGHT
BEGIN:STANDARD
TZOFFSETFROM:-0400
TZOFFSETTO:-0500
TZNAME:EST
DTSTART:20251102T060000
END:STANDARD
BEGIN:DAYLIGHT
TZOFFSETFROM:-0500
TZOFFSETTO:-0400
TZNAME:EDT
DTSTART:20260308T070000
END:DAYLIGHT
BEGIN:STANDARD
TZOFFSETFROM:-0400
TZOFFSETTO:-0500
TZNAME:EST
DTSTART:20261101T060000
END:STANDARD
BEGIN:DAYLIGHT
TZOFFSETFROM:-0500
TZOFFSETTO:-0400
TZNAME:EDT
DTSTART:20270314T070000
END:DAYLIGHT
BEGIN:STANDARD
TZOFFSETFROM:-0400
TZOFFSETTO:-0500
TZNAME:EST
DTSTART:20271107T060000
END:STANDARD
END:VTIMEZONE
BEGIN:VTIMEZONE
TZID:America/Phoenix
BEGIN:STANDARD
TZOFFSETFROM:-0700
TZOFFSETTO:-0700
TZNAME:MST
DTSTART:20220101T000000
END:STANDARD
END:VTIMEZONE
BEGIN:VEVENT
DTSTART;TZID=America/Detroit:20260418T140000
DTEND;TZID=America/Detroit:20260418T180000
DTSTAMP:20260419T161611
CREATED:20260317T135039Z
LAST-MODIFIED:20260317T135039Z
UID:10059962-1776520800-1776535200@myflr.org
SUMMARY:Calvary Christian Academy Silent/Live Auction
DESCRIPTION:Please join us for our annual silent/live auction at Calvary Christian Academy! 100s of items to bid on including gift cards\, gift baskets\, larger items like sheds\, experiences\, and concert tickets. Proceeds go to support the school. Bake sale and concessions are also available and go towards the 8th grade trip. Come find some great items and have a fun time! This event is free to attend.
URL:https://myflr.org/event/calvary-christian-academy-silent-live-auction-2/
LOCATION:Calvary Baptist Church (West Branch\, MI)\, 235 Minzer Court\, West Branch\, MI\, 48661\, United States
CATEGORIES:Michigan
ATTACH;FMTTYPE=image/jpeg:https://eadn-wc05-15902914.nxedge.io/wp-content/uploads/2026/03/CCA-FLyer-White.jpg
ORGANIZER;CN="Calvary Christian Academy":MAILTO:ccawbschool@gmail.com
END:VEVENT
BEGIN:VEVENT
DTSTART;TZID=America/Detroit:20260418T140000
DTEND;TZID=America/Detroit:20260418T180000
DTSTAMP:20260419T161611
CREATED:20260226T173302Z
LAST-MODIFIED:20260226T173302Z
UID:10059106-1776520800-1776535200@myflr.org
SUMMARY:Calvary Christian Academy Fundraiser
DESCRIPTION:Both a live and silent auction. Helps school and with scholarships. Hundreds of Big and Little items to bid on. You can see many listed on FB event page.
URL:https://myflr.org/event/calvary-christian-academy-fundraiser/
LOCATION:Calvary Baptist Church (West Branch\, MI)\, 235 Minzer Court\, West Branch\, MI\, 48661\, United States
CATEGORIES:Michigan
ATTACH;FMTTYPE=image/jpeg:https://eadn-wc05-15902914.nxedge.io/wp-content/uploads/2026/02/IMG_9911-scaled.jpeg
END:VEVENT
BEGIN:VEVENT
DTSTART;TZID=America/Phoenix:20230429T140000
DTEND;TZID=America/Phoenix:20230429T180000
DTSTAMP:20260419T161611
CREATED:20230404T183922Z
LAST-MODIFIED:20230404T183922Z
UID:10008327-1682776800-1682791200@myflr.org
SUMMARY:Calvary Christian Academy 6th Annual Silent/Live Auction
DESCRIPTION:You are invited to the 6th Annual Silent/Live Auction at Calvary Christian Academy\nSaturday April 29\, 2023\n2:00pm-6:00pm\nCalvary Baptist Church Gymnasium\n235 Minzer Court\, West Branch \n100’s of items to bid on including area gift cards and\ncertificates\, gift bags\, and much more!! \nHave something to donate? Contact us at 989-709-0579 or 989-709-8172\nAll proceeds go to support the school in providing Christian education.
URL:https://myflr.org/event/calvary-christian-academy-6th-annual-silent-live-auction/
LOCATION:Calvary Baptist Church (West Branch\, MI)\, 235 Minzer Court\, West Branch\, MI\, 48661\, United States
CATEGORIES:Michigan
ATTACH;FMTTYPE=image/png:https://eadn-wc05-15902914.nxedge.io/wp-content/uploads/2023/04/cca_logo_2.png
ORGANIZER;CN="Calvary Christian Adademy":MAILTO:cwnahs@gmail.com
END:VEVENT
END:VCALENDAR