
BEGIN:VCALENDAR
VERSION:2.0
PRODID:-//Family Life Radio - ECPv6.15.20//NONSGML v1.0//EN
CALSCALE:GREGORIAN
METHOD:PUBLISH
X-WR-CALNAME:Family Life Radio
X-ORIGINAL-URL:https://myflr.org
X-WR-CALDESC:Events for Family Life Radio
REFRESH-INTERVAL;VALUE=DURATION:PT1H
X-Robots-Tag:noindex
X-PUBLISHED-TTL:PT1H
BEGIN:VTIMEZONE
TZID:America/Phoenix
BEGIN:STANDARD
TZOFFSETFROM:-0700
TZOFFSETTO:-0700
TZNAME:MST
DTSTART:20240101T000000
END:STANDARD
END:VTIMEZONE
BEGIN:VEVENT
DTSTART;TZID=America/Phoenix:20260331T183000
DTEND;TZID=America/Phoenix:20260331T203000
DTSTAMP:20260421T053814
CREATED:20260218T232148Z
LAST-MODIFIED:20260218T232148Z
UID:10059037-1774981800-1774989000@myflr.org
SUMMARY:Sheologie Ever Spoken Women's Bible Study
DESCRIPTION:Have you ever wanted to study the ancient biblical manuscripts and understand the Bible beyond the limits of English translation? \nJoin Lenya Heitzig and Sheologie this March for Ever Spoken: The Language of Scripture\, a captivating journey into the original languages of Scripture: Hebrew\, Aramaic\, and Greek. Discover the layers of meaning in words like love\, eros\, phileo\, and agape\, and be inspired by the revival of Hebrew\, the language God first spoke to His people. \nThis Bible study marks the release of Lenya’s new study guide\, Ever Spoken\, a companion text woven seamlessly into each week’s teaching which invites us to hear God’s Word as it was first spoken and as it still speaks today. \nThrough this journey\, you’ll encounter the beauty\, depth\, and precision of Scripture—ancient words will come alive with new meaning\, color\, and breath. Come discover how every word ever spoken by God continues to echo with life today. \nAdditional copies of Ever Spoken will be available for purchase at our weekend kiosks\, on Tuesday nights at the Bible study merch table\, or in our Sheologie shop.
URL:https://myflr.org/event/sheologie-ever-spoken-womens-bible-study/2026-03-31/
LOCATION:Calvary Church with Skip Heitzig\, 4001 Osuna Rd NE\, NE Albuquerque\, NM\, 87109-4422\, United States
CATEGORIES:New Mexico
ATTACH;FMTTYPE=image/png:https://eadn-wc05-15902914.nxedge.io/wp-content/uploads/2026/02/Screenshot-2026-02-09-at-4.15.10-PM.png
END:VEVENT
BEGIN:VEVENT
DTSTART;TZID=America/Phoenix:20251007T183000
DTEND;TZID=America/Phoenix:20251104T203000
DTSTAMP:20260421T053814
CREATED:20250811T195102Z
LAST-MODIFIED:20250811T195102Z
UID:10049833-1759861800-1762288200@myflr.org
SUMMARY:Sheologie's Moral of the Story Bible Study
DESCRIPTION:Step inside the sacred stories of Christ and listen closely to His heart. These parables—told with divine intention—call us to deeper faith\, softer hearts\, and lives shaped by heaven’s beauty. Come and discover the living power of God’s Word in the stories Jesus told. There is truth waiting for you in every line. \nJoin Lenya Heitzig and Sheologie on Tuesdays at 6:30 pm\, beginning September 9\, at the Osuna campus or live on our YouTube channel for Moral of the Story\, a five-week Bible study where we’ll step inside the sacred stories of Christ and listen closely to His heart. These parables—told with divine intention—call us to deeper faith\, softer hearts\, and lives shaped by heaven’s beauty. \nRegister now for just $10. There is no cost to join us online. Our study enhancement\, Live Deeply by Lenya Heitzig\, is available for purchase at Bible study\, in SoPo\, or in our online shop. \nSheologie Kids will also be available for those attending in person at our Osuna campus\, but space is limited\, so register today. There is a one-time fee of just $5 per child. \nAs we turn each page together\, you’ll be reminded that you are part of a greater story—one written by the Author of love Himself. Come fall in love again with the Word made flesh. There’s beauty to behold\, truth to treasure\, and a place for you in every story He tells.
URL:https://myflr.org/event/sheologies-moral-of-the-story-bible-study/2025-10-07/
LOCATION:Calvary Church with Skip Heitzig\, 4001 Osuna Rd NE\, NE Albuquerque\, NM\, 87109-4422\, United States
CATEGORIES:New Mexico
ATTACH;FMTTYPE=image/png:https://eadn-wc05-15902914.nxedge.io/wp-content/uploads/2025/08/Screenshot-2025-07-29-at-1.38.29-PM-scaled.png
ORGANIZER;CN="Sheologie":MAILTO:madison.newcomb@calvaryabq.org
END:VEVENT
BEGIN:VEVENT
DTSTART;TZID=America/Phoenix:20250510T083000
DTEND;TZID=America/Phoenix:20250510T133000
DTSTAMP:20260421T053814
CREATED:20250402T215547Z
LAST-MODIFIED:20250402T215924Z
UID:10040351-1746865800-1746883800@myflr.org
SUMMARY:Spring Gathering – Nest 2025 (Sheologie Ministry)
DESCRIPTION:Family Life Radio and Calvary Albuquerque\, invites you to a Mother’s Day Soiree… \nJust as the sparrow finds a home and the swallow a nest for her young\, we can find rest in the loving presence of our Heavenly Father (see Psalm 84:3). You’re invited to join Lenya Heitzig and Sheologie for a Mother’s Day soirée at our Spring Gathering: Nest\, on Saturday\, May 10\, from 8:30 am until 1:30 pm at Calvary Church Albuquerque. \nCome experience a day of encouragement\, connection\, and joy as we reflect on the beauty of a mother’s heart—a place of warmth\, nurture\, and unwavering faith. You’ll enjoy a beautiful time of worship with Iveth Luna & Calvary MSC\, an uplifting message from Liz Turner\, brunch\, a time of fellowship\, and special surprises to make the day unforgettable. \nWhether you’re a mother\, a daughter\, or a woman who nurtures others\, Nest is for you. Step into a sacred space where you are cherished and known\, and remember that you are never alone—your heart has a home in Him. \nWe can’t wait to celebrate with you. \nTickets are $25.00 per person.
URL:https://myflr.org/event/spring-gathering-nest/
LOCATION:Calvary Church with Skip Heitzig\, 4001 Osuna Rd NE\, NE Albuquerque\, NM\, 87109-4422\, United States
CATEGORIES:New Mexico
ATTACH;FMTTYPE=image/jpeg:https://eadn-wc05-15902914.nxedge.io/wp-content/uploads/2025/03/Sheologie-Nest-FeaturedImg-1536x864-1.jpg
ORGANIZER;CN="Sheologie":MAILTO:madison.newcomb@calvaryabq.org
END:VEVENT
END:VCALENDAR