
BEGIN:VCALENDAR
VERSION:2.0
PRODID:-//Family Life Radio - ECPv6.15.20//NONSGML v1.0//EN
CALSCALE:GREGORIAN
METHOD:PUBLISH
X-WR-CALNAME:Family Life Radio
X-ORIGINAL-URL:https://myflr.org
X-WR-CALDESC:Events for Family Life Radio
REFRESH-INTERVAL;VALUE=DURATION:PT1H
X-Robots-Tag:noindex
X-PUBLISHED-TTL:PT1H
BEGIN:VTIMEZONE
TZID:America/Phoenix
BEGIN:STANDARD
TZOFFSETFROM:-0700
TZOFFSETTO:-0700
TZNAME:MST
DTSTART:20230101T000000
END:STANDARD
END:VTIMEZONE
BEGIN:VEVENT
DTSTART;TZID=America/Phoenix:20240906T180000
DTEND;TZID=America/Phoenix:20240906T203000
DTSTAMP:20260421T210240
CREATED:20240722T204435Z
LAST-MODIFIED:20240722T204435Z
UID:10031468-1725645600-1725654600@myflr.org
SUMMARY:Hands of Hope Tucson presents “Night of Hope”
DESCRIPTION:Hands of Hope Presents: \nA Night of Hope with Robert Furrow\, Frank Turek\, and Charlie Kirk \nBe Informed about the “Arizona Right to Abortion Initiative” and be equipped to stand for life by voting biblically and responding to others with grace and truth. Gain insight into navigating other moral issues in today’s culture. \nDoors open at 5:15pm\nEvent starts at 6:00pm
URL:https://myflr.org/event/hands-of-hope-tucson-presents-night-of-hope/
LOCATION:Calvary Tucson Church – East Campus\, 8711 E. Speedway Boulevard\, Tucson\, AZ\, 85710\, United States
CATEGORIES:Arizona
ATTACH;FMTTYPE=image/jpeg:https://eadn-wc05-15902914.nxedge.io/wp-content/uploads/2024/07/Night-of-Hope.jpg
ORGANIZER;CN="Hands of Hope Tucson":MAILTO:jhammond@hohtucson.com
END:VEVENT
BEGIN:VEVENT
DTSTART;TZID=America/Phoenix:20240123T190000
DTEND;TZID=America/Phoenix:20240123T210000
DTSTAMP:20260421T210240
CREATED:20240110T165108Z
LAST-MODIFIED:20240110T165108Z
UID:10019511-1706036400-1706043600@myflr.org
SUMMARY:The Night of Prayer and Worship Pre-Franklin Graham God Loves You Tour
DESCRIPTION:Join others in your community for a Night of Prayer and Worship ahead of the Franklin Graham; God Loves You Frontera Tour. Together\, we’ll pray for the Lord to move through this event. Worship will be led by Job González at Calvary Tucson Church – East Campus \nAddress: 8711 E. Speedway Boulevard\, Tucson\, AZ 85710\nDate: Tuesday\, Jan. 23\nTime: 7:00 PM MST \nFind out about all of the events leading up to the God loves you tour at https://godlovesyoutour.com/en/tucson/
URL:https://myflr.org/event/the-night-of-prayer-and-worship-pre-franklin-graham-god-loves-you-tour/
LOCATION:Calvary Tucson Church – East Campus\, 8711 E. Speedway Boulevard\, Tucson\, AZ\, 85710\, United States
CATEGORIES:Arizona,Featured
ATTACH;FMTTYPE=image/jpeg:https://eadn-wc05-15902914.nxedge.io/wp-content/uploads/2024/01/Night-of-Prayer-and-worship.jpg
END:VEVENT
END:VCALENDAR