
BEGIN:VCALENDAR
VERSION:2.0
PRODID:-//Family Life Radio - ECPv6.15.20//NONSGML v1.0//EN
CALSCALE:GREGORIAN
METHOD:PUBLISH
X-ORIGINAL-URL:https://myflr.org
X-WR-CALDESC:Events for Family Life Radio
REFRESH-INTERVAL;VALUE=DURATION:PT1H
X-Robots-Tag:noindex
X-PUBLISHED-TTL:PT1H
BEGIN:VTIMEZONE
TZID:America/Phoenix
BEGIN:STANDARD
TZOFFSETFROM:-0700
TZOFFSETTO:-0700
TZNAME:MST
DTSTART:20250101T000000
END:STANDARD
END:VTIMEZONE
BEGIN:VEVENT
DTSTART;TZID=America/Phoenix:20260405T093000
DTEND;TZID=America/Phoenix:20260405T140000
DTSTAMP:20260421T014036
CREATED:20260311T172530Z
LAST-MODIFIED:20260311T172530Z
UID:10059046-1775381400-1775397600@myflr.org
SUMMARY:Easter Family Celebration and Egg Hunts
DESCRIPTION:Celebrate Easter With Us!\nCanyon Del Oro Assembly of God\n2950 W. Lambert Lane\nTucson\, AZ 85742 \nJoin us this Easter @ 9AM for some family time. We will have a a special celebration that has something for everyone-great music\, a powerful message\, free egg hunts\, food\, prizes\, and games for the kids. Start a new tradition this year and bring your family to celebrate Easter with our family. We would love to see you there! \nEaster Egg Hunts (during service) and Prize Room\, Inflatables\, Hotdogs\, Nachos\, Cotton Candy\, Eegge’s\, Kiddie Train\, Games!
URL:https://myflr.org/event/easter-family-celebration-and-egg-hunts/
LOCATION:Canyon Del Oro Assembly of God\, 2950 W. Lambert Lane\, Tucson\, AZ\, 85742\, United States
CATEGORIES:Arizona
ATTACH;FMTTYPE=image/jpeg:https://eadn-wc05-15902914.nxedge.io/wp-content/uploads/2026/02/Easter-Flyer-2026.jpg
ORGANIZER;CN="Canyon Del Oro Assembly of God":MAILTO:lindsey@cdoassemblyofgod.com
END:VEVENT
END:VCALENDAR