
BEGIN:VCALENDAR
VERSION:2.0
PRODID:-//Family Life Radio - ECPv6.15.20//NONSGML v1.0//EN
CALSCALE:GREGORIAN
METHOD:PUBLISH
X-ORIGINAL-URL:https://myflr.org
X-WR-CALDESC:Events for Family Life Radio
REFRESH-INTERVAL;VALUE=DURATION:PT1H
X-Robots-Tag:noindex
X-PUBLISHED-TTL:PT1H
BEGIN:VTIMEZONE
TZID:America/Phoenix
BEGIN:STANDARD
TZOFFSETFROM:-0700
TZOFFSETTO:-0700
TZNAME:MST
DTSTART:20220101T000000
END:STANDARD
END:VTIMEZONE
BEGIN:VEVENT
DTSTART;TZID=America/Phoenix:20240607T170000
DTEND;TZID=America/Phoenix:20240607T190000
DTSTAMP:20260421T172419
CREATED:20240520T180855Z
LAST-MODIFIED:20240520T181208Z
UID:10026497-1717779600-1717786800@myflr.org
SUMMARY:‘Cram the Crib Open House Baby Shower Party’-Care Net ABQ
DESCRIPTION:Family Life Radio 91.5 FM personally invites you along with Albuquerque-Care Net Pregnancy Center to our ‘Cram the Crib Open House Baby Shower Party’! \nIt’s the Care Net Pregnancy Center of Albuquerque-Come see the new location-tour the center\, meet the staff\, enjoy food truck\, music\, prizes and special gift from Family Life Radio! Let’s Cram the Crib with new baby items for this Pregnancy Center in our community! Your gift makes a huge impact in the lives of mom’s\, babies & dad’s. \nFriday\, June 7\, 2024\n5:00 pm – 7:00 pm\n3701 Paseo del Norte NE Ste 100\nAlbuquerque\, NM  87113 \nSimply Delicious Food Truck NM and The Paleta Bar on Tramway is available for purchase at this event. \nBaby Items needed: Large Diapers sizes 4\,5\,6\, baby wipes\, boys clothes sizes NB-3T\, girls clothes sizes 12 months-3T\, boys/girls shoes sizes NB-3T\, baby hygiene/bath items\, baby safety items\, pacifiers\, bottles\, teethers/rattle Toys & diaper bags. \nwww.MyFLR.org/babyshower for more drop off locations\, hours and more details! \n 
URL:https://myflr.org/event/cram-the-crib-open-house-baby-shower-party-care-net-abq/
LOCATION:Care Net of ABQ\, 3701 Paseo del Norte NE Ste 100\, ABQ\, NM\, 87113\, United States
CATEGORIES:Featured,New Mexico
ATTACH;FMTTYPE=image/png:https://eadn-wc05-15902914.nxedge.io/wp-content/uploads/2024/05/1X1-Social-CARE-NET-ABQ-UPDATED-June-7-2024-Party.png
END:VEVENT
BEGIN:VEVENT
DTSTART;VALUE=DATE:20230506
DTEND;VALUE=DATE:20230612
DTSTAMP:20260421T172419
CREATED:20230505T194935Z
LAST-MODIFIED:20230505T195429Z
UID:10008978-1683331200-1686527999@myflr.org
SUMMARY:Ultimate Baby Shower for Care Net of ABQ- MAY 1 – JUNE 11 2023
DESCRIPTION:OH BABY! It’s time for the annual Ultimate Baby Shower where we come together to celebrate life by providing HOPE to babies and those who are facing pregnancy\, expected and unexpected\, in our community. \nFrom May 1 – June 11\, 2023 in Albuquerque\, we’ll be partnering with Care Net Pregnancy Centers of Albuquerque. \nFor Drop Off Locations and hours go to: www.MyFLR.org/SHOWER/ \nFor On-Location “Cram the Crib Open House” Parties Dates...we’d LOVE to SEE YOU! \nGo to: www.MyFLR.org/SHOWER/ \nBABY ITEMS NEEDS: \nChildren’s Books\nCar Seat\nDiaper Bags\nNewborn Baby Bouncers\nSmall Play Pens\nDiaper Cream\nDiapers (NB\,1\, 3\, 4 & 6)\nStrollers\nBlankets\nHats\nShoes\nPacifier’s\nThermometer’s\nBibs/Burp cloths \nClothing Outfits:\nBoy/Girl Summer Pajamas (NB-3T)\nBoy/Girl Summer Clothes (NB-3T)\nBoys Clothing (0-3T)\nOnesies \nBaby Hygiene Items:\nHair Care\nBaby Lotion\nNail Clippers\nBath Towels
URL:https://myflr.org/event/ultimate-baby-shower-for-care-net-of-abq-may-1-june-11-2023-2/
LOCATION:Care Net of ABQ\, 3701 Paseo del Norte NE Ste 100\, ABQ\, NM\, 87113\, United States
CATEGORIES:Featured,New Mexico
ATTACH;FMTTYPE=image/png:https://eadn-wc05-15902914.nxedge.io/wp-content/uploads/2023/05/May-1-June-11CareNetFBCover.png
END:VEVENT
BEGIN:VEVENT
DTSTART;VALUE=DATE:20230501
DTEND;VALUE=DATE:20230612
DTSTAMP:20260421T172419
CREATED:20230502T195251Z
LAST-MODIFIED:20230505T193900Z
UID:10008943-1682899200-1686527940@myflr.org
SUMMARY:Ultimate Baby Shower for Care Net of ABQ- MAY 1 – JUNE 11 2023
DESCRIPTION:OH BABY! It’s time for the annual Ultimate Baby Shower where we come together to celebrate life by providing HOPE to babies and those who are facing pregnancy\, expected and unexpected\, in our community. \nFrom May 1 – June 11\, 2023 in Albuquerque\, we’ll be partnering with Care Net Pregnancy Centers of Albuquerque. \nFor Drop Off Locations and hours go to: www.MyFLR.org/SHOWER/ \nFor On-Location “Cram the Crib Open House” Parties Dates...we’d LOVE to SEE YOU! \nGo to: www.MyFLR.org/SHOWER/ \nBABY ITEMS NEEDS: \nChildren’s Books\nCar Seat\nDiaper Bags\nNewborn Baby Bouncers\nSmall Play Pens\nDiaper Cream\nDiapers (NB\,1\, 3\, 4 & 6)\nStrollers\nBlankets\nHats\nShoes\nPacifier’s\nThermometer’s\nBibs/Burp cloths \nClothing Outfits:\nBoy/Girl Summer Pajamas (NB-3T)\nBoy/Girl Summer Clothes (NB-3T)\nBoys Clothing (0-3T)\nOnesies \nBaby Hygiene Items:\nHair Care\nBaby Lotion\nNail Clippers\nBath Towels
URL:https://myflr.org/event/ultimate-baby-shower-for-care-net-of-abq-may-1-june-11-2023/2023-05-01/
LOCATION:Care Net of ABQ\, 3701 Paseo del Norte NE Ste 100\, ABQ\, NM\, 87113\, United States
CATEGORIES:Featured,New Mexico
ATTACH;FMTTYPE=image/png:https://eadn-wc05-15902914.nxedge.io/wp-content/uploads/2023/05/May-1-June-11CareNetFBCover.png
END:VEVENT
END:VCALENDAR