
BEGIN:VCALENDAR
VERSION:2.0
PRODID:-//Family Life Radio - ECPv6.15.20//NONSGML v1.0//EN
CALSCALE:GREGORIAN
METHOD:PUBLISH
X-ORIGINAL-URL:https://myflr.org
X-WR-CALDESC:Events for Family Life Radio
REFRESH-INTERVAL;VALUE=DURATION:PT1H
X-Robots-Tag:noindex
X-PUBLISHED-TTL:PT1H
BEGIN:VTIMEZONE
TZID:America/Phoenix
BEGIN:STANDARD
TZOFFSETFROM:-0700
TZOFFSETTO:-0700
TZNAME:MST
DTSTART:20240101T000000
END:STANDARD
END:VTIMEZONE
BEGIN:VEVENT
DTSTART;TZID=America/Phoenix:20250613T150000
DTEND;TZID=America/Phoenix:20250613T180000
DTSTAMP:20260421T141819
CREATED:20250510T000855Z
LAST-MODIFIED:20250528T221743Z
UID:10041095-1749826800-1749837600@myflr.org
SUMMARY:Cram the Crib – Ultimate Baby Shower for Care Net ABQ-June 13\, 2025
DESCRIPTION:???? EVENT: Cram the Crib – Ultimate Baby Shower for Care Net ABQ???? Location: Care Net Pregnancy Centers of Albuquerque3701 Paseo del Norte NE\, Suite 100\, Albuquerque\, NM 87113???? Date & Time: Friday\, June 13th | 3:00–6:00 PM \n\n???? Join us for “Cram the Crib – A Celebration of Life”Help us fill the crib with baby essentials to bless moms and babies across New Mexico! \n???? What’s Happening: \nCare Net Tours: Meet all 5 Center Directors from ABQ\, Rio Rancho\, Los Lunas & East Mountains! \nBalloon Arch & Cupcakes \nFLR Fun Zone: \n???? Photo Booth for families \n???? Free Water Bottles \n???? Bottle Ring Toss Game \n\n???? Donation Incentives:Every baby item donation given = Cram the Crib✅ Entry into our Hourly Raffle for a Family 4-Pack to: \n3–4pm: Elevate Trampoline Park \n4–5pm: Cliff’s Amusement Park \n5–6pm: and MORE for the family! \n???? Everyone who donates also receives: \n???? Ultimate Baby Shower Sticker \n???? Raffle Ticket \n???? Family Photo at the Photobooth \n\n???? LIVESTREAM RAFFLE DRAWINGS EVERY HOUR!Let’s celebrate life and support moms with love and laughter! \n_______________________________________________________________________________ \nThey are well-stocked on:\n✔️ Diapers (Sizes N\, 4\, 5\, 6 & Pullups)✔️ Wipes \nBut they’re still in need of other baby essentials and supplies — and you can make an impact from wherever you are! \n????️ Shop their Amazon Wish Lists and ship directly to their centers: \n???? Albuquerque Locationhttps://www.amazon.com/registries/gl/guest-view/1C04O3QJC1SCP \n???? Rio Rancho Locationhttps://www.amazon.com/registries/gl/guest-view/A4O9BBKOFKF9 \n???? Los Lunas Centerhttps://www.amazon.com/registries/gl/guest-view/M31V5P473SVK \n???? East Mountains Centerhttps://www.amazon.com/registries/gl/guest-view/1DYMBX5IL4YLC \n???? Medical Mobile Unit (MMU)Serving: Los Lunas\, Española\, Las Vegas (NM)\, Santa Fe\, Los Alamos\, Albuquerque\, Moriarty\, Taos\, Edgewood & Rio Rancho???? (505) 720-5537???? appointment@carenetabq.com???? Care Net MMU Facebook???? Amazon Wish List: https://www.amazon.com/registries/gl/guest-view/1DYMBX5IL4YLC \nEvery donation makes a difference. Let’s rally around moms and babies in our community! ????
URL:https://myflr.org/event/cram-the-crib-ultimate-baby-shower-for-care-net-abq-june-13-2025/
LOCATION:Care Net Pregnancy Centers of Albuquerque\, 3701 Paseo del Norte NE STE 100\, Albuquerque\, NM\, 87113\, United States
CATEGORIES:Featured,New Mexico
ATTACH;FMTTYPE=image/png:https://eadn-wc05-15902914.nxedge.io/wp-content/uploads/2025/05/UBS-2025-CNPC-ABQ-June-132025-Invite-UPDATE.png
ORGANIZER;CN="Family Life Radio Albuquerque":MAILTO:NewMexico@flc.org
END:VEVENT
END:VCALENDAR