
BEGIN:VCALENDAR
VERSION:2.0
PRODID:-//Family Life Radio - ECPv6.15.20//NONSGML v1.0//EN
CALSCALE:GREGORIAN
METHOD:PUBLISH
X-WR-CALNAME:Family Life Radio
X-ORIGINAL-URL:https://myflr.org
X-WR-CALDESC:Events for Family Life Radio
REFRESH-INTERVAL;VALUE=DURATION:PT1H
X-Robots-Tag:noindex
X-PUBLISHED-TTL:PT1H
BEGIN:VTIMEZONE
TZID:America/Phoenix
BEGIN:STANDARD
TZOFFSETFROM:-0700
TZOFFSETTO:-0700
TZNAME:MST
DTSTART:20240101T000000
END:STANDARD
END:VTIMEZONE
BEGIN:VEVENT
DTSTART;TZID=America/Phoenix:20250912T190000
DTEND;TZID=America/Phoenix:20250914T123000
DTSTAMP:20260421T130323
CREATED:20250818T132735Z
LAST-MODIFIED:20250818T140447Z
UID:10050417-1757703600-1757853000@myflr.org
SUMMARY:Weekend to Remember - Chattanooga
DESCRIPTION:No marriage is static. Each day\, each choice — you’re either moving closer together\, toward oneness … or drifting farther apart. At the intersection of a faith-based marriage conference and romantic retreat from everyday life\, Weekend to Remember helps couples do just that — choose oneness. Whether you’re sending up an SOS for marital rescue or looking to foster an already flourishing connection\, Weekend to Remember is your best next step toward being\, and staying\, one.\nEnter promo code WEEKEND at checkout to save $100 off regular price registrations at: WeekendtoRemember.com
URL:https://myflr.org/event/weekend-to-remember-chattanooga/
LOCATION:Chattanooga Convention Center\, One Carter Plaza\, Chattanooga\, TN\, 37402\, United States
CATEGORIES:Featured,Tennesee
ATTACH;FMTTYPE=image/jpeg:https://eadn-wc05-15902914.nxedge.io/wp-content/uploads/2025/08/Chattanooga1080x1080.jpg
END:VEVENT
END:VCALENDAR