
BEGIN:VCALENDAR
VERSION:2.0
PRODID:-//Family Life Radio - ECPv6.15.20//NONSGML v1.0//EN
CALSCALE:GREGORIAN
METHOD:PUBLISH
X-WR-CALNAME:Family Life Radio
X-ORIGINAL-URL:https://myflr.org
X-WR-CALDESC:Events for Family Life Radio
REFRESH-INTERVAL;VALUE=DURATION:PT1H
X-Robots-Tag:noindex
X-PUBLISHED-TTL:PT1H
BEGIN:VTIMEZONE
TZID:America/Detroit
BEGIN:DAYLIGHT
TZOFFSETFROM:-0500
TZOFFSETTO:-0400
TZNAME:EDT
DTSTART:20240310T070000
END:DAYLIGHT
BEGIN:STANDARD
TZOFFSETFROM:-0400
TZOFFSETTO:-0500
TZNAME:EST
DTSTART:20241103T060000
END:STANDARD
BEGIN:DAYLIGHT
TZOFFSETFROM:-0500
TZOFFSETTO:-0400
TZNAME:EDT
DTSTART:20250309T070000
END:DAYLIGHT
BEGIN:STANDARD
TZOFFSETFROM:-0400
TZOFFSETTO:-0500
TZNAME:EST
DTSTART:20251102T060000
END:STANDARD
BEGIN:DAYLIGHT
TZOFFSETFROM:-0500
TZOFFSETTO:-0400
TZNAME:EDT
DTSTART:20260308T070000
END:DAYLIGHT
BEGIN:STANDARD
TZOFFSETFROM:-0400
TZOFFSETTO:-0500
TZNAME:EST
DTSTART:20261101T060000
END:STANDARD
END:VTIMEZONE
BEGIN:VTIMEZONE
TZID:America/Phoenix
BEGIN:STANDARD
TZOFFSETFROM:-0700
TZOFFSETTO:-0700
TZNAME:MST
DTSTART:20220101T000000
END:STANDARD
END:VTIMEZONE
BEGIN:VEVENT
DTSTART;TZID=America/Detroit:20250814T114500
DTEND;TZID=America/Detroit:20250814T134500
DTSTAMP:20260421T124003
CREATED:20250728T150825Z
LAST-MODIFIED:20250728T150825Z
UID:10049766-1755171900-1755179100@myflr.org
SUMMARY:Mt. Pleasant Area Christian Women's Connection Luncheon
DESCRIPTION:Hearts and Herbs: Learn how to grow and use herbs with Mary Mast from Rainbow Greenhouse in Clare\, MI. You will not want to miss speaker Jean Pyper’s story of grit and giggles! She hails from Lafayette\, IN. Jean will take you from her emotional shutdown to a heart of joy. Be inspired by her presentation entitled “Let’s have a Heart to Heart.”
URL:https://myflr.org/event/mt-pleasant-area-christian-womens-connection-luncheon-8/
LOCATION:Cheers Neighborhood Grill (Mt Pleasant\, MI)\, 1700 W High Street (W M-20)\, Mt Pleasant\, MI\, 48858\, United States
CATEGORIES:Michigan
ATTACH;FMTTYPE=image/jpeg:https://eadn-wc05-15902914.nxedge.io/wp-content/uploads/2025/07/Hearts-Herbs.jpg
ORGANIZER;CN="Mt. Pleasant Area Christian Women&#8217%3Bs Connection":MAILTO:lonahamilton@yahoo.com
END:VEVENT
BEGIN:VEVENT
DTSTART;TZID=America/Phoenix:20240411T114500
DTEND;TZID=America/Phoenix:20240411T134500
DTSTAMP:20260421T124003
CREATED:20240325T191634Z
LAST-MODIFIED:20240325T191634Z
UID:10022904-1712835900-1712843100@myflr.org
SUMMARY:Mt Pleasant Area Christian Women’s Connection Luncheon
DESCRIPTION:“Women connectioning with God\, each other and their community” Luncheon and Secondhand Style Show with music featuring Jamie Schiafley and Inspirational Speaker Elaine James asks if you are suffering from Major Mind Overload? This thought provoking and inspiring talk will help you see stress created by an overloaded schedule. “A Day in the Life of Marjorie Overload.”\nLuncheon includes Soup and Salad Bar or Sandwich and FF or salad from the kitchen\, Dessert\, Beverage\, Program and Gratuity.\nCall Ruth by April 9 for Reservations at 989-492-4199
URL:https://myflr.org/event/mt-pleasant-area-christian-womens-connection-luncheon/
LOCATION:Cheers Neighborhood Grill (Mt Pleasant\, MI)\, 1700 W High Street (W M-20)\, Mt Pleasant\, MI\, 48858\, United States
CATEGORIES:Michigan
END:VEVENT
BEGIN:VEVENT
DTSTART;TZID=America/Phoenix:20230608T120000
DTEND;TZID=America/Phoenix:20230608T133000
DTSTAMP:20260421T124003
CREATED:20230530T130547Z
LAST-MODIFIED:20230530T130547Z
UID:10009917-1686225600-1686231000@myflr.org
SUMMARY:Mt Pleasant Area Christian Women’s Connection
DESCRIPTION:“Women connecting with God\, each other and their community” June theme “Where their is Joy”. Special Feature – JuliAnne Sisung\, author from Lake Isabella\, Michigan; Special Music- Sue Franklin and Sue Moeller; guest Inspirational Speaker\, Mary Haddad from Adrian\, MI describes victories as she is confronted by the challenges in her life. A graduate of Ohio State\, she is the former co-owner of two businesses\, who love gardening\, decorating and reading. She is an enthusiastic speaker and you will enjoy “Survival and Success in Search for Significance”.\ncall Ruth for Reservations 989-492-4199
URL:https://myflr.org/event/mt-pleasant-area-christian-womens-connection/
LOCATION:Cheers Neighborhood Grill (Mt Pleasant\, MI)\, 1700 W High Street (W M-20)\, Mt Pleasant\, MI\, 48858\, United States
CATEGORIES:Michigan
END:VEVENT
END:VCALENDAR