
BEGIN:VCALENDAR
VERSION:2.0
PRODID:-//Family Life Radio - ECPv6.15.20//NONSGML v1.0//EN
CALSCALE:GREGORIAN
METHOD:PUBLISH
X-WR-CALNAME:Family Life Radio
X-ORIGINAL-URL:https://myflr.org
X-WR-CALDESC:Events for Family Life Radio
REFRESH-INTERVAL;VALUE=DURATION:PT1H
X-Robots-Tag:noindex
X-PUBLISHED-TTL:PT1H
BEGIN:VTIMEZONE
TZID:America/Phoenix
BEGIN:STANDARD
TZOFFSETFROM:-0700
TZOFFSETTO:-0700
TZNAME:MST
DTSTART:20240101T000000
END:STANDARD
END:VTIMEZONE
BEGIN:VEVENT
DTSTART;TZID=America/Phoenix:20250808T173000
DTEND;TZID=America/Phoenix:20250808T200000
DTSTAMP:20260421T195627
CREATED:20250721T170305Z
LAST-MODIFIED:20250721T170305Z
UID:10049228-1754674200-1754683200@myflr.org
SUMMARY:Children’s Promise Centers for our Back to School Bash 
DESCRIPTION:We’re thrilled to invite you to partner with Children’s Promise Centers for our Back to School Bash on Friday\, August 8\, from 5:30–8:00 P \n???? Host an Interactive Booth \nBring a fun activity for children ages 0–12 and provide a free giveaway (candy\, trinkets\, or something exciting!). This is also a great way to share about your organization with families in the community. \n???? Provide Food \nHelp us feed our guests! Whether it’s classic cookout fare (hot dogs\, chips\, water) or your own creative addition\, we welcome your support in nourishing our families. \n???? Volunteer \nWe can’t do it without you! From setup to smiles\, your helping hands make this event possible. \n???? Offer Security \nWe value the safety of our families. If you or someone from your organization can help with security presence\, it would be greatly appreciated. \n???? Share Resources \nWe’re filling backpacks for kids ages 0–12 with educational goodies. If you have flyers\, pamphlets\, or materials to include\, we’d love to distribute them. \nWhether you’re able to contribute in one area or multiple\, your involvement will make a meaningful difference. Together\, we can create a joyful\, safe\, and enriching experience for families as they gear up for a new school year. \nPlease review the flyer attached for more details and use the sign-up link below to let us know how you’d like to participate: \n???? Sign Up Here
URL:https://myflr.org/event/childrens-promise-centers-for-our-back-to-school-bash/
LOCATION:Children’s Promise Centers\, 401 Alvarado Dr SE
CATEGORIES:New Mexico
ATTACH;FMTTYPE=image/jpeg:https://eadn-wc05-15902914.nxedge.io/wp-content/uploads/2025/07/Childrens-Promise-Center-Back-to-School-Bash.jpg
END:VEVENT
END:VCALENDAR