
BEGIN:VCALENDAR
VERSION:2.0
PRODID:-//Family Life Radio - ECPv6.15.20//NONSGML v1.0//EN
CALSCALE:GREGORIAN
METHOD:PUBLISH
X-ORIGINAL-URL:https://myflr.org
X-WR-CALDESC:Events for Family Life Radio
REFRESH-INTERVAL;VALUE=DURATION:PT1H
X-Robots-Tag:noindex
X-PUBLISHED-TTL:PT1H
BEGIN:VTIMEZONE
TZID:America/Phoenix
BEGIN:STANDARD
TZOFFSETFROM:-0700
TZOFFSETTO:-0700
TZNAME:MST
DTSTART:20240101T000000
END:STANDARD
END:VTIMEZONE
BEGIN:VEVENT
DTSTART;TZID=America/Phoenix:20250308T073000
DTEND;TZID=America/Phoenix:20250426T000000
DTSTAMP:20260421T114759
CREATED:20250310T202620Z
LAST-MODIFIED:20250310T202620Z
UID:10040294-1741419000-1745625600@myflr.org
SUMMARY:Cover to Cover Discipleship
DESCRIPTION:Welcome to Cover to Cover Discipleship. This method of discipleship is designed to help you experience your best life ever as you learn to identify and apply truths you discover in God’s word. The goal is that you will become prepared\, confident\, and skilled in the knowledge of scripture such that you will know how to do the right things\, for the right reasons\, and to fall madly in love with your Heavenly Father\, and the Lord Jesus Christ. \nFAQ’s:\n1. How much will this cost?\n   $Zero to the coach. You may need to purchase a bible (new or used\, no commentary\, a true translation in the form you understand best). If you have one already that does not contain notes\, commentary\, maps\, drawings – you are good to go. There are companion reading materials you will need to purchase along the way. These are purchased through Amazon\, Christian Book Distributors\, or other online resources. No mark up by C2C Discipleship.\n2. When do groups start?\n   Groups will begin the week beginning on Sunday April 27 \nFollow the URL below for more information
URL:https://myflr.org/event/cover-to-cover-discipleship/
LOCATION:Chino Valley\, AZ\, 1633 Alcala St\, Chino Valley\, AZ\, 86323\, United States
CATEGORIES:Arizona
ATTACH;FMTTYPE=image/jpeg:https://eadn-wc05-15902914.nxedge.io/wp-content/uploads/2025/03/Join-Us-50pct.jpg
END:VEVENT
END:VCALENDAR