
BEGIN:VCALENDAR
VERSION:2.0
PRODID:-//Family Life Radio - ECPv6.15.20//NONSGML v1.0//EN
CALSCALE:GREGORIAN
METHOD:PUBLISH
X-WR-CALNAME:Family Life Radio
X-ORIGINAL-URL:https://myflr.org
X-WR-CALDESC:Events for Family Life Radio
REFRESH-INTERVAL;VALUE=DURATION:PT1H
X-Robots-Tag:noindex
X-PUBLISHED-TTL:PT1H
BEGIN:VTIMEZONE
TZID:America/Phoenix
BEGIN:STANDARD
TZOFFSETFROM:-0700
TZOFFSETTO:-0700
TZNAME:MST
DTSTART:20240101T000000
END:STANDARD
END:VTIMEZONE
BEGIN:VEVENT
DTSTART;TZID=America/Phoenix:20260307T090000
DTEND;TZID=America/Phoenix:20260307T120000
DTSTAMP:20260421T201244
CREATED:20260209T234336Z
LAST-MODIFIED:20260209T234336Z
UID:10058936-1772874000-1772884800@myflr.org
SUMMARY:Christ Lutheran School Open House
DESCRIPTION:Join us for our Open House on Saturday\, March 7\, from 9 am to 12 pm. Teachers will be available to connect with\, and we will have light refreshments.
URL:https://myflr.org/event/christ-lutheran-school-open-house-3/
LOCATION:Christ Lutheran Church & School\, 7701 Candelaria Rd NE\, Albuquerque\, NM\, 87112\, United States
CATEGORIES:New Mexico
ATTACH;FMTTYPE=image/png:https://eadn-wc05-15902914.nxedge.io/wp-content/uploads/2026/02/School-Open-House.png
ORGANIZER;CN="Christ Lutheran Church &amp%3B School":MAILTO:school@clsabq.com
END:VEVENT
BEGIN:VEVENT
DTSTART;TZID=America/Phoenix:20251024T153000
DTEND;TZID=America/Phoenix:20251024T173000
DTSTAMP:20260421T201244
CREATED:20251009T215006Z
LAST-MODIFIED:20251009T215006Z
UID:10056669-1761319800-1761327000@myflr.org
SUMMARY:Christ Lutheran Church & School Fall Festival
DESCRIPTION:Christ Lutheran Church & School invites you to our Fall Festival on Friday\, October 24\, 2025\, from 3:15 to 5:00 p.m.! Join us for an afternoon of family fun featuring games\, prizes\, concessions\, jumper houses\, and trunk-or-treat. It’s the perfect way to celebrate the season with our school and church community!
URL:https://myflr.org/event/christ-lutheran-church-school-fall-festival/
LOCATION:Christ Lutheran Church & School\, 7701 Candelaria Rd NE\, Albuquerque\, NM\, 87112\, United States
CATEGORIES:New Mexico
ATTACH;FMTTYPE=image/jpeg:https://eadn-wc05-15902914.nxedge.io/wp-content/uploads/2025/10/6159.jpg
ORGANIZER;CN="Christ Lutheran Church &amp%3B School":MAILTO:school@clsabq.com
END:VEVENT
END:VCALENDAR