
BEGIN:VCALENDAR
VERSION:2.0
PRODID:-//Family Life Radio - ECPv6.15.20//NONSGML v1.0//EN
CALSCALE:GREGORIAN
METHOD:PUBLISH
X-ORIGINAL-URL:https://myflr.org
X-WR-CALDESC:Events for Family Life Radio
REFRESH-INTERVAL;VALUE=DURATION:PT1H
X-Robots-Tag:noindex
X-PUBLISHED-TTL:PT1H
BEGIN:VTIMEZONE
TZID:America/Detroit
BEGIN:DAYLIGHT
TZOFFSETFROM:-0500
TZOFFSETTO:-0400
TZNAME:EDT
DTSTART:20250309T070000
END:DAYLIGHT
BEGIN:STANDARD
TZOFFSETFROM:-0400
TZOFFSETTO:-0500
TZNAME:EST
DTSTART:20251102T060000
END:STANDARD
BEGIN:DAYLIGHT
TZOFFSETFROM:-0500
TZOFFSETTO:-0400
TZNAME:EDT
DTSTART:20260308T070000
END:DAYLIGHT
BEGIN:STANDARD
TZOFFSETFROM:-0400
TZOFFSETTO:-0500
TZNAME:EST
DTSTART:20261101T060000
END:STANDARD
BEGIN:DAYLIGHT
TZOFFSETFROM:-0500
TZOFFSETTO:-0400
TZNAME:EDT
DTSTART:20270314T070000
END:DAYLIGHT
BEGIN:STANDARD
TZOFFSETFROM:-0400
TZOFFSETTO:-0500
TZNAME:EST
DTSTART:20271107T060000
END:STANDARD
END:VTIMEZONE
BEGIN:VEVENT
DTSTART;TZID=America/Detroit:20260109T160000
DTEND;TZID=America/Detroit:20260529T093000
DTSTAMP:20260420T100623
CREATED:20260105T135434Z
LAST-MODIFIED:20260105T135434Z
UID:10057882-1767974400-1780047000@myflr.org
SUMMARY:✝️  Hip Hop Dance W/Joyce🕺
DESCRIPTION:Hi I’m Joyce\,\nPassionate in Jesus and movement Hip Hop dance specifically. \nFaith\, fun\, freestyle\, fitness and freedom 🕺 💃 \nCLASSES WILL BEGIN JANUARY 9TH.\n💥To register you must go to christianartsacademy.com💥 \nHOW LONG: JANUARY -May 2026\nWHAT DAYS: Friday & Saturday \nAge 4+\nThis is OPEN for kids\, youth\, adults\nHelp spread the word!\n4 students must be signed up per class in order for the class to go on. \nCan’t wait to meet you all! 💓 \n👋Oh and all the music will be a mix of Christian hiphop\, pop\, edm\, kpop\, worship
URL:https://myflr.org/event/%e2%9c%9d%ef%b8%8f-hip-hop-dance-w-joyce%f0%9f%95%ba/2026-01-09/3/
LOCATION:Christian Arts Academy\, 43043 Hayes Rd\, Sterling Heights\, MI\, 48313\, United States
CATEGORIES:Michigan
ATTACH;FMTTYPE=image/jpeg:https://eadn-wc05-15902914.nxedge.io/wp-content/uploads/2025/12/1000064092.jpg
END:VEVENT
END:VCALENDAR