
BEGIN:VCALENDAR
VERSION:2.0
PRODID:-//Family Life Radio - ECPv6.15.20//NONSGML v1.0//EN
CALSCALE:GREGORIAN
METHOD:PUBLISH
X-WR-CALNAME:Family Life Radio
X-ORIGINAL-URL:https://myflr.org
X-WR-CALDESC:Events for Family Life Radio
REFRESH-INTERVAL;VALUE=DURATION:PT1H
X-Robots-Tag:noindex
X-PUBLISHED-TTL:PT1H
BEGIN:VTIMEZONE
TZID:America/Phoenix
BEGIN:STANDARD
TZOFFSETFROM:-0700
TZOFFSETTO:-0700
TZNAME:MST
DTSTART:20220101T000000
END:STANDARD
END:VTIMEZONE
BEGIN:VEVENT
DTSTART;TZID=America/Phoenix:20240329T173000
DTEND;TZID=America/Phoenix:20240329T200000
DTSTAMP:20260421T201240
CREATED:20240319T175928Z
LAST-MODIFIED:20240319T180003Z
UID:10021005-1711733400-1711742400@myflr.org
SUMMARY:Glow in the dark Easter egg hunt
DESCRIPTION:Come Join us for some Easter fun at Christian faith fellowship Church!!!! There will be inflatables\, food trucks\, a glow in the dark Easter egg hunt in the glass chapel. On Friday\, March 29th from 5:30 to 8:00. This event is free to the public!
URL:https://myflr.org/event/glow-in-the-dark-easter-egg-hunt/
LOCATION:Christian Faith Fellowship\, 1900 North Country Club road\, Tucson\, AZ\, United States
CATEGORIES:Arizona
ATTACH;FMTTYPE=image/jpeg:https://eadn-wc05-15902914.nxedge.io/wp-content/uploads/2024/03/easter-eggs.jpg
END:VEVENT
BEGIN:VEVENT
DTSTART;TZID=America/Phoenix:20230909T080000
DTEND;TZID=America/Phoenix:20230909T170000
DTSTAMP:20260421T201240
CREATED:20230725T202747Z
LAST-MODIFIED:20230725T202747Z
UID:10013097-1694246400-1694278800@myflr.org
SUMMARY:Teen Challenge of Arizona Tucson Men’s Center and Springboard Home for Girls Annual Bug Splat Motorcycle Run and Car Show
DESCRIPTION:8 AM Registration\n9 AM Kickstands Up\n10 AM Last Bike Out\n12 PM BBQ & Activities\n1 PM Raffle Prize / Giveaways \nAll proceeds will benefit Tucson Teen Challenge and Springboard Home
URL:https://myflr.org/event/teen-challenge-of-arizona-tucson-mens-center-and-springboard-home-for-girls-annual-bug-splat-motorcycle-run-and-car-show/
LOCATION:Christian Faith Fellowship\, 1900 North Country Club road\, Tucson\, AZ\, United States
CATEGORIES:Arizona
ATTACH;FMTTYPE=image/jpeg:https://eadn-wc05-15902914.nxedge.io/wp-content/uploads/2023/07/bug-splat-2.jpg
END:VEVENT
BEGIN:VEVENT
DTSTART;TZID=America/Phoenix:20230909T080000
DTEND;TZID=America/Phoenix:20230909T140000
DTSTAMP:20260421T201240
CREATED:20230725T163100Z
LAST-MODIFIED:20230725T203035Z
UID:10013101-1694246400-1694268000@myflr.org
SUMMARY:Teen Challenge of Arizona Tucson Men’s Center and Springboard Home for Girls Annual Bug Splat Motorcycle Run and Car Show
DESCRIPTION:8 AM Registration\n9 AM Kickstands Up\n10 AM Last Bike Out\n12 PM BBQ & Activities\n1 PM Raffle Prize / Giveaways \nAll proceeds will benefit Tucson Teen Challenge and Springboard Home
URL:https://myflr.org/event/teen-challenge-of-arizona-tucson-mens-center-and-springboard-home-for-girls-annual-bug-splat-motorcycle-run-and-car-show-2/
LOCATION:Christian Faith Fellowship\, 1900 North Country Club road\, Tucson\, AZ\, United States
CATEGORIES:Arizona
END:VEVENT
END:VCALENDAR