
BEGIN:VCALENDAR
VERSION:2.0
PRODID:-//Family Life Radio - ECPv6.15.20//NONSGML v1.0//EN
CALSCALE:GREGORIAN
METHOD:PUBLISH
X-ORIGINAL-URL:https://myflr.org
X-WR-CALDESC:Events for Family Life Radio
REFRESH-INTERVAL;VALUE=DURATION:PT1H
X-Robots-Tag:noindex
X-PUBLISHED-TTL:PT1H
BEGIN:VTIMEZONE
TZID:America/Phoenix
BEGIN:STANDARD
TZOFFSETFROM:-0700
TZOFFSETTO:-0700
TZNAME:MST
DTSTART:20240101T000000
END:STANDARD
END:VTIMEZONE
BEGIN:VEVENT
DTSTART;TZID=America/Phoenix:20251208T080000
DTEND;TZID=America/Phoenix:20251208T170000
DTSTAMP:20260421T104506
CREATED:20251113T205409Z
LAST-MODIFIED:20251114T201518Z
UID:10057306-1765180800-1765213200@myflr.org
SUMMARY:TOY DRIVE 2025 ROSWELL
DESCRIPTION:🎁 Family Life Radio Roswell – “Gifts of Love” Toy Drive 2025 🎁\nThis Christmas\, Family Life Radio Roswell is partnering with Christ’s Church Roswell and the long-standing Gifts of Love outreach — a local initiative serving 270 children and families in the Roswell area\, and reaching across the border to bless families in Mexico. These are by nominations only through the partnering non-profits listed below. \nNow celebrating 20 years of giving\, Gifts of Love works alongside the Roswell Homeless Coalition\, Harvest Ministries\, and CCPC\, sharing the love of Jesus with families in need. \n🧸 We’re collecting NOW until December 8\, 2025:  \n\n\nNew toys \n\n\nHoodies \n\n\nJackets\, blankets and any basic necessities \n\n\n💻 Shop Online: Amazon Wish List📍 Drop-Off Locations: https://maps.app.goo.gl/CrzjtHa3y9toB7sn8  \n\n\nChrist’s Church Roswell2200 N. Sycamore Avechristschurchroswell.com \n\n\nHTeaO Roswell610 W. 2nd Street⏰ Mon–Fri 7AM–8PM | Sat 8AM–8PM | Sun 11AM–8PMhteao.com \n\n\nThe Brave Company1905 N. Atkinson Ave⏰ Tues–Fri 11AM–5PM | Sat 11AM–4PMFacebook: The Brave Company \n\n\nShear Delight Beauty Salon307 S. Union AveFacebook: Shear Delight Beauty Salon \n\n\n\n✨ Together\, we’re sharing the Gifts of Love in Roswell!\nHelp make Christmas brighter for local kids and families — give a toy\, shop the Amazon list\, or stop by a drop-off site today!
URL:https://myflr.org/event/toy-drive-2025-roswell/
LOCATION:Christ’s Church Roswell\, 2200 N Sycamore Ave\, Roswell\, NM\, 88201\, United States
CATEGORIES:Featured,New Mexico
ATTACH;FMTTYPE=image/png:https://eadn-wc05-15902914.nxedge.io/wp-content/uploads/2025/11/Social-Media-1X1-Christs-Church-2025.png
ORGANIZER;CN="Family Life Radio New Mexico":MAILTO:NewMexico@ilmedia.org
END:VEVENT
END:VCALENDAR