
BEGIN:VCALENDAR
VERSION:2.0
PRODID:-//Family Life Radio - ECPv6.15.20//NONSGML v1.0//EN
CALSCALE:GREGORIAN
METHOD:PUBLISH
X-WR-CALNAME:Family Life Radio
X-ORIGINAL-URL:https://myflr.org
X-WR-CALDESC:Events for Family Life Radio
REFRESH-INTERVAL;VALUE=DURATION:PT1H
X-Robots-Tag:noindex
X-PUBLISHED-TTL:PT1H
BEGIN:VTIMEZONE
TZID:America/Phoenix
BEGIN:STANDARD
TZOFFSETFROM:-0700
TZOFFSETTO:-0700
TZNAME:MST
DTSTART:20240101T000000
END:STANDARD
END:VTIMEZONE
BEGIN:VEVENT
DTSTART;TZID=America/Phoenix:20250405T100000
DTEND;TZID=America/Phoenix:20250406T170000
DTSTAMP:20260421T144415
CREATED:20250317T185431Z
LAST-MODIFIED:20250317T185431Z
UID:10040353-1743847200-1743958800@myflr.org
SUMMARY:Yellowhorse Powwow Celebraton – Collegedale
DESCRIPTION:This is annual Native American dance celebrating the life of a very wonderful giving Native American\, Jimmy Yellowhorse. At the event you will see many dancers from across the country who come and compete for prizes. There will be two special musicians playing the native American flute and another you is a singer and songwriter. Special dances will take place during the weekend. These dances include a 25 member Aztec Dance Group out of Nashville TN and a ceremonial dance to pay tribute and honor those loved ones who have passed away this past year. This dance is only done by the southeastern tribal people.\nThe public will see various craft booths and demonstrators. There will be cuisine to satisfy any palette.\nPlease bring your chairs and smiling faces.\nPlenty of level parking. ADA accessible as well.\nSponsored by Native American Services of TN\na 501 ( C ) 3 no-profit organization\nChartered in 2007.
URL:https://myflr.org/event/yellowhorse-powwow-celebraton-collegedale/
LOCATION:Collegedale\, 4950 Swinyar Drive\, Collegedale\, TN\, 37363\, United States
CATEGORIES:Tennesee
ORGANIZER;CN="Native American":MAILTO:NAServices.org@gmail.com
END:VEVENT
END:VCALENDAR